BEGIN:VCALENDAR
VERSION:2.0
PRODID:https://www.kufer.de/kuferweb / DE
METHOD:PUBLISH
CALSCALE:GREGORIAN
X-WR-TIMEZONE:Europe/Berlin
BEGIN:VTIMEZONE
TZID:Europe/Berlin
X-LIC-LOCATION:Europe/Berlin
BEGIN:DAYLIGHT
TZOFFSETFROM:+0100
TZOFFSETTO:+0200
TZNAME:CEST
DTSTART:19700329T020000
RRULE:FREQ=YEARLY;INTERVAL=1;BYDAY=-1SU;BYMONTH=3
END:DAYLIGHT
BEGIN:STANDARD
TZOFFSETFROM:+0200
TZOFFSETTO:+0100
TZNAME:CET
DTSTART:19701025T030000
RRULE:FREQ=YEARLY;INTERVAL=1;BYDAY=-1SU;BYMONTH=10
END:STANDARD
END:VTIMEZONE
BEGIN:VEVENT
DTSTAMP:20260421T202135
DTSTART;TZID=Europe/Berlin:20260111T110000
DTEND;TZID=Europe/Berlin:20260111T150000
UID:U18001-20260111T110000@EFBOLDENBURG
SUMMARY:Väter-Kinder-Treff -  Frühstücken, Spielen und Klönen (U18001) 
LOCATION:Kulturzentrum Rennplatz, Kurlandallee 4, Kurlandallee 4, 26125 Oldenburg
END:VEVENT
BEGIN:VEVENT
DTSTAMP:20260421T202135
DTSTART;TZID=Europe/Berlin:20260125T110000
DTEND;TZID=Europe/Berlin:20260125T150000
UID:U18001-20260125T110000@EFBOLDENBURG
SUMMARY:Väter-Kinder-Treff -  Frühstücken, Spielen und Klönen (U18001) 
LOCATION:Kulturzentrum Rennplatz, Kurlandallee 4, Kurlandallee 4, 26125 Oldenburg
END:VEVENT
BEGIN:VEVENT
DTSTAMP:20260421T202135
DTSTART;TZID=Europe/Berlin:20260208T110000
DTEND;TZID=Europe/Berlin:20260208T150000
UID:U18001-20260208T110000@EFBOLDENBURG
SUMMARY:Väter-Kinder-Treff -  Frühstücken, Spielen und Klönen (U18001) 
LOCATION:Kulturzentrum Rennplatz, Kurlandallee 4, Kurlandallee 4, 26125 Oldenburg
END:VEVENT
BEGIN:VEVENT
DTSTAMP:20260421T202135
DTSTART;TZID=Europe/Berlin:20260222T110000
DTEND;TZID=Europe/Berlin:20260222T150000
UID:U18001-20260222T110000@EFBOLDENBURG
SUMMARY:Väter-Kinder-Treff -  Frühstücken, Spielen und Klönen (U18001) 
LOCATION:Kulturzentrum Rennplatz, Kurlandallee 4, Kurlandallee 4, 26125 Oldenburg
END:VEVENT
BEGIN:VEVENT
DTSTAMP:20260421T202135
DTSTART;TZID=Europe/Berlin:20260308T110000
DTEND;TZID=Europe/Berlin:20260308T150000
UID:U18001-20260308T110000@EFBOLDENBURG
SUMMARY:Väter-Kinder-Treff -  Frühstücken, Spielen und Klönen (U18001) 
LOCATION:Kulturzentrum Rennplatz, Kurlandallee 4, Kurlandallee 4, 26125 Oldenburg
END:VEVENT
BEGIN:VEVENT
DTSTAMP:20260421T202135
DTSTART;TZID=Europe/Berlin:20260322T110000
DTEND;TZID=Europe/Berlin:20260322T150000
UID:U18001-20260322T110000@EFBOLDENBURG
SUMMARY:Väter-Kinder-Treff -  Frühstücken, Spielen und Klönen (U18001) 
LOCATION:Kulturzentrum Rennplatz, Kurlandallee 4, Kurlandallee 4, 26125 Oldenburg
END:VEVENT
BEGIN:VEVENT
DTSTAMP:20260421T202135
DTSTART;TZID=Europe/Berlin:20260405T110000
DTEND;TZID=Europe/Berlin:20260405T150000
UID:U18001-20260405T110000@EFBOLDENBURG
SUMMARY:Väter-Kinder-Treff -  Frühstücken, Spielen und Klönen (U18001) 
LOCATION:Kulturzentrum Rennplatz, Kurlandallee 4, Kurlandallee 4, 26125 Oldenburg
END:VEVENT
BEGIN:VEVENT
DTSTAMP:20260421T202135
DTSTART;TZID=Europe/Berlin:20260419T110000
DTEND;TZID=Europe/Berlin:20260419T150000
UID:U18001-20260419T110000@EFBOLDENBURG
SUMMARY:Väter-Kinder-Treff -  Frühstücken, Spielen und Klönen (U18001) 
LOCATION:Kulturzentrum Rennplatz, Kurlandallee 4, Kurlandallee 4, 26125 Oldenburg
END:VEVENT
BEGIN:VEVENT
DTSTAMP:20260421T202135
DTSTART;TZID=Europe/Berlin:20260503T110000
DTEND;TZID=Europe/Berlin:20260503T150000
UID:U18001-20260503T110000@EFBOLDENBURG
SUMMARY:Väter-Kinder-Treff -  Frühstücken, Spielen und Klönen (U18001) 
LOCATION:Kulturzentrum Rennplatz, Kurlandallee 4, Kurlandallee 4, 26125 Oldenburg
END:VEVENT
BEGIN:VEVENT
DTSTAMP:20260421T202135
DTSTART;TZID=Europe/Berlin:20260517T110000
DTEND;TZID=Europe/Berlin:20260517T150000
UID:U18001-20260517T110000@EFBOLDENBURG
SUMMARY:Väter-Kinder-Treff -  Frühstücken, Spielen und Klönen (U18001) 
LOCATION:Kulturzentrum Rennplatz, Kurlandallee 4, Kurlandallee 4, 26125 Oldenburg
END:VEVENT
BEGIN:VEVENT
DTSTAMP:20260421T202135
DTSTART;TZID=Europe/Berlin:20260531T110000
DTEND;TZID=Europe/Berlin:20260531T150000
UID:U18001-20260531T110000@EFBOLDENBURG
SUMMARY:Väter-Kinder-Treff -  Frühstücken, Spielen und Klönen (U18001) 
LOCATION:Kulturzentrum Rennplatz, Kurlandallee 4, Kurlandallee 4, 26125 Oldenburg
END:VEVENT
BEGIN:VEVENT
DTSTAMP:20260421T202135
DTSTART;TZID=Europe/Berlin:20260614T110000
DTEND;TZID=Europe/Berlin:20260614T150000
UID:U18001-20260614T110000@EFBOLDENBURG
SUMMARY:Väter-Kinder-Treff -  Frühstücken, Spielen und Klönen (U18001) 
LOCATION:Kulturzentrum Rennplatz, Kurlandallee 4, Kurlandallee 4, 26125 Oldenburg
END:VEVENT
BEGIN:VEVENT
DTSTAMP:20260421T202135
DTSTART;TZID=Europe/Berlin:20260628T110000
DTEND;TZID=Europe/Berlin:20260628T150000
UID:U18001-20260628T110000@EFBOLDENBURG
SUMMARY:Väter-Kinder-Treff -  Frühstücken, Spielen und Klönen (U18001) 
LOCATION:Kulturzentrum Rennplatz, Kurlandallee 4, Kurlandallee 4, 26125 Oldenburg
END:VEVENT
END:VCALENDAR