BEGIN:VCALENDAR
VERSION:2.0
PRODID:https://www.kufer.de/kuferweb / DE
METHOD:PUBLISH
CALSCALE:GREGORIAN
X-WR-TIMEZONE:Europe/Berlin
BEGIN:VTIMEZONE
TZID:Europe/Berlin
X-LIC-LOCATION:Europe/Berlin
BEGIN:DAYLIGHT
TZOFFSETFROM:+0100
TZOFFSETTO:+0200
TZNAME:CEST
DTSTART:19700329T020000
RRULE:FREQ=YEARLY;INTERVAL=1;BYDAY=-1SU;BYMONTH=3
END:DAYLIGHT
BEGIN:STANDARD
TZOFFSETFROM:+0200
TZOFFSETTO:+0100
TZNAME:CET
DTSTART:19701025T030000
RRULE:FREQ=YEARLY;INTERVAL=1;BYDAY=-1SU;BYMONTH=10
END:STANDARD
END:VTIMEZONE
BEGIN:VEVENT
DTSTAMP:20260421T214412
DTSTART;TZID=Europe/Berlin:20260103T100000
DTEND;TZID=Europe/Berlin:20260103T140000
UID:U18002-20260103T100000@EFBOLDENBURG
SUMMARY:Väter-Kinder-Treff -  Frühstücken, Spielen und Klönen (U18002) 
LOCATION:Abenteuer- und Bauspielplatz Eversten, Brandsweg 60, Brandsweg 60, 26131 Oldenburg
END:VEVENT
BEGIN:VEVENT
DTSTAMP:20260421T214412
DTSTART;TZID=Europe/Berlin:20260117T100000
DTEND;TZID=Europe/Berlin:20260117T140000
UID:U18002-20260117T100000@EFBOLDENBURG
SUMMARY:Väter-Kinder-Treff -  Frühstücken, Spielen und Klönen (U18002) 
LOCATION:Abenteuer- und Bauspielplatz Eversten, Brandsweg 60, Brandsweg 60, 26131 Oldenburg
END:VEVENT
BEGIN:VEVENT
DTSTAMP:20260421T214412
DTSTART;TZID=Europe/Berlin:20260131T100000
DTEND;TZID=Europe/Berlin:20260131T140000
UID:U18002-20260131T100000@EFBOLDENBURG
SUMMARY:Väter-Kinder-Treff -  Frühstücken, Spielen und Klönen (U18002) 
LOCATION:Abenteuer- und Bauspielplatz Eversten, Brandsweg 60, Brandsweg 60, 26131 Oldenburg
END:VEVENT
BEGIN:VEVENT
DTSTAMP:20260421T214412
DTSTART;TZID=Europe/Berlin:20260214T100000
DTEND;TZID=Europe/Berlin:20260214T140000
UID:U18002-20260214T100000@EFBOLDENBURG
SUMMARY:Väter-Kinder-Treff -  Frühstücken, Spielen und Klönen (U18002) 
LOCATION:Abenteuer- und Bauspielplatz Eversten, Brandsweg 60, Brandsweg 60, 26131 Oldenburg
END:VEVENT
BEGIN:VEVENT
DTSTAMP:20260421T214412
DTSTART;TZID=Europe/Berlin:20260228T100000
DTEND;TZID=Europe/Berlin:20260228T140000
UID:U18002-20260228T100000@EFBOLDENBURG
SUMMARY:Väter-Kinder-Treff -  Frühstücken, Spielen und Klönen (U18002) 
LOCATION:Abenteuer- und Bauspielplatz Eversten, Brandsweg 60, Brandsweg 60, 26131 Oldenburg
END:VEVENT
BEGIN:VEVENT
DTSTAMP:20260421T214412
DTSTART;TZID=Europe/Berlin:20260314T100000
DTEND;TZID=Europe/Berlin:20260314T140000
UID:U18002-20260314T100000@EFBOLDENBURG
SUMMARY:Väter-Kinder-Treff -  Frühstücken, Spielen und Klönen (U18002) 
LOCATION:Abenteuer- und Bauspielplatz Eversten, Brandsweg 60, Brandsweg 60, 26131 Oldenburg
END:VEVENT
BEGIN:VEVENT
DTSTAMP:20260421T214412
DTSTART;TZID=Europe/Berlin:20260328T100000
DTEND;TZID=Europe/Berlin:20260328T140000
UID:U18002-20260328T100000@EFBOLDENBURG
SUMMARY:Väter-Kinder-Treff -  Frühstücken, Spielen und Klönen (U18002) 
LOCATION:Abenteuer- und Bauspielplatz Eversten, Brandsweg 60, Brandsweg 60, 26131 Oldenburg
END:VEVENT
BEGIN:VEVENT
DTSTAMP:20260421T214412
DTSTART;TZID=Europe/Berlin:20260411T100000
DTEND;TZID=Europe/Berlin:20260411T140000
UID:U18002-20260411T100000@EFBOLDENBURG
SUMMARY:Väter-Kinder-Treff -  Frühstücken, Spielen und Klönen (U18002) 
LOCATION:Abenteuer- und Bauspielplatz Eversten, Brandsweg 60, Brandsweg 60, 26131 Oldenburg
END:VEVENT
BEGIN:VEVENT
DTSTAMP:20260421T214412
DTSTART;TZID=Europe/Berlin:20260425T100000
DTEND;TZID=Europe/Berlin:20260425T140000
UID:U18002-20260425T100000@EFBOLDENBURG
SUMMARY:Väter-Kinder-Treff -  Frühstücken, Spielen und Klönen (U18002) 
LOCATION:Abenteuer- und Bauspielplatz Eversten, Brandsweg 60, Brandsweg 60, 26131 Oldenburg
END:VEVENT
BEGIN:VEVENT
DTSTAMP:20260421T214412
DTSTART;TZID=Europe/Berlin:20260509T100000
DTEND;TZID=Europe/Berlin:20260509T140000
UID:U18002-20260509T100000@EFBOLDENBURG
SUMMARY:Väter-Kinder-Treff -  Frühstücken, Spielen und Klönen (U18002) 
LOCATION:Abenteuer- und Bauspielplatz Eversten, Brandsweg 60, Brandsweg 60, 26131 Oldenburg
END:VEVENT
BEGIN:VEVENT
DTSTAMP:20260421T214412
DTSTART;TZID=Europe/Berlin:20260523T100000
DTEND;TZID=Europe/Berlin:20260523T140000
UID:U18002-20260523T100000@EFBOLDENBURG
SUMMARY:Väter-Kinder-Treff -  Frühstücken, Spielen und Klönen (U18002) 
LOCATION:Abenteuer- und Bauspielplatz Eversten, Brandsweg 60, Brandsweg 60, 26131 Oldenburg
END:VEVENT
BEGIN:VEVENT
DTSTAMP:20260421T214412
DTSTART;TZID=Europe/Berlin:20260606T100000
DTEND;TZID=Europe/Berlin:20260606T140000
UID:U18002-20260606T100000@EFBOLDENBURG
SUMMARY:Väter-Kinder-Treff -  Frühstücken, Spielen und Klönen (U18002) 
LOCATION:Abenteuer- und Bauspielplatz Eversten, Brandsweg 60, Brandsweg 60, 26131 Oldenburg
END:VEVENT
BEGIN:VEVENT
DTSTAMP:20260421T214412
DTSTART;TZID=Europe/Berlin:20260620T100000
DTEND;TZID=Europe/Berlin:20260620T140000
UID:U18002-20260620T100000@EFBOLDENBURG
SUMMARY:Väter-Kinder-Treff -  Frühstücken, Spielen und Klönen (U18002) 
LOCATION:Abenteuer- und Bauspielplatz Eversten, Brandsweg 60, Brandsweg 60, 26131 Oldenburg
END:VEVENT
END:VCALENDAR