BEGIN:VCALENDAR
VERSION:2.0
PRODID:https://www.kufer.de/kuferweb / DE
METHOD:PUBLISH
CALSCALE:GREGORIAN
X-WR-TIMEZONE:Europe/Berlin
BEGIN:VTIMEZONE
TZID:Europe/Berlin
X-LIC-LOCATION:Europe/Berlin
BEGIN:DAYLIGHT
TZOFFSETFROM:+0100
TZOFFSETTO:+0200
TZNAME:CEST
DTSTART:19700329T020000
RRULE:FREQ=YEARLY;INTERVAL=1;BYDAY=-1SU;BYMONTH=3
END:DAYLIGHT
BEGIN:STANDARD
TZOFFSETFROM:+0200
TZOFFSETTO:+0100
TZNAME:CET
DTSTART:19701025T030000
RRULE:FREQ=YEARLY;INTERVAL=1;BYDAY=-1SU;BYMONTH=10
END:STANDARD
END:VTIMEZONE
BEGIN:VEVENT
DTSTAMP:20260422T062717
DTSTART;TZID=Europe/Berlin:20260712T110000
DTEND;TZID=Europe/Berlin:20260712T150000
UID:U18003-20260712T110000@EFBOLDENBURG
SUMMARY:Väter-Kinder-Treff -  Frühstücken, Spielen und Klönen (U18003) 
LOCATION:Kulturzentrum Rennplatz, Kurlandallee 4, Kurlandallee 4, 26125 Oldenburg
END:VEVENT
BEGIN:VEVENT
DTSTAMP:20260422T062717
DTSTART;TZID=Europe/Berlin:20260726T110000
DTEND;TZID=Europe/Berlin:20260726T150000
UID:U18003-20260726T110000@EFBOLDENBURG
SUMMARY:Väter-Kinder-Treff -  Frühstücken, Spielen und Klönen (U18003) 
LOCATION:Kulturzentrum Rennplatz, Kurlandallee 4, Kurlandallee 4, 26125 Oldenburg
END:VEVENT
BEGIN:VEVENT
DTSTAMP:20260422T062717
DTSTART;TZID=Europe/Berlin:20260809T110000
DTEND;TZID=Europe/Berlin:20260809T150000
UID:U18003-20260809T110000@EFBOLDENBURG
SUMMARY:Väter-Kinder-Treff -  Frühstücken, Spielen und Klönen (U18003) 
LOCATION:Kulturzentrum Rennplatz, Kurlandallee 4, Kurlandallee 4, 26125 Oldenburg
END:VEVENT
BEGIN:VEVENT
DTSTAMP:20260422T062717
DTSTART;TZID=Europe/Berlin:20260823T110000
DTEND;TZID=Europe/Berlin:20260823T150000
UID:U18003-20260823T110000@EFBOLDENBURG
SUMMARY:Väter-Kinder-Treff -  Frühstücken, Spielen und Klönen (U18003) 
LOCATION:Kulturzentrum Rennplatz, Kurlandallee 4, Kurlandallee 4, 26125 Oldenburg
END:VEVENT
BEGIN:VEVENT
DTSTAMP:20260422T062717
DTSTART;TZID=Europe/Berlin:20260906T110000
DTEND;TZID=Europe/Berlin:20260906T150000
UID:U18003-20260906T110000@EFBOLDENBURG
SUMMARY:Väter-Kinder-Treff -  Frühstücken, Spielen und Klönen (U18003) 
LOCATION:Kulturzentrum Rennplatz, Kurlandallee 4, Kurlandallee 4, 26125 Oldenburg
END:VEVENT
BEGIN:VEVENT
DTSTAMP:20260422T062717
DTSTART;TZID=Europe/Berlin:20260920T110000
DTEND;TZID=Europe/Berlin:20260920T150000
UID:U18003-20260920T110000@EFBOLDENBURG
SUMMARY:Väter-Kinder-Treff -  Frühstücken, Spielen und Klönen (U18003) 
LOCATION:Kulturzentrum Rennplatz, Kurlandallee 4, Kurlandallee 4, 26125 Oldenburg
END:VEVENT
BEGIN:VEVENT
DTSTAMP:20260422T062717
DTSTART;TZID=Europe/Berlin:20261004T110000
DTEND;TZID=Europe/Berlin:20261004T150000
UID:U18003-20261004T110000@EFBOLDENBURG
SUMMARY:Väter-Kinder-Treff -  Frühstücken, Spielen und Klönen (U18003) 
LOCATION:Kulturzentrum Rennplatz, Kurlandallee 4, Kurlandallee 4, 26125 Oldenburg
END:VEVENT
BEGIN:VEVENT
DTSTAMP:20260422T062717
DTSTART;TZID=Europe/Berlin:20261018T110000
DTEND;TZID=Europe/Berlin:20261018T150000
UID:U18003-20261018T110000@EFBOLDENBURG
SUMMARY:Väter-Kinder-Treff -  Frühstücken, Spielen und Klönen (U18003) 
LOCATION:Kulturzentrum Rennplatz, Kurlandallee 4, Kurlandallee 4, 26125 Oldenburg
END:VEVENT
BEGIN:VEVENT
DTSTAMP:20260422T062717
DTSTART;TZID=Europe/Berlin:20261101T110000
DTEND;TZID=Europe/Berlin:20261101T150000
UID:U18003-20261101T110000@EFBOLDENBURG
SUMMARY:Väter-Kinder-Treff -  Frühstücken, Spielen und Klönen (U18003) 
LOCATION:Kulturzentrum Rennplatz, Kurlandallee 4, Kurlandallee 4, 26125 Oldenburg
END:VEVENT
BEGIN:VEVENT
DTSTAMP:20260422T062717
DTSTART;TZID=Europe/Berlin:20261115T110000
DTEND;TZID=Europe/Berlin:20261115T150000
UID:U18003-20261115T110000@EFBOLDENBURG
SUMMARY:Väter-Kinder-Treff -  Frühstücken, Spielen und Klönen (U18003) 
LOCATION:Kulturzentrum Rennplatz, Kurlandallee 4, Kurlandallee 4, 26125 Oldenburg
END:VEVENT
BEGIN:VEVENT
DTSTAMP:20260422T062717
DTSTART;TZID=Europe/Berlin:20261129T110000
DTEND;TZID=Europe/Berlin:20261129T150000
UID:U18003-20261129T110000@EFBOLDENBURG
SUMMARY:Väter-Kinder-Treff -  Frühstücken, Spielen und Klönen (U18003) 
LOCATION:Kulturzentrum Rennplatz, Kurlandallee 4, Kurlandallee 4, 26125 Oldenburg
END:VEVENT
BEGIN:VEVENT
DTSTAMP:20260422T062717
DTSTART;TZID=Europe/Berlin:20261213T110000
DTEND;TZID=Europe/Berlin:20261213T150000
UID:U18003-20261213T110000@EFBOLDENBURG
SUMMARY:Väter-Kinder-Treff -  Frühstücken, Spielen und Klönen (U18003) 
LOCATION:Kulturzentrum Rennplatz, Kurlandallee 4, Kurlandallee 4, 26125 Oldenburg
END:VEVENT
BEGIN:VEVENT
DTSTAMP:20260422T062717
DTSTART;TZID=Europe/Berlin:20261227T110000
DTEND;TZID=Europe/Berlin:20261227T150000
UID:U18003-20261227T110000@EFBOLDENBURG
SUMMARY:Väter-Kinder-Treff -  Frühstücken, Spielen und Klönen (U18003) 
LOCATION:Kulturzentrum Rennplatz, Kurlandallee 4, Kurlandallee 4, 26125 Oldenburg
END:VEVENT
END:VCALENDAR