BEGIN:VCALENDAR
VERSION:2.0
PRODID:https://www.kufer.de/kuferweb / DE
METHOD:PUBLISH
CALSCALE:GREGORIAN
X-WR-TIMEZONE:Europe/Berlin
BEGIN:VTIMEZONE
TZID:Europe/Berlin
X-LIC-LOCATION:Europe/Berlin
BEGIN:DAYLIGHT
TZOFFSETFROM:+0100
TZOFFSETTO:+0200
TZNAME:CEST
DTSTART:19700329T020000
RRULE:FREQ=YEARLY;INTERVAL=1;BYDAY=-1SU;BYMONTH=3
END:DAYLIGHT
BEGIN:STANDARD
TZOFFSETFROM:+0200
TZOFFSETTO:+0100
TZNAME:CET
DTSTART:19701025T030000
RRULE:FREQ=YEARLY;INTERVAL=1;BYDAY=-1SU;BYMONTH=10
END:STANDARD
END:VTIMEZONE
BEGIN:VEVENT
DTSTAMP:20260422T010854
DTSTART;TZID=Europe/Berlin:20260704T100000
DTEND;TZID=Europe/Berlin:20260704T140000
UID:U18004-20260704T100000@EFBOLDENBURG
SUMMARY:Väter-Kinder-Treff -  Frühstücken, Spielen und Klönen (U18004) 
LOCATION:Abenteuer- und Bauspielplatz Eversten, Brandsweg 60, Brandsweg 60, 26131 Oldenburg
END:VEVENT
BEGIN:VEVENT
DTSTAMP:20260422T010854
DTSTART;TZID=Europe/Berlin:20260718T100000
DTEND;TZID=Europe/Berlin:20260718T140000
UID:U18004-20260718T100000@EFBOLDENBURG
SUMMARY:Väter-Kinder-Treff -  Frühstücken, Spielen und Klönen (U18004) 
LOCATION:Abenteuer- und Bauspielplatz Eversten, Brandsweg 60, Brandsweg 60, 26131 Oldenburg
END:VEVENT
BEGIN:VEVENT
DTSTAMP:20260422T010854
DTSTART;TZID=Europe/Berlin:20260801T100000
DTEND;TZID=Europe/Berlin:20260801T140000
UID:U18004-20260801T100000@EFBOLDENBURG
SUMMARY:Väter-Kinder-Treff -  Frühstücken, Spielen und Klönen (U18004) 
LOCATION:Abenteuer- und Bauspielplatz Eversten, Brandsweg 60, Brandsweg 60, 26131 Oldenburg
END:VEVENT
BEGIN:VEVENT
DTSTAMP:20260422T010854
DTSTART;TZID=Europe/Berlin:20260815T100000
DTEND;TZID=Europe/Berlin:20260815T140000
UID:U18004-20260815T100000@EFBOLDENBURG
SUMMARY:Väter-Kinder-Treff -  Frühstücken, Spielen und Klönen (U18004) 
LOCATION:Abenteuer- und Bauspielplatz Eversten, Brandsweg 60, Brandsweg 60, 26131 Oldenburg
END:VEVENT
BEGIN:VEVENT
DTSTAMP:20260422T010854
DTSTART;TZID=Europe/Berlin:20260829T100000
DTEND;TZID=Europe/Berlin:20260829T140000
UID:U18004-20260829T100000@EFBOLDENBURG
SUMMARY:Väter-Kinder-Treff -  Frühstücken, Spielen und Klönen (U18004) 
LOCATION:Abenteuer- und Bauspielplatz Eversten, Brandsweg 60, Brandsweg 60, 26131 Oldenburg
END:VEVENT
BEGIN:VEVENT
DTSTAMP:20260422T010854
DTSTART;TZID=Europe/Berlin:20260912T100000
DTEND;TZID=Europe/Berlin:20260912T140000
UID:U18004-20260912T100000@EFBOLDENBURG
SUMMARY:Väter-Kinder-Treff -  Frühstücken, Spielen und Klönen (U18004) 
LOCATION:Abenteuer- und Bauspielplatz Eversten, Brandsweg 60, Brandsweg 60, 26131 Oldenburg
END:VEVENT
BEGIN:VEVENT
DTSTAMP:20260422T010854
DTSTART;TZID=Europe/Berlin:20260926T100000
DTEND;TZID=Europe/Berlin:20260926T140000
UID:U18004-20260926T100000@EFBOLDENBURG
SUMMARY:Väter-Kinder-Treff -  Frühstücken, Spielen und Klönen (U18004) 
LOCATION:Abenteuer- und Bauspielplatz Eversten, Brandsweg 60, Brandsweg 60, 26131 Oldenburg
END:VEVENT
BEGIN:VEVENT
DTSTAMP:20260422T010854
DTSTART;TZID=Europe/Berlin:20261010T100000
DTEND;TZID=Europe/Berlin:20261010T140000
UID:U18004-20261010T100000@EFBOLDENBURG
SUMMARY:Väter-Kinder-Treff -  Frühstücken, Spielen und Klönen (U18004) 
LOCATION:Abenteuer- und Bauspielplatz Eversten, Brandsweg 60, Brandsweg 60, 26131 Oldenburg
END:VEVENT
BEGIN:VEVENT
DTSTAMP:20260422T010854
DTSTART;TZID=Europe/Berlin:20261024T100000
DTEND;TZID=Europe/Berlin:20261024T140000
UID:U18004-20261024T100000@EFBOLDENBURG
SUMMARY:Väter-Kinder-Treff -  Frühstücken, Spielen und Klönen (U18004) 
LOCATION:Abenteuer- und Bauspielplatz Eversten, Brandsweg 60, Brandsweg 60, 26131 Oldenburg
END:VEVENT
BEGIN:VEVENT
DTSTAMP:20260422T010854
DTSTART;TZID=Europe/Berlin:20261107T100000
DTEND;TZID=Europe/Berlin:20261107T140000
UID:U18004-20261107T100000@EFBOLDENBURG
SUMMARY:Väter-Kinder-Treff -  Frühstücken, Spielen und Klönen (U18004) 
LOCATION:Abenteuer- und Bauspielplatz Eversten, Brandsweg 60, Brandsweg 60, 26131 Oldenburg
END:VEVENT
BEGIN:VEVENT
DTSTAMP:20260422T010854
DTSTART;TZID=Europe/Berlin:20261121T100000
DTEND;TZID=Europe/Berlin:20261121T140000
UID:U18004-20261121T100000@EFBOLDENBURG
SUMMARY:Väter-Kinder-Treff -  Frühstücken, Spielen und Klönen (U18004) 
LOCATION:Abenteuer- und Bauspielplatz Eversten, Brandsweg 60, Brandsweg 60, 26131 Oldenburg
END:VEVENT
BEGIN:VEVENT
DTSTAMP:20260422T010854
DTSTART;TZID=Europe/Berlin:20261205T100000
DTEND;TZID=Europe/Berlin:20261205T140000
UID:U18004-20261205T100000@EFBOLDENBURG
SUMMARY:Väter-Kinder-Treff -  Frühstücken, Spielen und Klönen (U18004) 
LOCATION:Abenteuer- und Bauspielplatz Eversten, Brandsweg 60, Brandsweg 60, 26131 Oldenburg
END:VEVENT
BEGIN:VEVENT
DTSTAMP:20260422T010854
DTSTART;TZID=Europe/Berlin:20261219T100000
DTEND;TZID=Europe/Berlin:20261219T140000
UID:U18004-20261219T100000@EFBOLDENBURG
SUMMARY:Väter-Kinder-Treff -  Frühstücken, Spielen und Klönen (U18004) 
LOCATION:Abenteuer- und Bauspielplatz Eversten, Brandsweg 60, Brandsweg 60, 26131 Oldenburg
END:VEVENT
END:VCALENDAR