BEGIN:VCALENDAR
VERSION:2.0
PRODID:https://www.kufer.de/kuferweb / DE
METHOD:PUBLISH
CALSCALE:GREGORIAN
X-WR-TIMEZONE:Europe/Berlin
BEGIN:VTIMEZONE
TZID:Europe/Berlin
X-LIC-LOCATION:Europe/Berlin
BEGIN:DAYLIGHT
TZOFFSETFROM:+0100
TZOFFSETTO:+0200
TZNAME:CEST
DTSTART:19700329T020000
RRULE:FREQ=YEARLY;INTERVAL=1;BYDAY=-1SU;BYMONTH=3
END:DAYLIGHT
BEGIN:STANDARD
TZOFFSETFROM:+0200
TZOFFSETTO:+0100
TZNAME:CET
DTSTART:19701025T030000
RRULE:FREQ=YEARLY;INTERVAL=1;BYDAY=-1SU;BYMONTH=10
END:STANDARD
END:VTIMEZONE
BEGIN:VEVENT
DTSTAMP:20260421T202054
DTSTART;TZID=Europe/Berlin:20260508T170000
DTEND;TZID=Europe/Berlin:20260508T210000
UID:U18014-20260508T170000@EFBOLDENBURG
SUMMARY:Vater-Kind-Wochenende -  für Väter mit Kindern von 4 bis 14 Jahren (U18014) 
LOCATION:Pfadfinderbildungsstätte Sager Schweiz, Sandhopskämpe 1, 26197 Großenkneten - Sage
END:VEVENT
BEGIN:VEVENT
DTSTAMP:20260421T202054
DTSTART;TZID=Europe/Berlin:20260509T080000
DTEND;TZID=Europe/Berlin:20260509T210000
UID:U18014-20260509T080000@EFBOLDENBURG
SUMMARY:Vater-Kind-Wochenende -  für Väter mit Kindern von 4 bis 14 Jahren (U18014) 
LOCATION:Pfadfinderbildungsstätte Sager Schweiz, Sandhopskämpe 1, 26197 Großenkneten - Sage
END:VEVENT
BEGIN:VEVENT
DTSTAMP:20260421T202054
DTSTART;TZID=Europe/Berlin:20260510T080000
DTEND;TZID=Europe/Berlin:20260510T120000
UID:U18014-20260510T080000@EFBOLDENBURG
SUMMARY:Vater-Kind-Wochenende -  für Väter mit Kindern von 4 bis 14 Jahren (U18014) 
LOCATION:Pfadfinderbildungsstätte Sager Schweiz, Sandhopskämpe 1, 26197 Großenkneten - Sage
END:VEVENT
END:VCALENDAR