BEGIN:VCALENDAR
VERSION:2.0
PRODID:https://www.kufer.de/kuferweb / DE
METHOD:PUBLISH
CALSCALE:GREGORIAN
X-WR-TIMEZONE:Europe/Berlin
BEGIN:VTIMEZONE
TZID:Europe/Berlin
X-LIC-LOCATION:Europe/Berlin
BEGIN:DAYLIGHT
TZOFFSETFROM:+0100
TZOFFSETTO:+0200
TZNAME:CEST
DTSTART:19700329T020000
RRULE:FREQ=YEARLY;INTERVAL=1;BYDAY=-1SU;BYMONTH=3
END:DAYLIGHT
BEGIN:STANDARD
TZOFFSETFROM:+0200
TZOFFSETTO:+0100
TZNAME:CET
DTSTART:19701025T030000
RRULE:FREQ=YEARLY;INTERVAL=1;BYDAY=-1SU;BYMONTH=10
END:STANDARD
END:VTIMEZONE
BEGIN:VEVENT
DTSTAMP:20260421T182753
DTSTART;TZID=Europe/Berlin:20260417T160000
DTEND;TZID=Europe/Berlin:20260417T203000
UID:U20001-20260417T160000@EFBOLDENBURG
DESCRIPTION:19.03.26 (*MO): KL Eggert
SUMMARY:Qualifizierung zur/zum  DELFI ®-Kursleiter*in (U20001) 
LOCATION:Ev. Familien-Bildungsstätte, Saal, Gorch-Fock-Str. 5 a, 26135 Oldenburg
END:VEVENT
BEGIN:VEVENT
DTSTAMP:20260421T182753
DTSTART;TZID=Europe/Berlin:20260418T090000
DTEND;TZID=Europe/Berlin:20260418T153000
UID:U20001-20260418T090000@EFBOLDENBURG
DESCRIPTION:19.03.26 (*MO): KL Eggert
SUMMARY:Qualifizierung zur/zum  DELFI ®-Kursleiter*in (U20001) 
LOCATION:Ev. Familien-Bildungsstätte, Nähraum,  Gorch-Fock-Str. 5 a, 26135 Oldenburg
END:VEVENT
BEGIN:VEVENT
DTSTAMP:20260421T182753
DTSTART;TZID=Europe/Berlin:20260529T160000
DTEND;TZID=Europe/Berlin:20260529T203000
UID:U20001-20260529T160000@EFBOLDENBURG
SUMMARY:Qualifizierung zur/zum  DELFI ®-Kursleiter*in (U20001) 
LOCATION:Ev. Familien-Bildungsstätte, Gesprächsraum, Gorch-Fock-Str. 5 a, 26135 Oldenburg
END:VEVENT
BEGIN:VEVENT
DTSTAMP:20260421T182753
DTSTART;TZID=Europe/Berlin:20260530T090000
DTEND;TZID=Europe/Berlin:20260530T153000
UID:U20001-20260530T090000@EFBOLDENBURG
DESCRIPTION:18.03.26 (*MO):  KL van de Rieth von 9:30 Uhr 6 UE motorische Entwicklung
SUMMARY:Qualifizierung zur/zum  DELFI ®-Kursleiter*in (U20001) 
LOCATION:Ev. Familien-Bildungsstätte, Kinderraum, Gorch-Fock-Str. 5 a, 26135 Oldenburg
END:VEVENT
BEGIN:VEVENT
DTSTAMP:20260421T182753
DTSTART;TZID=Europe/Berlin:20260619T160000
DTEND;TZID=Europe/Berlin:20260619T203000
UID:U20001-20260619T160000@EFBOLDENBURG
SUMMARY:Qualifizierung zur/zum  DELFI ®-Kursleiter*in (U20001) 
LOCATION:Ev. Familien-Bildungsstätte, Saal, Gorch-Fock-Str. 5 a, 26135 Oldenburg
END:VEVENT
BEGIN:VEVENT
DTSTAMP:20260421T182753
DTSTART;TZID=Europe/Berlin:20260620T090000
DTEND;TZID=Europe/Berlin:20260620T153000
UID:U20001-20260620T090000@EFBOLDENBURG
SUMMARY:Qualifizierung zur/zum  DELFI ®-Kursleiter*in (U20001) 
LOCATION:Ev. Familien-Bildungsstätte, Gesprächsraum, Gorch-Fock-Str. 5 a, 26135 Oldenburg
END:VEVENT
BEGIN:VEVENT
DTSTAMP:20260421T182753
DTSTART;TZID=Europe/Berlin:20260814T160000
DTEND;TZID=Europe/Berlin:20260814T203000
UID:U20001-20260814T160000@EFBOLDENBURG
SUMMARY:Qualifizierung zur/zum  DELFI ®-Kursleiter*in (U20001) 
LOCATION:Ev. Familien-Bildungsstätte, Gesprächsraum, Gorch-Fock-Str. 5 a, 26135 Oldenburg
END:VEVENT
BEGIN:VEVENT
DTSTAMP:20260421T182753
DTSTART;TZID=Europe/Berlin:20260815T090000
DTEND;TZID=Europe/Berlin:20260815T153000
UID:U20001-20260815T090000@EFBOLDENBURG
SUMMARY:Qualifizierung zur/zum  DELFI ®-Kursleiter*in (U20001) 
LOCATION:Ev. Familien-Bildungsstätte, Gesprächsraum, Gorch-Fock-Str. 5 a, 26135 Oldenburg
END:VEVENT
BEGIN:VEVENT
DTSTAMP:20260421T182753
DTSTART;TZID=Europe/Berlin:20260918T160000
DTEND;TZID=Europe/Berlin:20260918T203000
UID:U20001-20260918T160000@EFBOLDENBURG
SUMMARY:Qualifizierung zur/zum  DELFI ®-Kursleiter*in (U20001) 
LOCATION:Ev. Familien-Bildungsstätte, Nähraum,  Gorch-Fock-Str. 5 a, 26135 Oldenburg
END:VEVENT
BEGIN:VEVENT
DTSTAMP:20260421T182753
DTSTART;TZID=Europe/Berlin:20260919T090000
DTEND;TZID=Europe/Berlin:20260919T153000
UID:U20001-20260919T090000@EFBOLDENBURG
SUMMARY:Qualifizierung zur/zum  DELFI ®-Kursleiter*in (U20001) 
LOCATION:Ev. Familien-Bildungsstätte, Gesprächsraum, Gorch-Fock-Str. 5 a, 26135 Oldenburg
END:VEVENT
BEGIN:VEVENT
DTSTAMP:20260421T182753
DTSTART;TZID=Europe/Berlin:20261009T160000
DTEND;TZID=Europe/Berlin:20261009T203000
UID:U20001-20261009T160000@EFBOLDENBURG
SUMMARY:Qualifizierung zur/zum  DELFI ®-Kursleiter*in (U20001) 
LOCATION:Ev. Familien-Bildungsstätte, Kinderraum, Gorch-Fock-Str. 5 a, 26135 Oldenburg
END:VEVENT
BEGIN:VEVENT
DTSTAMP:20260421T182753
DTSTART;TZID=Europe/Berlin:20261010T090000
DTEND;TZID=Europe/Berlin:20261010T153000
UID:U20001-20261010T090000@EFBOLDENBURG
SUMMARY:Qualifizierung zur/zum  DELFI ®-Kursleiter*in (U20001) 
LOCATION:Ev. Familien-Bildungsstätte, Kinderraum, Gorch-Fock-Str. 5 a, 26135 Oldenburg
END:VEVENT
END:VCALENDAR