BEGIN:VCALENDAR
VERSION:2.0
PRODID:https://www.kufer.de/kuferweb / DE
METHOD:PUBLISH
CALSCALE:GREGORIAN
X-WR-TIMEZONE:Europe/Berlin
BEGIN:VTIMEZONE
TZID:Europe/Berlin
X-LIC-LOCATION:Europe/Berlin
BEGIN:DAYLIGHT
TZOFFSETFROM:+0100
TZOFFSETTO:+0200
TZNAME:CEST
DTSTART:19700329T020000
RRULE:FREQ=YEARLY;INTERVAL=1;BYDAY=-1SU;BYMONTH=3
END:DAYLIGHT
BEGIN:STANDARD
TZOFFSETFROM:+0200
TZOFFSETTO:+0100
TZNAME:CET
DTSTART:19701025T030000
RRULE:FREQ=YEARLY;INTERVAL=1;BYDAY=-1SU;BYMONTH=10
END:STANDARD
END:VTIMEZONE
BEGIN:VEVENT
DTSTAMP:20260421T182745
DTSTART;TZID=Europe/Berlin:20260121T090000
DTEND;TZID=Europe/Berlin:20260121T113000
UID:U23027-20260121T090000@EFBOLDENBURG
SUMMARY:Spiele-Frühstück -  Ein zwangloses Treffen für Seniorinnen und Senioren (U23027) 
LOCATION:Haus am Langenweg, Langenweg 165, Ev. luth. Kirchengemeinde Ofenerdiek Langenweg 165, 26125 Oldenburg
END:VEVENT
BEGIN:VEVENT
DTSTAMP:20260421T182745
DTSTART;TZID=Europe/Berlin:20260218T090000
DTEND;TZID=Europe/Berlin:20260218T113000
UID:U23027-20260218T090000@EFBOLDENBURG
SUMMARY:Spiele-Frühstück -  Ein zwangloses Treffen für Seniorinnen und Senioren (U23027) 
LOCATION:Haus am Langenweg, Langenweg 165, Ev. luth. Kirchengemeinde Ofenerdiek Langenweg 165, 26125 Oldenburg
END:VEVENT
BEGIN:VEVENT
DTSTAMP:20260421T182745
DTSTART;TZID=Europe/Berlin:20260318T090000
DTEND;TZID=Europe/Berlin:20260318T113000
UID:U23027-20260318T090000@EFBOLDENBURG
SUMMARY:Spiele-Frühstück -  Ein zwangloses Treffen für Seniorinnen und Senioren (U23027) 
LOCATION:Haus am Langenweg, Langenweg 165, Ev. luth. Kirchengemeinde Ofenerdiek Langenweg 165, 26125 Oldenburg
END:VEVENT
BEGIN:VEVENT
DTSTAMP:20260421T182745
DTSTART;TZID=Europe/Berlin:20260415T090000
DTEND;TZID=Europe/Berlin:20260415T113000
UID:U23027-20260415T090000@EFBOLDENBURG
SUMMARY:Spiele-Frühstück -  Ein zwangloses Treffen für Seniorinnen und Senioren (U23027) 
LOCATION:Haus am Langenweg, Langenweg 165, Ev. luth. Kirchengemeinde Ofenerdiek Langenweg 165, 26125 Oldenburg
END:VEVENT
BEGIN:VEVENT
DTSTAMP:20260421T182745
DTSTART;TZID=Europe/Berlin:20260520T090000
DTEND;TZID=Europe/Berlin:20260520T113000
UID:U23027-20260520T090000@EFBOLDENBURG
SUMMARY:Spiele-Frühstück -  Ein zwangloses Treffen für Seniorinnen und Senioren (U23027) 
LOCATION:Haus am Langenweg, Langenweg 165, Ev. luth. Kirchengemeinde Ofenerdiek Langenweg 165, 26125 Oldenburg
END:VEVENT
BEGIN:VEVENT
DTSTAMP:20260421T182745
DTSTART;TZID=Europe/Berlin:20260617T090000
DTEND;TZID=Europe/Berlin:20260617T113000
UID:U23027-20260617T090000@EFBOLDENBURG
SUMMARY:Spiele-Frühstück -  Ein zwangloses Treffen für Seniorinnen und Senioren (U23027) 
LOCATION:Haus am Langenweg, Langenweg 165, Ev. luth. Kirchengemeinde Ofenerdiek Langenweg 165, 26125 Oldenburg
END:VEVENT
END:VCALENDAR