BEGIN:VCALENDAR
VERSION:2.0
PRODID:https://www.kufer.de/kuferweb / DE
METHOD:PUBLISH
CALSCALE:GREGORIAN
X-WR-TIMEZONE:Europe/Berlin
BEGIN:VTIMEZONE
TZID:Europe/Berlin
X-LIC-LOCATION:Europe/Berlin
BEGIN:DAYLIGHT
TZOFFSETFROM:+0100
TZOFFSETTO:+0200
TZNAME:CEST
DTSTART:19700329T020000
RRULE:FREQ=YEARLY;INTERVAL=1;BYDAY=-1SU;BYMONTH=3
END:DAYLIGHT
BEGIN:STANDARD
TZOFFSETFROM:+0200
TZOFFSETTO:+0100
TZNAME:CET
DTSTART:19701025T030000
RRULE:FREQ=YEARLY;INTERVAL=1;BYDAY=-1SU;BYMONTH=10
END:STANDARD
END:VTIMEZONE
BEGIN:VEVENT
DTSTAMP:20260422T112009
DTSTART;TZID=Europe/Berlin:20260112T100000
DTEND;TZID=Europe/Berlin:20260112T121500
UID:U25015-EEB-20260112T100000@EFBOLDENBURG
SUMMARY:Redezeit -  Treffen für Frauen am Vormittag (U25015-EEB) 
LOCATION:Ev. Familien-Bildungsstätte, Gesprächsraum, Gorch-Fock-Str. 5 a, 26135 Oldenburg
END:VEVENT
BEGIN:VEVENT
DTSTAMP:20260422T112009
DTSTART;TZID=Europe/Berlin:20260126T100000
DTEND;TZID=Europe/Berlin:20260126T121500
UID:U25015-EEB-20260126T100000@EFBOLDENBURG
SUMMARY:Redezeit -  Treffen für Frauen am Vormittag (U25015-EEB) 
LOCATION:Ev. Familien-Bildungsstätte, Gesprächsraum, Gorch-Fock-Str. 5 a, 26135 Oldenburg
END:VEVENT
BEGIN:VEVENT
DTSTAMP:20260422T112009
DTSTART;TZID=Europe/Berlin:20260209T100000
DTEND;TZID=Europe/Berlin:20260209T121500
UID:U25015-EEB-20260209T100000@EFBOLDENBURG
SUMMARY:Redezeit -  Treffen für Frauen am Vormittag (U25015-EEB) 
LOCATION:Ev. Familien-Bildungsstätte, Gesprächsraum, Gorch-Fock-Str. 5 a, 26135 Oldenburg
END:VEVENT
BEGIN:VEVENT
DTSTAMP:20260422T112009
DTSTART;TZID=Europe/Berlin:20260223T100000
DTEND;TZID=Europe/Berlin:20260223T121500
UID:U25015-EEB-20260223T100000@EFBOLDENBURG
SUMMARY:Redezeit -  Treffen für Frauen am Vormittag (U25015-EEB) 
LOCATION:Ev. Familien-Bildungsstätte, Gesprächsraum, Gorch-Fock-Str. 5 a, 26135 Oldenburg
END:VEVENT
BEGIN:VEVENT
DTSTAMP:20260422T112009
DTSTART;TZID=Europe/Berlin:20260309T100000
DTEND;TZID=Europe/Berlin:20260309T121500
UID:U25015-EEB-20260309T100000@EFBOLDENBURG
SUMMARY:Redezeit -  Treffen für Frauen am Vormittag (U25015-EEB) 
LOCATION:Ev. Familien-Bildungsstätte, Werkraum,  Gorch-Fock-Str. 5 a, 26135 Oldenburg
END:VEVENT
END:VCALENDAR