BEGIN:VCALENDAR
VERSION:2.0
PRODID:https://www.kufer.de/kuferweb / DE
METHOD:PUBLISH
CALSCALE:GREGORIAN
X-WR-TIMEZONE:Europe/Berlin
BEGIN:VTIMEZONE
TZID:Europe/Berlin
X-LIC-LOCATION:Europe/Berlin
BEGIN:DAYLIGHT
TZOFFSETFROM:+0100
TZOFFSETTO:+0200
TZNAME:CEST
DTSTART:19700329T020000
RRULE:FREQ=YEARLY;INTERVAL=1;BYDAY=-1SU;BYMONTH=3
END:DAYLIGHT
BEGIN:STANDARD
TZOFFSETFROM:+0200
TZOFFSETTO:+0100
TZNAME:CET
DTSTART:19701025T030000
RRULE:FREQ=YEARLY;INTERVAL=1;BYDAY=-1SU;BYMONTH=10
END:STANDARD
END:VTIMEZONE
BEGIN:VEVENT
DTSTAMP:20260422T043315
DTSTART;TZID=Europe/Berlin:20260305T100000
DTEND;TZID=Europe/Berlin:20260305T120000
UID:U25021-EEB-20260305T100000@EFBOLDENBURG
SUMMARY:Starke Frauen (U25021-EEB) 
LOCATION:Ev. Familien-Bildungsstätte, Gesprächsraum, Gorch-Fock-Str. 5 a, 26135 Oldenburg
END:VEVENT
BEGIN:VEVENT
DTSTAMP:20260422T043315
DTSTART;TZID=Europe/Berlin:20260409T100000
DTEND;TZID=Europe/Berlin:20260409T120000
UID:U25021-EEB-20260409T100000@EFBOLDENBURG
SUMMARY:Starke Frauen (U25021-EEB) 
LOCATION:Ev. Familien-Bildungsstätte, Gesprächsraum, Gorch-Fock-Str. 5 a, 26135 Oldenburg
END:VEVENT
BEGIN:VEVENT
DTSTAMP:20260422T043315
DTSTART;TZID=Europe/Berlin:20260507T100000
DTEND;TZID=Europe/Berlin:20260507T120000
UID:U25021-EEB-20260507T100000@EFBOLDENBURG
SUMMARY:Starke Frauen (U25021-EEB) 
LOCATION:Ev. Familien-Bildungsstätte, Gesprächsraum, Gorch-Fock-Str. 5 a, 26135 Oldenburg
END:VEVENT
BEGIN:VEVENT
DTSTAMP:20260422T043315
DTSTART;TZID=Europe/Berlin:20260604T100000
DTEND;TZID=Europe/Berlin:20260604T120000
UID:U25021-EEB-20260604T100000@EFBOLDENBURG
SUMMARY:Starke Frauen (U25021-EEB) 
LOCATION:Ev. Familien-Bildungsstätte, Gesprächsraum, Gorch-Fock-Str. 5 a, 26135 Oldenburg
END:VEVENT
BEGIN:VEVENT
DTSTAMP:20260422T043315
DTSTART;TZID=Europe/Berlin:20260702T100000
DTEND;TZID=Europe/Berlin:20260702T120000
UID:U25021-EEB-20260702T100000@EFBOLDENBURG
SUMMARY:Starke Frauen (U25021-EEB) 
LOCATION:Ev. Familien-Bildungsstätte, Gesprächsraum, Gorch-Fock-Str. 5 a, 26135 Oldenburg
END:VEVENT
BEGIN:VEVENT
DTSTAMP:20260422T043315
DTSTART;TZID=Europe/Berlin:20260806T100000
DTEND;TZID=Europe/Berlin:20260806T120000
UID:U25021-EEB-20260806T100000@EFBOLDENBURG
SUMMARY:Starke Frauen (U25021-EEB) 
LOCATION:Ev. Familien-Bildungsstätte, Gesprächsraum, Gorch-Fock-Str. 5 a, 26135 Oldenburg
END:VEVENT
BEGIN:VEVENT
DTSTAMP:20260422T043315
DTSTART;TZID=Europe/Berlin:20260903T100000
DTEND;TZID=Europe/Berlin:20260903T120000
UID:U25021-EEB-20260903T100000@EFBOLDENBURG
SUMMARY:Starke Frauen (U25021-EEB) 
LOCATION:Ev. Familien-Bildungsstätte, Gesprächsraum, Gorch-Fock-Str. 5 a, 26135 Oldenburg
END:VEVENT
BEGIN:VEVENT
DTSTAMP:20260422T043315
DTSTART;TZID=Europe/Berlin:20261001T100000
DTEND;TZID=Europe/Berlin:20261001T120000
UID:U25021-EEB-20261001T100000@EFBOLDENBURG
SUMMARY:Starke Frauen (U25021-EEB) 
LOCATION:Ev. Familien-Bildungsstätte, Gesprächsraum, Gorch-Fock-Str. 5 a, 26135 Oldenburg
END:VEVENT
BEGIN:VEVENT
DTSTAMP:20260422T043315
DTSTART;TZID=Europe/Berlin:20261105T100000
DTEND;TZID=Europe/Berlin:20261105T120000
UID:U25021-EEB-20261105T100000@EFBOLDENBURG
SUMMARY:Starke Frauen (U25021-EEB) 
LOCATION:Ev. Familien-Bildungsstätte, Gesprächsraum, Gorch-Fock-Str. 5 a, 26135 Oldenburg
END:VEVENT
BEGIN:VEVENT
DTSTAMP:20260422T043315
DTSTART;TZID=Europe/Berlin:20261203T100000
DTEND;TZID=Europe/Berlin:20261203T120000
UID:U25021-EEB-20261203T100000@EFBOLDENBURG
SUMMARY:Starke Frauen (U25021-EEB) 
LOCATION:Ev. Familien-Bildungsstätte, Gesprächsraum, Gorch-Fock-Str. 5 a, 26135 Oldenburg
END:VEVENT
END:VCALENDAR