BEGIN:VCALENDAR
VERSION:2.0
PRODID:https://www.kufer.de/kuferweb / DE
METHOD:PUBLISH
CALSCALE:GREGORIAN
X-WR-TIMEZONE:Europe/Berlin
BEGIN:VTIMEZONE
TZID:Europe/Berlin
X-LIC-LOCATION:Europe/Berlin
BEGIN:DAYLIGHT
TZOFFSETFROM:+0100
TZOFFSETTO:+0200
TZNAME:CEST
DTSTART:19700329T020000
RRULE:FREQ=YEARLY;INTERVAL=1;BYDAY=-1SU;BYMONTH=3
END:DAYLIGHT
BEGIN:STANDARD
TZOFFSETFROM:+0200
TZOFFSETTO:+0100
TZNAME:CET
DTSTART:19701025T030000
RRULE:FREQ=YEARLY;INTERVAL=1;BYDAY=-1SU;BYMONTH=10
END:STANDARD
END:VTIMEZONE
BEGIN:VEVENT
DTSTAMP:20260422T043243
DTSTART;TZID=Europe/Berlin:20260211T094500
DTEND;TZID=Europe/Berlin:20260211T111500
UID:U32020-20260211T094500@EFBOLDENBURG
SUMMARY:Tanz mit - bleib fit Internationale Tänze 60 Plus (U32020) 
LOCATION:St. Michael, Klingenbergstr. 20, Klingenbergstr. 20, 26133 Oldenburg
END:VEVENT
BEGIN:VEVENT
DTSTAMP:20260422T043243
DTSTART;TZID=Europe/Berlin:20260218T094500
DTEND;TZID=Europe/Berlin:20260218T111500
UID:U32020-20260218T094500@EFBOLDENBURG
SUMMARY:Tanz mit - bleib fit Internationale Tänze 60 Plus (U32020) 
LOCATION:St. Michael, Klingenbergstr. 20, Klingenbergstr. 20, 26133 Oldenburg
END:VEVENT
BEGIN:VEVENT
DTSTAMP:20260422T043243
DTSTART;TZID=Europe/Berlin:20260304T094500
DTEND;TZID=Europe/Berlin:20260304T111500
UID:U32020-20260304T094500@EFBOLDENBURG
SUMMARY:Tanz mit - bleib fit Internationale Tänze 60 Plus (U32020) 
LOCATION:St. Michael, Klingenbergstr. 20, Klingenbergstr. 20, 26133 Oldenburg
END:VEVENT
BEGIN:VEVENT
DTSTAMP:20260422T043243
DTSTART;TZID=Europe/Berlin:20260311T094500
DTEND;TZID=Europe/Berlin:20260311T111500
UID:U32020-20260311T094500@EFBOLDENBURG
SUMMARY:Tanz mit - bleib fit Internationale Tänze 60 Plus (U32020) 
LOCATION:St. Michael, Klingenbergstr. 20, Klingenbergstr. 20, 26133 Oldenburg
END:VEVENT
BEGIN:VEVENT
DTSTAMP:20260422T043243
DTSTART;TZID=Europe/Berlin:20260318T094500
DTEND;TZID=Europe/Berlin:20260318T111500
UID:U32020-20260318T094500@EFBOLDENBURG
SUMMARY:Tanz mit - bleib fit Internationale Tänze 60 Plus (U32020) 
LOCATION:St. Michael, Klingenbergstr. 20, Klingenbergstr. 20, 26133 Oldenburg
END:VEVENT
BEGIN:VEVENT
DTSTAMP:20260422T043243
DTSTART;TZID=Europe/Berlin:20260325T094500
DTEND;TZID=Europe/Berlin:20260325T111500
UID:U32020-20260325T094500@EFBOLDENBURG
DESCRIPTION:Ersatz für Ausfall am 22.04.2026
SUMMARY:Tanz mit - bleib fit Internationale Tänze 60 Plus (U32020) 
LOCATION:St. Michael, Klingenbergstr. 20, Klingenbergstr. 20, 26133 Oldenburg
END:VEVENT
BEGIN:VEVENT
DTSTAMP:20260422T043243
DTSTART;TZID=Europe/Berlin:20260408T094500
DTEND;TZID=Europe/Berlin:20260408T111500
UID:U32020-20260408T094500@EFBOLDENBURG
SUMMARY:Tanz mit - bleib fit Internationale Tänze 60 Plus (U32020) 
LOCATION:St. Michael, Klingenbergstr. 20, Klingenbergstr. 20, 26133 Oldenburg
END:VEVENT
BEGIN:VEVENT
DTSTAMP:20260422T043243
DTSTART;TZID=Europe/Berlin:20260415T094500
DTEND;TZID=Europe/Berlin:20260415T111500
UID:U32020-20260415T094500@EFBOLDENBURG
SUMMARY:Tanz mit - bleib fit Internationale Tänze 60 Plus (U32020) 
LOCATION:St. Michael, Klingenbergstr. 20, Klingenbergstr. 20, 26133 Oldenburg
END:VEVENT
BEGIN:VEVENT
DTSTAMP:20260422T043243
DTSTART;TZID=Europe/Berlin:20260422T094500
DTEND;TZID=Europe/Berlin:20260422T111500
UID:U32020-20260422T094500@EFBOLDENBURG
DESCRIPTION:wird nachgeholt am 25.03.2026
SUMMARY:Tanz mit - bleib fit Internationale Tänze 60 Plus (U32020) 
LOCATION:St. Michael, Klingenbergstr. 20, Klingenbergstr. 20, 26133 Oldenburg
END:VEVENT
BEGIN:VEVENT
DTSTAMP:20260422T043243
DTSTART;TZID=Europe/Berlin:20260429T094500
DTEND;TZID=Europe/Berlin:20260429T111500
UID:U32020-20260429T094500@EFBOLDENBURG
SUMMARY:Tanz mit - bleib fit Internationale Tänze 60 Plus (U32020) 
LOCATION:St. Michael, Klingenbergstr. 20, Klingenbergstr. 20, 26133 Oldenburg
END:VEVENT
END:VCALENDAR