BEGIN:VCALENDAR
VERSION:2.0
PRODID:https://www.kufer.de/kuferweb / DE
METHOD:PUBLISH
CALSCALE:GREGORIAN
X-WR-TIMEZONE:Europe/Berlin
BEGIN:VTIMEZONE
TZID:Europe/Berlin
X-LIC-LOCATION:Europe/Berlin
BEGIN:DAYLIGHT
TZOFFSETFROM:+0100
TZOFFSETTO:+0200
TZNAME:CEST
DTSTART:19700329T020000
RRULE:FREQ=YEARLY;INTERVAL=1;BYDAY=-1SU;BYMONTH=3
END:DAYLIGHT
BEGIN:STANDARD
TZOFFSETFROM:+0200
TZOFFSETTO:+0100
TZNAME:CET
DTSTART:19701025T030000
RRULE:FREQ=YEARLY;INTERVAL=1;BYDAY=-1SU;BYMONTH=10
END:STANDARD
END:VTIMEZONE
BEGIN:VEVENT
DTSTAMP:20260422T043335
DTSTART;TZID=Europe/Berlin:20260506T094500
DTEND;TZID=Europe/Berlin:20260506T111500
UID:U32021-20260506T094500@EFBOLDENBURG
SUMMARY:Tanz mit - bleib fit Internationale Tänze 60 Plus (U32021) 
LOCATION:St. Michael, Klingenbergstr. 20, Klingenbergstr. 20, 26133 Oldenburg
END:VEVENT
BEGIN:VEVENT
DTSTAMP:20260422T043335
DTSTART;TZID=Europe/Berlin:20260513T094500
DTEND;TZID=Europe/Berlin:20260513T111500
UID:U32021-20260513T094500@EFBOLDENBURG
SUMMARY:Tanz mit - bleib fit Internationale Tänze 60 Plus (U32021) 
LOCATION:St. Michael, Klingenbergstr. 20, Klingenbergstr. 20, 26133 Oldenburg
END:VEVENT
BEGIN:VEVENT
DTSTAMP:20260422T043335
DTSTART;TZID=Europe/Berlin:20260520T094500
DTEND;TZID=Europe/Berlin:20260520T111500
UID:U32021-20260520T094500@EFBOLDENBURG
SUMMARY:Tanz mit - bleib fit Internationale Tänze 60 Plus (U32021) 
LOCATION:St. Michael, Klingenbergstr. 20, Klingenbergstr. 20, 26133 Oldenburg
END:VEVENT
BEGIN:VEVENT
DTSTAMP:20260422T043335
DTSTART;TZID=Europe/Berlin:20260527T094500
DTEND;TZID=Europe/Berlin:20260527T111500
UID:U32021-20260527T094500@EFBOLDENBURG
SUMMARY:Tanz mit - bleib fit Internationale Tänze 60 Plus (U32021) 
LOCATION:St. Michael, Klingenbergstr. 20, Klingenbergstr. 20, 26133 Oldenburg
END:VEVENT
BEGIN:VEVENT
DTSTAMP:20260422T043335
DTSTART;TZID=Europe/Berlin:20260617T094500
DTEND;TZID=Europe/Berlin:20260617T111500
UID:U32021-20260617T094500@EFBOLDENBURG
SUMMARY:Tanz mit - bleib fit Internationale Tänze 60 Plus (U32021) 
LOCATION:St. Michael, Klingenbergstr. 20, Klingenbergstr. 20, 26133 Oldenburg
END:VEVENT
BEGIN:VEVENT
DTSTAMP:20260422T043335
DTSTART;TZID=Europe/Berlin:20260624T094500
DTEND;TZID=Europe/Berlin:20260624T111500
UID:U32021-20260624T094500@EFBOLDENBURG
DESCRIPTION:Ersatz für Ausfall am 03.06.2026
SUMMARY:Tanz mit - bleib fit Internationale Tänze 60 Plus (U32021) 
LOCATION:St. Michael, Klingenbergstr. 20, Klingenbergstr. 20, 26133 Oldenburg
END:VEVENT
BEGIN:VEVENT
DTSTAMP:20260422T043335
DTSTART;TZID=Europe/Berlin:20260701T094500
DTEND;TZID=Europe/Berlin:20260701T111500
UID:U32021-20260701T094500@EFBOLDENBURG
DESCRIPTION:Ersatz für Ausfall am 10.06.2026
SUMMARY:Tanz mit - bleib fit Internationale Tänze 60 Plus (U32021) 
LOCATION:St. Michael, Klingenbergstr. 20, Klingenbergstr. 20, 26133 Oldenburg
END:VEVENT
END:VCALENDAR