BEGIN:VCALENDAR
VERSION:2.0
PRODID:https://www.kufer.de/kuferweb / DE
METHOD:PUBLISH
CALSCALE:GREGORIAN
X-WR-TIMEZONE:Europe/Berlin
BEGIN:VTIMEZONE
TZID:Europe/Berlin
X-LIC-LOCATION:Europe/Berlin
BEGIN:DAYLIGHT
TZOFFSETFROM:+0100
TZOFFSETTO:+0200
TZNAME:CEST
DTSTART:19700329T020000
RRULE:FREQ=YEARLY;INTERVAL=1;BYDAY=-1SU;BYMONTH=3
END:DAYLIGHT
BEGIN:STANDARD
TZOFFSETFROM:+0200
TZOFFSETTO:+0100
TZNAME:CET
DTSTART:19701025T030000
RRULE:FREQ=YEARLY;INTERVAL=1;BYDAY=-1SU;BYMONTH=10
END:STANDARD
END:VTIMEZONE
BEGIN:VEVENT
DTSTAMP:20260421T234837
DTSTART;TZID=Europe/Berlin:20261111T094500
DTEND;TZID=Europe/Berlin:20261111T111500
UID:U32023-20261111T094500@EFBOLDENBURG
SUMMARY:Tanz mit - bleib fit Internationale Tänze 60 Plus (U32023) 
LOCATION:St. Michael, Klingenbergstr. 20, Klingenbergstr. 20, 26133 Oldenburg
END:VEVENT
BEGIN:VEVENT
DTSTAMP:20260421T234837
DTSTART;TZID=Europe/Berlin:20261118T094500
DTEND;TZID=Europe/Berlin:20261118T111500
UID:U32023-20261118T094500@EFBOLDENBURG
SUMMARY:Tanz mit - bleib fit Internationale Tänze 60 Plus (U32023) 
LOCATION:St. Michael, Klingenbergstr. 20, Klingenbergstr. 20, 26133 Oldenburg
END:VEVENT
BEGIN:VEVENT
DTSTAMP:20260421T234837
DTSTART;TZID=Europe/Berlin:20261125T094500
DTEND;TZID=Europe/Berlin:20261125T111500
UID:U32023-20261125T094500@EFBOLDENBURG
SUMMARY:Tanz mit - bleib fit Internationale Tänze 60 Plus (U32023) 
LOCATION:St. Michael, Klingenbergstr. 20, Klingenbergstr. 20, 26133 Oldenburg
END:VEVENT
BEGIN:VEVENT
DTSTAMP:20260421T234837
DTSTART;TZID=Europe/Berlin:20261202T094500
DTEND;TZID=Europe/Berlin:20261202T111500
UID:U32023-20261202T094500@EFBOLDENBURG
SUMMARY:Tanz mit - bleib fit Internationale Tänze 60 Plus (U32023) 
LOCATION:St. Michael, Klingenbergstr. 20, Klingenbergstr. 20, 26133 Oldenburg
END:VEVENT
BEGIN:VEVENT
DTSTAMP:20260421T234837
DTSTART;TZID=Europe/Berlin:20261209T094500
DTEND;TZID=Europe/Berlin:20261209T111500
UID:U32023-20261209T094500@EFBOLDENBURG
SUMMARY:Tanz mit - bleib fit Internationale Tänze 60 Plus (U32023) 
LOCATION:St. Michael, Klingenbergstr. 20, Klingenbergstr. 20, 26133 Oldenburg
END:VEVENT
BEGIN:VEVENT
DTSTAMP:20260421T234837
DTSTART;TZID=Europe/Berlin:20261216T094500
DTEND;TZID=Europe/Berlin:20261216T111500
UID:U32023-20261216T094500@EFBOLDENBURG
SUMMARY:Tanz mit - bleib fit Internationale Tänze 60 Plus (U32023) 
LOCATION:St. Michael, Klingenbergstr. 20, Klingenbergstr. 20, 26133 Oldenburg
END:VEVENT
BEGIN:VEVENT
DTSTAMP:20260421T234837
DTSTART;TZID=Europe/Berlin:20270106T094500
DTEND;TZID=Europe/Berlin:20270106T111500
UID:U32023-20270106T094500@EFBOLDENBURG
DESCRIPTION:Ersatz für Ausfall am 03.02.2027
SUMMARY:Tanz mit - bleib fit Internationale Tänze 60 Plus (U32023) 
LOCATION:St. Michael, Klingenbergstr. 20, Klingenbergstr. 20, 26133 Oldenburg
END:VEVENT
BEGIN:VEVENT
DTSTAMP:20260421T234837
DTSTART;TZID=Europe/Berlin:20270113T094500
DTEND;TZID=Europe/Berlin:20270113T111500
UID:U32023-20270113T094500@EFBOLDENBURG
SUMMARY:Tanz mit - bleib fit Internationale Tänze 60 Plus (U32023) 
LOCATION:St. Michael, Klingenbergstr. 20, Klingenbergstr. 20, 26133 Oldenburg
END:VEVENT
BEGIN:VEVENT
DTSTAMP:20260421T234837
DTSTART;TZID=Europe/Berlin:20270120T094500
DTEND;TZID=Europe/Berlin:20270120T111500
UID:U32023-20270120T094500@EFBOLDENBURG
SUMMARY:Tanz mit - bleib fit Internationale Tänze 60 Plus (U32023) 
LOCATION:St. Michael, Klingenbergstr. 20, Klingenbergstr. 20, 26133 Oldenburg
END:VEVENT
BEGIN:VEVENT
DTSTAMP:20260421T234837
DTSTART;TZID=Europe/Berlin:20270127T094500
DTEND;TZID=Europe/Berlin:20270127T111500
UID:U32023-20270127T094500@EFBOLDENBURG
SUMMARY:Tanz mit - bleib fit Internationale Tänze 60 Plus (U32023) 
LOCATION:St. Michael, Klingenbergstr. 20, Klingenbergstr. 20, 26133 Oldenburg
END:VEVENT
END:VCALENDAR