BEGIN:VCALENDAR
VERSION:2.0
PRODID:https://www.kufer.de/kuferweb / DE
METHOD:PUBLISH
CALSCALE:GREGORIAN
X-WR-TIMEZONE:Europe/Berlin
BEGIN:VTIMEZONE
TZID:Europe/Berlin
X-LIC-LOCATION:Europe/Berlin
BEGIN:DAYLIGHT
TZOFFSETFROM:+0100
TZOFFSETTO:+0200
TZNAME:CEST
DTSTART:19700329T020000
RRULE:FREQ=YEARLY;INTERVAL=1;BYDAY=-1SU;BYMONTH=3
END:DAYLIGHT
BEGIN:STANDARD
TZOFFSETFROM:+0200
TZOFFSETTO:+0100
TZNAME:CET
DTSTART:19701025T030000
RRULE:FREQ=YEARLY;INTERVAL=1;BYDAY=-1SU;BYMONTH=10
END:STANDARD
END:VTIMEZONE
BEGIN:VEVENT
DTSTAMP:20260422T110236
DTSTART;TZID=Europe/Berlin:20260113T180000
DTEND;TZID=Europe/Berlin:20260113T190000
UID:U32025-20260113T180000@EFBOLDENBURG
SUMMARY:Bewegung und Entspannung (U32025) 
LOCATION:Kath. Grundschule Eversten, Lerigauweg 58, Lerigauweg 58, 26131 Oldenburg
END:VEVENT
BEGIN:VEVENT
DTSTAMP:20260422T110236
DTSTART;TZID=Europe/Berlin:20260120T180000
DTEND;TZID=Europe/Berlin:20260120T190000
UID:U32025-20260120T180000@EFBOLDENBURG
SUMMARY:Bewegung und Entspannung (U32025) 
LOCATION:Kath. Grundschule Eversten, Lerigauweg 58, Lerigauweg 58, 26131 Oldenburg
END:VEVENT
BEGIN:VEVENT
DTSTAMP:20260422T110236
DTSTART;TZID=Europe/Berlin:20260127T180000
DTEND;TZID=Europe/Berlin:20260127T190000
UID:U32025-20260127T180000@EFBOLDENBURG
SUMMARY:Bewegung und Entspannung (U32025) 
LOCATION:Kath. Grundschule Eversten, Lerigauweg 58, Lerigauweg 58, 26131 Oldenburg
END:VEVENT
BEGIN:VEVENT
DTSTAMP:20260422T110236
DTSTART;TZID=Europe/Berlin:20260303T180000
DTEND;TZID=Europe/Berlin:20260303T190000
UID:U32025-20260303T180000@EFBOLDENBURG
SUMMARY:Bewegung und Entspannung (U32025) 
LOCATION:Kath. Grundschule Eversten, Lerigauweg 58, Lerigauweg 58, 26131 Oldenburg
END:VEVENT
BEGIN:VEVENT
DTSTAMP:20260422T110236
DTSTART;TZID=Europe/Berlin:20260310T180000
DTEND;TZID=Europe/Berlin:20260310T190000
UID:U32025-20260310T180000@EFBOLDENBURG
SUMMARY:Bewegung und Entspannung (U32025) 
LOCATION:Kath. Grundschule Eversten, Lerigauweg 58, Lerigauweg 58, 26131 Oldenburg
END:VEVENT
BEGIN:VEVENT
DTSTAMP:20260422T110236
DTSTART;TZID=Europe/Berlin:20260421T180000
DTEND;TZID=Europe/Berlin:20260421T190000
UID:U32025-20260421T180000@EFBOLDENBURG
DESCRIPTION:wird nachgeholt am 02.06.2026
SUMMARY:Bewegung und Entspannung (U32025) 
LOCATION:Kath. Grundschule Eversten, Lerigauweg 58, Lerigauweg 58, 26131 Oldenburg
END:VEVENT
BEGIN:VEVENT
DTSTAMP:20260422T110236
DTSTART;TZID=Europe/Berlin:20260428T180000
DTEND;TZID=Europe/Berlin:20260428T190000
UID:U32025-20260428T180000@EFBOLDENBURG
DESCRIPTION:wird nachgeholt am 16.06.2026 wird nachgeholt am 14.04.2026
SUMMARY:Bewegung und Entspannung (U32025) 
LOCATION:Kath. Grundschule Eversten, Lerigauweg 58, Lerigauweg 58, 26131 Oldenburg
END:VEVENT
BEGIN:VEVENT
DTSTAMP:20260422T110236
DTSTART;TZID=Europe/Berlin:20260512T180000
DTEND;TZID=Europe/Berlin:20260512T190000
UID:U32025-20260512T180000@EFBOLDENBURG
DESCRIPTION:Ersatz für Ausfall am 10.02.2026
SUMMARY:Bewegung und Entspannung (U32025) 
LOCATION:Kath. Grundschule Eversten, Lerigauweg 58, Lerigauweg 58, 26131 Oldenburg
END:VEVENT
BEGIN:VEVENT
DTSTAMP:20260422T110236
DTSTART;TZID=Europe/Berlin:20260519T180000
DTEND;TZID=Europe/Berlin:20260519T190000
UID:U32025-20260519T180000@EFBOLDENBURG
DESCRIPTION:Ersatz für Ausfall am 17.02.2026
SUMMARY:Bewegung und Entspannung (U32025) 
LOCATION:Kath. Grundschule Eversten, Lerigauweg 58, Lerigauweg 58, 26131 Oldenburg
END:VEVENT
BEGIN:VEVENT
DTSTAMP:20260422T110236
DTSTART;TZID=Europe/Berlin:20260602T180000
DTEND;TZID=Europe/Berlin:20260602T190000
UID:U32025-20260602T180000@EFBOLDENBURG
DESCRIPTION:Ersatz für Ausfall am 24.02.2026
SUMMARY:Bewegung und Entspannung (U32025) 
LOCATION:Kath. Grundschule Eversten, Lerigauweg 58, Lerigauweg 58, 26131 Oldenburg
END:VEVENT
BEGIN:VEVENT
DTSTAMP:20260422T110236
DTSTART;TZID=Europe/Berlin:20260609T180000
DTEND;TZID=Europe/Berlin:20260609T190000
UID:U32025-20260609T180000@EFBOLDENBURG
DESCRIPTION:Ersatz für Ausfall am 21.04.2026
SUMMARY:Bewegung und Entspannung (U32025) 
LOCATION:Kath. Grundschule Eversten, Lerigauweg 58, Lerigauweg 58, 26131 Oldenburg
END:VEVENT
BEGIN:VEVENT
DTSTAMP:20260422T110236
DTSTART;TZID=Europe/Berlin:20260616T180000
DTEND;TZID=Europe/Berlin:20260616T190000
UID:U32025-20260616T180000@EFBOLDENBURG
DESCRIPTION:Ersatz für Ausfall am 28.04.2026
SUMMARY:Bewegung und Entspannung (U32025) 
LOCATION:Kath. Grundschule Eversten, Lerigauweg 58, Lerigauweg 58, 26131 Oldenburg
END:VEVENT
BEGIN:VEVENT
DTSTAMP:20260422T110236
DTSTART;TZID=Europe/Berlin:20260623T180000
DTEND;TZID=Europe/Berlin:20260623T190000
UID:U32025-20260623T180000@EFBOLDENBURG
DESCRIPTION:Ersatz für Ausfall am 17.03.2026
SUMMARY:Bewegung und Entspannung (U32025) 
LOCATION:Kath. Grundschule Eversten, Lerigauweg 58, Lerigauweg 58, 26131 Oldenburg
END:VEVENT
END:VCALENDAR