BEGIN:VCALENDAR
VERSION:2.0
PRODID:https://www.kufer.de/kuferweb / DE
METHOD:PUBLISH
CALSCALE:GREGORIAN
X-WR-TIMEZONE:Europe/Berlin
BEGIN:VTIMEZONE
TZID:Europe/Berlin
X-LIC-LOCATION:Europe/Berlin
BEGIN:DAYLIGHT
TZOFFSETFROM:+0100
TZOFFSETTO:+0200
TZNAME:CEST
DTSTART:19700329T020000
RRULE:FREQ=YEARLY;INTERVAL=1;BYDAY=-1SU;BYMONTH=3
END:DAYLIGHT
BEGIN:STANDARD
TZOFFSETFROM:+0200
TZOFFSETTO:+0100
TZNAME:CET
DTSTART:19701025T030000
RRULE:FREQ=YEARLY;INTERVAL=1;BYDAY=-1SU;BYMONTH=10
END:STANDARD
END:VTIMEZONE
BEGIN:VEVENT
DTSTAMP:20260422T110205
DTSTART;TZID=Europe/Berlin:20260113T191500
DTEND;TZID=Europe/Berlin:20260113T201500
UID:U32026-20260113T191500@EFBOLDENBURG
SUMMARY:Bewegung und Entspannung (U32026) 
LOCATION:Kath. Grundschule Eversten, Lerigauweg 58, Lerigauweg 58, 26131 Oldenburg
END:VEVENT
BEGIN:VEVENT
DTSTAMP:20260422T110205
DTSTART;TZID=Europe/Berlin:20260120T191500
DTEND;TZID=Europe/Berlin:20260120T201500
UID:U32026-20260120T191500@EFBOLDENBURG
SUMMARY:Bewegung und Entspannung (U32026) 
LOCATION:Kath. Grundschule Eversten, Lerigauweg 58, Lerigauweg 58, 26131 Oldenburg
END:VEVENT
BEGIN:VEVENT
DTSTAMP:20260422T110205
DTSTART;TZID=Europe/Berlin:20260127T191500
DTEND;TZID=Europe/Berlin:20260127T201500
UID:U32026-20260127T191500@EFBOLDENBURG
SUMMARY:Bewegung und Entspannung (U32026) 
LOCATION:Kath. Grundschule Eversten, Lerigauweg 58, Lerigauweg 58, 26131 Oldenburg
END:VEVENT
BEGIN:VEVENT
DTSTAMP:20260422T110205
DTSTART;TZID=Europe/Berlin:20260303T191500
DTEND;TZID=Europe/Berlin:20260303T201500
UID:U32026-20260303T191500@EFBOLDENBURG
SUMMARY:Bewegung und Entspannung (U32026) 
LOCATION:Kath. Grundschule Eversten, Lerigauweg 58, Lerigauweg 58, 26131 Oldenburg
END:VEVENT
BEGIN:VEVENT
DTSTAMP:20260422T110205
DTSTART;TZID=Europe/Berlin:20260310T191500
DTEND;TZID=Europe/Berlin:20260310T201500
UID:U32026-20260310T191500@EFBOLDENBURG
SUMMARY:Bewegung und Entspannung (U32026) 
LOCATION:Kath. Grundschule Eversten, Lerigauweg 58, Lerigauweg 58, 26131 Oldenburg
END:VEVENT
BEGIN:VEVENT
DTSTAMP:20260422T110205
DTSTART;TZID=Europe/Berlin:20260421T191500
DTEND;TZID=Europe/Berlin:20260421T201500
UID:U32026-20260421T191500@EFBOLDENBURG
DESCRIPTION:wird nachgeholt am 09.06.2026
SUMMARY:Bewegung und Entspannung (U32026) 
LOCATION:Kath. Grundschule Eversten, Lerigauweg 58, Lerigauweg 58, 26131 Oldenburg
END:VEVENT
BEGIN:VEVENT
DTSTAMP:20260422T110205
DTSTART;TZID=Europe/Berlin:20260428T191500
DTEND;TZID=Europe/Berlin:20260428T201500
UID:U32026-20260428T191500@EFBOLDENBURG
DESCRIPTION:wird nachgeholt am 16.06.2026
SUMMARY:Bewegung und Entspannung (U32026) 
LOCATION:Kath. Grundschule Eversten, Lerigauweg 58, Lerigauweg 58, 26131 Oldenburg
END:VEVENT
BEGIN:VEVENT
DTSTAMP:20260422T110205
DTSTART;TZID=Europe/Berlin:20260512T191500
DTEND;TZID=Europe/Berlin:20260512T201500
UID:U32026-20260512T191500@EFBOLDENBURG
DESCRIPTION:Ersatz für Ausfall am 10.02.2026
SUMMARY:Bewegung und Entspannung (U32026) 
LOCATION:Kath. Grundschule Eversten, Lerigauweg 58, Lerigauweg 58, 26131 Oldenburg
END:VEVENT
BEGIN:VEVENT
DTSTAMP:20260422T110205
DTSTART;TZID=Europe/Berlin:20260519T191500
DTEND;TZID=Europe/Berlin:20260519T201500
UID:U32026-20260519T191500@EFBOLDENBURG
DESCRIPTION:Ersatz für Ausfall am 17.02.2026
SUMMARY:Bewegung und Entspannung (U32026) 
LOCATION:Kath. Grundschule Eversten, Lerigauweg 58, Lerigauweg 58, 26131 Oldenburg
END:VEVENT
BEGIN:VEVENT
DTSTAMP:20260422T110205
DTSTART;TZID=Europe/Berlin:20260602T191500
DTEND;TZID=Europe/Berlin:20260602T201500
UID:U32026-20260602T191500@EFBOLDENBURG
DESCRIPTION:Ersatz für Ausfall am 24.02.2026
SUMMARY:Bewegung und Entspannung (U32026) 
LOCATION:Kath. Grundschule Eversten, Lerigauweg 58, Lerigauweg 58, 26131 Oldenburg
END:VEVENT
BEGIN:VEVENT
DTSTAMP:20260422T110205
DTSTART;TZID=Europe/Berlin:20260609T191500
DTEND;TZID=Europe/Berlin:20260609T201500
UID:U32026-20260609T191500@EFBOLDENBURG
DESCRIPTION:Ersatz für Ausfall am 21.04.2026
SUMMARY:Bewegung und Entspannung (U32026) 
LOCATION:Kath. Grundschule Eversten, Lerigauweg 58, Lerigauweg 58, 26131 Oldenburg
END:VEVENT
BEGIN:VEVENT
DTSTAMP:20260422T110205
DTSTART;TZID=Europe/Berlin:20260616T191500
DTEND;TZID=Europe/Berlin:20260616T201500
UID:U32026-20260616T191500@EFBOLDENBURG
DESCRIPTION:Ersatz für Ausfall am 28.04.2026
SUMMARY:Bewegung und Entspannung (U32026) 
LOCATION:Kath. Grundschule Eversten, Lerigauweg 58, Lerigauweg 58, 26131 Oldenburg
END:VEVENT
BEGIN:VEVENT
DTSTAMP:20260422T110205
DTSTART;TZID=Europe/Berlin:20260623T191500
DTEND;TZID=Europe/Berlin:20260623T201500
UID:U32026-20260623T191500@EFBOLDENBURG
DESCRIPTION:Ersatz für Ausfall am 17.03.2026
SUMMARY:Bewegung und Entspannung (U32026) 
LOCATION:Kath. Grundschule Eversten, Lerigauweg 58, Lerigauweg 58, 26131 Oldenburg
END:VEVENT
END:VCALENDAR