BEGIN:VCALENDAR
VERSION:2.0
PRODID:https://www.kufer.de/kuferweb / DE
METHOD:PUBLISH
CALSCALE:GREGORIAN
X-WR-TIMEZONE:Europe/Berlin
BEGIN:VTIMEZONE
TZID:Europe/Berlin
X-LIC-LOCATION:Europe/Berlin
BEGIN:DAYLIGHT
TZOFFSETFROM:+0100
TZOFFSETTO:+0200
TZNAME:CEST
DTSTART:19700329T020000
RRULE:FREQ=YEARLY;INTERVAL=1;BYDAY=-1SU;BYMONTH=3
END:DAYLIGHT
BEGIN:STANDARD
TZOFFSETFROM:+0200
TZOFFSETTO:+0100
TZNAME:CET
DTSTART:19701025T030000
RRULE:FREQ=YEARLY;INTERVAL=1;BYDAY=-1SU;BYMONTH=10
END:STANDARD
END:VTIMEZONE
BEGIN:VEVENT
DTSTAMP:20260422T111913
DTSTART;TZID=Europe/Berlin:20260818T191500
DTEND;TZID=Europe/Berlin:20260818T201500
UID:U32028-20260818T191500@EFBOLDENBURG
SUMMARY:Bewegung und Entspannung (U32028) 
LOCATION:Kath. Grundschule Eversten, Lerigauweg 58, Lerigauweg 58, 26131 Oldenburg
END:VEVENT
BEGIN:VEVENT
DTSTAMP:20260422T111913
DTSTART;TZID=Europe/Berlin:20260825T191500
DTEND;TZID=Europe/Berlin:20260825T201500
UID:U32028-20260825T191500@EFBOLDENBURG
SUMMARY:Bewegung und Entspannung (U32028) 
LOCATION:Kath. Grundschule Eversten, Lerigauweg 58, Lerigauweg 58, 26131 Oldenburg
END:VEVENT
BEGIN:VEVENT
DTSTAMP:20260422T111913
DTSTART;TZID=Europe/Berlin:20260901T191500
DTEND;TZID=Europe/Berlin:20260901T201500
UID:U32028-20260901T191500@EFBOLDENBURG
SUMMARY:Bewegung und Entspannung (U32028) 
LOCATION:Kath. Grundschule Eversten, Lerigauweg 58, Lerigauweg 58, 26131 Oldenburg
END:VEVENT
BEGIN:VEVENT
DTSTAMP:20260422T111913
DTSTART;TZID=Europe/Berlin:20260908T191500
DTEND;TZID=Europe/Berlin:20260908T201500
UID:U32028-20260908T191500@EFBOLDENBURG
DESCRIPTION:Ersatz für Ausfall am 22.09.2026
SUMMARY:Bewegung und Entspannung (U32028) 
LOCATION:Kath. Grundschule Eversten, Lerigauweg 58, Lerigauweg 58, 26131 Oldenburg
END:VEVENT
BEGIN:VEVENT
DTSTAMP:20260422T111913
DTSTART;TZID=Europe/Berlin:20260915T191500
DTEND;TZID=Europe/Berlin:20260915T201500
UID:U32028-20260915T191500@EFBOLDENBURG
DESCRIPTION:Ersatz für Ausfall am 06.10.2026
SUMMARY:Bewegung und Entspannung (U32028) 
LOCATION:Kath. Grundschule Eversten, Lerigauweg 58, Lerigauweg 58, 26131 Oldenburg
END:VEVENT
BEGIN:VEVENT
DTSTAMP:20260422T111913
DTSTART;TZID=Europe/Berlin:20261027T191500
DTEND;TZID=Europe/Berlin:20261027T201500
UID:U32028-20261027T191500@EFBOLDENBURG
SUMMARY:Bewegung und Entspannung (U32028) 
LOCATION:Kath. Grundschule Eversten, Lerigauweg 58, Lerigauweg 58, 26131 Oldenburg
END:VEVENT
BEGIN:VEVENT
DTSTAMP:20260422T111913
DTSTART;TZID=Europe/Berlin:20261103T191500
DTEND;TZID=Europe/Berlin:20261103T201500
UID:U32028-20261103T191500@EFBOLDENBURG
SUMMARY:Bewegung und Entspannung (U32028) 
LOCATION:Kath. Grundschule Eversten, Lerigauweg 58, Lerigauweg 58, 26131 Oldenburg
END:VEVENT
BEGIN:VEVENT
DTSTAMP:20260422T111913
DTSTART;TZID=Europe/Berlin:20261110T191500
DTEND;TZID=Europe/Berlin:20261110T201500
UID:U32028-20261110T191500@EFBOLDENBURG
SUMMARY:Bewegung und Entspannung (U32028) 
LOCATION:Kath. Grundschule Eversten, Lerigauweg 58, Lerigauweg 58, 26131 Oldenburg
END:VEVENT
BEGIN:VEVENT
DTSTAMP:20260422T111913
DTSTART;TZID=Europe/Berlin:20261117T191500
DTEND;TZID=Europe/Berlin:20261117T201500
UID:U32028-20261117T191500@EFBOLDENBURG
SUMMARY:Bewegung und Entspannung (U32028) 
LOCATION:Kath. Grundschule Eversten, Lerigauweg 58, Lerigauweg 58, 26131 Oldenburg
END:VEVENT
BEGIN:VEVENT
DTSTAMP:20260422T111913
DTSTART;TZID=Europe/Berlin:20261124T191500
DTEND;TZID=Europe/Berlin:20261124T201500
UID:U32028-20261124T191500@EFBOLDENBURG
SUMMARY:Bewegung und Entspannung (U32028) 
LOCATION:Kath. Grundschule Eversten, Lerigauweg 58, Lerigauweg 58, 26131 Oldenburg
END:VEVENT
BEGIN:VEVENT
DTSTAMP:20260422T111913
DTSTART;TZID=Europe/Berlin:20261201T191500
DTEND;TZID=Europe/Berlin:20261201T201500
UID:U32028-20261201T191500@EFBOLDENBURG
DESCRIPTION:Ersatz für Ausfall am 08.09.2026
SUMMARY:Bewegung und Entspannung (U32028) 
LOCATION:Kath. Grundschule Eversten, Lerigauweg 58, Lerigauweg 58, 26131 Oldenburg
END:VEVENT
BEGIN:VEVENT
DTSTAMP:20260422T111913
DTSTART;TZID=Europe/Berlin:20261208T191500
DTEND;TZID=Europe/Berlin:20261208T201500
UID:U32028-20261208T191500@EFBOLDENBURG
DESCRIPTION:Ersatz für Ausfall am 15.09.2026
SUMMARY:Bewegung und Entspannung (U32028) 
LOCATION:Kath. Grundschule Eversten, Lerigauweg 58, Lerigauweg 58, 26131 Oldenburg
END:VEVENT
BEGIN:VEVENT
DTSTAMP:20260422T111913
DTSTART;TZID=Europe/Berlin:20261215T191500
DTEND;TZID=Europe/Berlin:20261215T201500
UID:U32028-20261215T191500@EFBOLDENBURG
SUMMARY:Bewegung und Entspannung (U32028) 
LOCATION:Kath. Grundschule Eversten, Lerigauweg 58, Lerigauweg 58, 26131 Oldenburg
END:VEVENT
END:VCALENDAR