BEGIN:VCALENDAR
VERSION:2.0
PRODID:https://www.kufer.de/kuferweb / DE
METHOD:PUBLISH
CALSCALE:GREGORIAN
X-WR-TIMEZONE:Europe/Berlin
BEGIN:VTIMEZONE
TZID:Europe/Berlin
X-LIC-LOCATION:Europe/Berlin
BEGIN:DAYLIGHT
TZOFFSETFROM:+0100
TZOFFSETTO:+0200
TZNAME:CEST
DTSTART:19700329T020000
RRULE:FREQ=YEARLY;INTERVAL=1;BYDAY=-1SU;BYMONTH=3
END:DAYLIGHT
BEGIN:STANDARD
TZOFFSETFROM:+0200
TZOFFSETTO:+0100
TZNAME:CET
DTSTART:19701025T030000
RRULE:FREQ=YEARLY;INTERVAL=1;BYDAY=-1SU;BYMONTH=10
END:STANDARD
END:VTIMEZONE
BEGIN:VEVENT
DTSTAMP:20260421T182854
DTSTART;TZID=Europe/Berlin:20260409T174500
DTEND;TZID=Europe/Berlin:20260409T184500
UID:U32037-20260409T174500@EFBOLDENBURG
SUMMARY:Pilates Mittelstufe -  für Teilnehmer*innen mit Vorkenntnissen (U32037) 
LOCATION:Ev. Familien-Bildungsstätte, Saal, Gorch-Fock-Str. 5 a, 26135 Oldenburg
END:VEVENT
BEGIN:VEVENT
DTSTAMP:20260421T182854
DTSTART;TZID=Europe/Berlin:20260416T174500
DTEND;TZID=Europe/Berlin:20260416T184500
UID:U32037-20260416T174500@EFBOLDENBURG
SUMMARY:Pilates Mittelstufe -  für Teilnehmer*innen mit Vorkenntnissen (U32037) 
LOCATION:Ev. Familien-Bildungsstätte, Saal, Gorch-Fock-Str. 5 a, 26135 Oldenburg
END:VEVENT
BEGIN:VEVENT
DTSTAMP:20260421T182854
DTSTART;TZID=Europe/Berlin:20260423T174500
DTEND;TZID=Europe/Berlin:20260423T184500
UID:U32037-20260423T174500@EFBOLDENBURG
SUMMARY:Pilates Mittelstufe -  für Teilnehmer*innen mit Vorkenntnissen (U32037) 
LOCATION:Ev. Familien-Bildungsstätte, Saal, Gorch-Fock-Str. 5 a, 26135 Oldenburg
END:VEVENT
BEGIN:VEVENT
DTSTAMP:20260421T182854
DTSTART;TZID=Europe/Berlin:20260507T174500
DTEND;TZID=Europe/Berlin:20260507T184500
UID:U32037-20260507T174500@EFBOLDENBURG
SUMMARY:Pilates Mittelstufe -  für Teilnehmer*innen mit Vorkenntnissen (U32037) 
LOCATION:Ev. Familien-Bildungsstätte, Saal, Gorch-Fock-Str. 5 a, 26135 Oldenburg
END:VEVENT
BEGIN:VEVENT
DTSTAMP:20260421T182854
DTSTART;TZID=Europe/Berlin:20260521T174500
DTEND;TZID=Europe/Berlin:20260521T184500
UID:U32037-20260521T174500@EFBOLDENBURG
SUMMARY:Pilates Mittelstufe -  für Teilnehmer*innen mit Vorkenntnissen (U32037) 
LOCATION:Ev. Familien-Bildungsstätte, Saal, Gorch-Fock-Str. 5 a, 26135 Oldenburg
END:VEVENT
BEGIN:VEVENT
DTSTAMP:20260421T182854
DTSTART;TZID=Europe/Berlin:20260528T174500
DTEND;TZID=Europe/Berlin:20260528T184500
UID:U32037-20260528T174500@EFBOLDENBURG
SUMMARY:Pilates Mittelstufe -  für Teilnehmer*innen mit Vorkenntnissen (U32037) 
LOCATION:Ev. Familien-Bildungsstätte, Saal, Gorch-Fock-Str. 5 a, 26135 Oldenburg
END:VEVENT
BEGIN:VEVENT
DTSTAMP:20260421T182854
DTSTART;TZID=Europe/Berlin:20260604T174500
DTEND;TZID=Europe/Berlin:20260604T184500
UID:U32037-20260604T174500@EFBOLDENBURG
SUMMARY:Pilates Mittelstufe -  für Teilnehmer*innen mit Vorkenntnissen (U32037) 
LOCATION:Ev. Familien-Bildungsstätte, Saal, Gorch-Fock-Str. 5 a, 26135 Oldenburg
END:VEVENT
BEGIN:VEVENT
DTSTAMP:20260421T182854
DTSTART;TZID=Europe/Berlin:20260611T174500
DTEND;TZID=Europe/Berlin:20260611T184500
UID:U32037-20260611T174500@EFBOLDENBURG
SUMMARY:Pilates Mittelstufe -  für Teilnehmer*innen mit Vorkenntnissen (U32037) 
LOCATION:Ev. Familien-Bildungsstätte, Saal, Gorch-Fock-Str. 5 a, 26135 Oldenburg
END:VEVENT
BEGIN:VEVENT
DTSTAMP:20260421T182854
DTSTART;TZID=Europe/Berlin:20260618T174500
DTEND;TZID=Europe/Berlin:20260618T184500
UID:U32037-20260618T174500@EFBOLDENBURG
SUMMARY:Pilates Mittelstufe -  für Teilnehmer*innen mit Vorkenntnissen (U32037) 
LOCATION:Ev. Familien-Bildungsstätte, Saal, Gorch-Fock-Str. 5 a, 26135 Oldenburg
END:VEVENT
BEGIN:VEVENT
DTSTAMP:20260421T182854
DTSTART;TZID=Europe/Berlin:20260625T174500
DTEND;TZID=Europe/Berlin:20260625T184500
UID:U32037-20260625T174500@EFBOLDENBURG
DESCRIPTION:Ersatz für Ausfall am 30.04.2026
SUMMARY:Pilates Mittelstufe -  für Teilnehmer*innen mit Vorkenntnissen (U32037) 
LOCATION:Ev. Familien-Bildungsstätte, Saal, Gorch-Fock-Str. 5 a, 26135 Oldenburg
END:VEVENT
END:VCALENDAR