BEGIN:VCALENDAR
VERSION:2.0
PRODID:https://www.kufer.de/kuferweb / DE
METHOD:PUBLISH
CALSCALE:GREGORIAN
X-WR-TIMEZONE:Europe/Berlin
BEGIN:VTIMEZONE
TZID:Europe/Berlin
X-LIC-LOCATION:Europe/Berlin
BEGIN:DAYLIGHT
TZOFFSETFROM:+0100
TZOFFSETTO:+0200
TZNAME:CEST
DTSTART:19700329T020000
RRULE:FREQ=YEARLY;INTERVAL=1;BYDAY=-1SU;BYMONTH=3
END:DAYLIGHT
BEGIN:STANDARD
TZOFFSETFROM:+0200
TZOFFSETTO:+0100
TZNAME:CET
DTSTART:19701025T030000
RRULE:FREQ=YEARLY;INTERVAL=1;BYDAY=-1SU;BYMONTH=10
END:STANDARD
END:VTIMEZONE
BEGIN:VEVENT
DTSTAMP:20260421T215557
DTSTART;TZID=Europe/Berlin:20260813T174500
DTEND;TZID=Europe/Berlin:20260813T184500
UID:U32038-20260813T174500@EFBOLDENBURG
SUMMARY:Pilates Mittelstufe -  für Teilnehmer*innen mit Vorkenntnissen (U32038) 
LOCATION:Ev. Familien-Bildungsstätte, Saal, Gorch-Fock-Str. 5 a, 26135 Oldenburg
END:VEVENT
BEGIN:VEVENT
DTSTAMP:20260421T215557
DTSTART;TZID=Europe/Berlin:20260820T174500
DTEND;TZID=Europe/Berlin:20260820T184500
UID:U32038-20260820T174500@EFBOLDENBURG
SUMMARY:Pilates Mittelstufe -  für Teilnehmer*innen mit Vorkenntnissen (U32038) 
LOCATION:Ev. Familien-Bildungsstätte, Saal, Gorch-Fock-Str. 5 a, 26135 Oldenburg
END:VEVENT
BEGIN:VEVENT
DTSTAMP:20260421T215557
DTSTART;TZID=Europe/Berlin:20260827T174500
DTEND;TZID=Europe/Berlin:20260827T184500
UID:U32038-20260827T174500@EFBOLDENBURG
SUMMARY:Pilates Mittelstufe -  für Teilnehmer*innen mit Vorkenntnissen (U32038) 
LOCATION:Ev. Familien-Bildungsstätte, Saal, Gorch-Fock-Str. 5 a, 26135 Oldenburg
END:VEVENT
BEGIN:VEVENT
DTSTAMP:20260421T215557
DTSTART;TZID=Europe/Berlin:20260903T174500
DTEND;TZID=Europe/Berlin:20260903T184500
UID:U32038-20260903T174500@EFBOLDENBURG
SUMMARY:Pilates Mittelstufe -  für Teilnehmer*innen mit Vorkenntnissen (U32038) 
LOCATION:Ev. Familien-Bildungsstätte, Saal, Gorch-Fock-Str. 5 a, 26135 Oldenburg
END:VEVENT
BEGIN:VEVENT
DTSTAMP:20260421T215557
DTSTART;TZID=Europe/Berlin:20260917T174500
DTEND;TZID=Europe/Berlin:20260917T184500
UID:U32038-20260917T174500@EFBOLDENBURG
SUMMARY:Pilates Mittelstufe -  für Teilnehmer*innen mit Vorkenntnissen (U32038) 
LOCATION:Ev. Familien-Bildungsstätte, Saal, Gorch-Fock-Str. 5 a, 26135 Oldenburg
END:VEVENT
BEGIN:VEVENT
DTSTAMP:20260421T215557
DTSTART;TZID=Europe/Berlin:20260924T174500
DTEND;TZID=Europe/Berlin:20260924T184500
UID:U32038-20260924T174500@EFBOLDENBURG
SUMMARY:Pilates Mittelstufe -  für Teilnehmer*innen mit Vorkenntnissen (U32038) 
LOCATION:Ev. Familien-Bildungsstätte, Saal, Gorch-Fock-Str. 5 a, 26135 Oldenburg
END:VEVENT
BEGIN:VEVENT
DTSTAMP:20260421T215557
DTSTART;TZID=Europe/Berlin:20261001T174500
DTEND;TZID=Europe/Berlin:20261001T184500
UID:U32038-20261001T174500@EFBOLDENBURG
SUMMARY:Pilates Mittelstufe -  für Teilnehmer*innen mit Vorkenntnissen (U32038) 
LOCATION:Ev. Familien-Bildungsstätte, Saal, Gorch-Fock-Str. 5 a, 26135 Oldenburg
END:VEVENT
BEGIN:VEVENT
DTSTAMP:20260421T215557
DTSTART;TZID=Europe/Berlin:20261008T174500
DTEND;TZID=Europe/Berlin:20261008T184500
UID:U32038-20261008T174500@EFBOLDENBURG
DESCRIPTION:Ersatz für Ausfall am 10.09.2026
SUMMARY:Pilates Mittelstufe -  für Teilnehmer*innen mit Vorkenntnissen (U32038) 
LOCATION:Ev. Familien-Bildungsstätte, Saal, Gorch-Fock-Str. 5 a, 26135 Oldenburg
END:VEVENT
END:VCALENDAR