BEGIN:VCALENDAR
VERSION:2.0
PRODID:https://www.kufer.de/kuferweb / DE
METHOD:PUBLISH
CALSCALE:GREGORIAN
X-WR-TIMEZONE:Europe/Berlin
BEGIN:VTIMEZONE
TZID:Europe/Berlin
X-LIC-LOCATION:Europe/Berlin
BEGIN:DAYLIGHT
TZOFFSETFROM:+0100
TZOFFSETTO:+0200
TZNAME:CEST
DTSTART:19700329T020000
RRULE:FREQ=YEARLY;INTERVAL=1;BYDAY=-1SU;BYMONTH=3
END:DAYLIGHT
BEGIN:STANDARD
TZOFFSETFROM:+0200
TZOFFSETTO:+0100
TZNAME:CET
DTSTART:19701025T030000
RRULE:FREQ=YEARLY;INTERVAL=1;BYDAY=-1SU;BYMONTH=10
END:STANDARD
END:VTIMEZONE
BEGIN:VEVENT
DTSTAMP:20260421T215602
DTSTART;TZID=Europe/Berlin:20261029T174500
DTEND;TZID=Europe/Berlin:20261029T184500
UID:U32039-20261029T174500@EFBOLDENBURG
SUMMARY:Pilates Mittelstufe -  für Teilnehmer*innen mit Vorkenntnissen (U32039) 
LOCATION:Ev. Familien-Bildungsstätte, Saal, Gorch-Fock-Str. 5 a, 26135 Oldenburg
END:VEVENT
BEGIN:VEVENT
DTSTAMP:20260421T215602
DTSTART;TZID=Europe/Berlin:20261105T174500
DTEND;TZID=Europe/Berlin:20261105T184500
UID:U32039-20261105T174500@EFBOLDENBURG
SUMMARY:Pilates Mittelstufe -  für Teilnehmer*innen mit Vorkenntnissen (U32039) 
LOCATION:Ev. Familien-Bildungsstätte, Saal, Gorch-Fock-Str. 5 a, 26135 Oldenburg
END:VEVENT
BEGIN:VEVENT
DTSTAMP:20260421T215602
DTSTART;TZID=Europe/Berlin:20261112T174500
DTEND;TZID=Europe/Berlin:20261112T184500
UID:U32039-20261112T174500@EFBOLDENBURG
SUMMARY:Pilates Mittelstufe -  für Teilnehmer*innen mit Vorkenntnissen (U32039) 
LOCATION:Ev. Familien-Bildungsstätte, Saal, Gorch-Fock-Str. 5 a, 26135 Oldenburg
END:VEVENT
BEGIN:VEVENT
DTSTAMP:20260421T215602
DTSTART;TZID=Europe/Berlin:20261119T174500
DTEND;TZID=Europe/Berlin:20261119T184500
UID:U32039-20261119T174500@EFBOLDENBURG
SUMMARY:Pilates Mittelstufe -  für Teilnehmer*innen mit Vorkenntnissen (U32039) 
LOCATION:Ev. Familien-Bildungsstätte, Saal, Gorch-Fock-Str. 5 a, 26135 Oldenburg
END:VEVENT
BEGIN:VEVENT
DTSTAMP:20260421T215602
DTSTART;TZID=Europe/Berlin:20261126T174500
DTEND;TZID=Europe/Berlin:20261126T184500
UID:U32039-20261126T174500@EFBOLDENBURG
SUMMARY:Pilates Mittelstufe -  für Teilnehmer*innen mit Vorkenntnissen (U32039) 
LOCATION:Ev. Familien-Bildungsstätte, Saal, Gorch-Fock-Str. 5 a, 26135 Oldenburg
END:VEVENT
BEGIN:VEVENT
DTSTAMP:20260421T215602
DTSTART;TZID=Europe/Berlin:20261203T174500
DTEND;TZID=Europe/Berlin:20261203T184500
UID:U32039-20261203T174500@EFBOLDENBURG
SUMMARY:Pilates Mittelstufe -  für Teilnehmer*innen mit Vorkenntnissen (U32039) 
LOCATION:Ev. Familien-Bildungsstätte, Saal, Gorch-Fock-Str. 5 a, 26135 Oldenburg
END:VEVENT
BEGIN:VEVENT
DTSTAMP:20260421T215602
DTSTART;TZID=Europe/Berlin:20261210T174500
DTEND;TZID=Europe/Berlin:20261210T184500
UID:U32039-20261210T174500@EFBOLDENBURG
SUMMARY:Pilates Mittelstufe -  für Teilnehmer*innen mit Vorkenntnissen (U32039) 
LOCATION:Ev. Familien-Bildungsstätte, Saal, Gorch-Fock-Str. 5 a, 26135 Oldenburg
END:VEVENT
BEGIN:VEVENT
DTSTAMP:20260421T215602
DTSTART;TZID=Europe/Berlin:20261217T174500
DTEND;TZID=Europe/Berlin:20261217T184500
UID:U32039-20261217T174500@EFBOLDENBURG
SUMMARY:Pilates Mittelstufe -  für Teilnehmer*innen mit Vorkenntnissen (U32039) 
LOCATION:Ev. Familien-Bildungsstätte, Saal, Gorch-Fock-Str. 5 a, 26135 Oldenburg
END:VEVENT
END:VCALENDAR