BEGIN:VCALENDAR
VERSION:2.0
PRODID:https://www.kufer.de/kuferweb / DE
METHOD:PUBLISH
CALSCALE:GREGORIAN
X-WR-TIMEZONE:Europe/Berlin
BEGIN:VTIMEZONE
TZID:Europe/Berlin
X-LIC-LOCATION:Europe/Berlin
BEGIN:DAYLIGHT
TZOFFSETFROM:+0100
TZOFFSETTO:+0200
TZNAME:CEST
DTSTART:19700329T020000
RRULE:FREQ=YEARLY;INTERVAL=1;BYDAY=-1SU;BYMONTH=3
END:DAYLIGHT
BEGIN:STANDARD
TZOFFSETFROM:+0200
TZOFFSETTO:+0100
TZNAME:CET
DTSTART:19701025T030000
RRULE:FREQ=YEARLY;INTERVAL=1;BYDAY=-1SU;BYMONTH=10
END:STANDARD
END:VTIMEZONE
BEGIN:VEVENT
DTSTAMP:20260421T233029
DTSTART;TZID=Europe/Berlin:20260115T184500
DTEND;TZID=Europe/Berlin:20260115T194500
UID:U32041-20260115T184500@EFBOLDENBURG
SUMMARY:Pilates für Fortgeschrittene für Teilnehmer*innen mit mehrjähriger Praxis (U32041) 
LOCATION:Ev. Familien-Bildungsstätte, Saal, Gorch-Fock-Str. 5 a, 26135 Oldenburg
END:VEVENT
BEGIN:VEVENT
DTSTAMP:20260421T233029
DTSTART;TZID=Europe/Berlin:20260122T184500
DTEND;TZID=Europe/Berlin:20260122T194500
UID:U32041-20260122T184500@EFBOLDENBURG
SUMMARY:Pilates für Fortgeschrittene für Teilnehmer*innen mit mehrjähriger Praxis (U32041) 
LOCATION:Ev. Familien-Bildungsstätte, Saal, Gorch-Fock-Str. 5 a, 26135 Oldenburg
END:VEVENT
BEGIN:VEVENT
DTSTAMP:20260421T233029
DTSTART;TZID=Europe/Berlin:20260129T184500
DTEND;TZID=Europe/Berlin:20260129T194500
UID:U32041-20260129T184500@EFBOLDENBURG
SUMMARY:Pilates für Fortgeschrittene für Teilnehmer*innen mit mehrjähriger Praxis (U32041) 
LOCATION:Ev. Familien-Bildungsstätte, Saal, Gorch-Fock-Str. 5 a, 26135 Oldenburg
END:VEVENT
BEGIN:VEVENT
DTSTAMP:20260421T233029
DTSTART;TZID=Europe/Berlin:20260205T184500
DTEND;TZID=Europe/Berlin:20260205T194500
UID:U32041-20260205T184500@EFBOLDENBURG
SUMMARY:Pilates für Fortgeschrittene für Teilnehmer*innen mit mehrjähriger Praxis (U32041) 
LOCATION:Ev. Familien-Bildungsstätte, Saal, Gorch-Fock-Str. 5 a, 26135 Oldenburg
END:VEVENT
BEGIN:VEVENT
DTSTAMP:20260421T233029
DTSTART;TZID=Europe/Berlin:20260212T184500
DTEND;TZID=Europe/Berlin:20260212T194500
UID:U32041-20260212T184500@EFBOLDENBURG
DESCRIPTION:wird nachgeholt am 19.03.2026
SUMMARY:Pilates für Fortgeschrittene für Teilnehmer*innen mit mehrjähriger Praxis (U32041) 
LOCATION:Ev. Familien-Bildungsstätte, Saal, Gorch-Fock-Str. 5 a, 26135 Oldenburg
END:VEVENT
BEGIN:VEVENT
DTSTAMP:20260421T233029
DTSTART;TZID=Europe/Berlin:20260219T184500
DTEND;TZID=Europe/Berlin:20260219T194500
UID:U32041-20260219T184500@EFBOLDENBURG
SUMMARY:Pilates für Fortgeschrittene für Teilnehmer*innen mit mehrjähriger Praxis (U32041) 
LOCATION:Ev. Familien-Bildungsstätte, Saal, Gorch-Fock-Str. 5 a, 26135 Oldenburg
END:VEVENT
BEGIN:VEVENT
DTSTAMP:20260421T233029
DTSTART;TZID=Europe/Berlin:20260226T184500
DTEND;TZID=Europe/Berlin:20260226T194500
UID:U32041-20260226T184500@EFBOLDENBURG
DESCRIPTION:Ersatz für Ausfall am 12.03.2026
SUMMARY:Pilates für Fortgeschrittene für Teilnehmer*innen mit mehrjähriger Praxis (U32041) 
LOCATION:Ev. Familien-Bildungsstätte, Kinderraum, Gorch-Fock-Str. 5 a, 26135 Oldenburg
END:VEVENT
BEGIN:VEVENT
DTSTAMP:20260421T233029
DTSTART;TZID=Europe/Berlin:20260305T184500
DTEND;TZID=Europe/Berlin:20260305T194500
UID:U32041-20260305T184500@EFBOLDENBURG
SUMMARY:Pilates für Fortgeschrittene für Teilnehmer*innen mit mehrjähriger Praxis (U32041) 
LOCATION:Ev. Familien-Bildungsstätte, Saal, Gorch-Fock-Str. 5 a, 26135 Oldenburg
END:VEVENT
BEGIN:VEVENT
DTSTAMP:20260421T233029
DTSTART;TZID=Europe/Berlin:20260319T184500
DTEND;TZID=Europe/Berlin:20260319T194500
UID:U32041-20260319T184500@EFBOLDENBURG
DESCRIPTION:Ersatz für Ausfall am 12.02.2026
SUMMARY:Pilates für Fortgeschrittene für Teilnehmer*innen mit mehrjähriger Praxis (U32041) 
LOCATION:Ev. Familien-Bildungsstätte, Saal, Gorch-Fock-Str. 5 a, 26135 Oldenburg
END:VEVENT
END:VCALENDAR