BEGIN:VCALENDAR
VERSION:2.0
PRODID:https://www.kufer.de/kuferweb / DE
METHOD:PUBLISH
CALSCALE:GREGORIAN
X-WR-TIMEZONE:Europe/Berlin
BEGIN:VTIMEZONE
TZID:Europe/Berlin
X-LIC-LOCATION:Europe/Berlin
BEGIN:DAYLIGHT
TZOFFSETFROM:+0100
TZOFFSETTO:+0200
TZNAME:CEST
DTSTART:19700329T020000
RRULE:FREQ=YEARLY;INTERVAL=1;BYDAY=-1SU;BYMONTH=3
END:DAYLIGHT
BEGIN:STANDARD
TZOFFSETFROM:+0200
TZOFFSETTO:+0100
TZNAME:CET
DTSTART:19701025T030000
RRULE:FREQ=YEARLY;INTERVAL=1;BYDAY=-1SU;BYMONTH=10
END:STANDARD
END:VTIMEZONE
BEGIN:VEVENT
DTSTAMP:20260421T151405
DTSTART;TZID=Europe/Berlin:20260409T184500
DTEND;TZID=Europe/Berlin:20260409T194500
UID:U32042-20260409T184500@EFBOLDENBURG
SUMMARY:Pilates für Fortgeschrittene für Teilnehmer*innen mit mehrjähriger Praxis (U32042) 
LOCATION:Ev. Familien-Bildungsstätte, Saal, Gorch-Fock-Str. 5 a, 26135 Oldenburg
END:VEVENT
BEGIN:VEVENT
DTSTAMP:20260421T151405
DTSTART;TZID=Europe/Berlin:20260416T184500
DTEND;TZID=Europe/Berlin:20260416T194500
UID:U32042-20260416T184500@EFBOLDENBURG
SUMMARY:Pilates für Fortgeschrittene für Teilnehmer*innen mit mehrjähriger Praxis (U32042) 
LOCATION:Ev. Familien-Bildungsstätte, Saal, Gorch-Fock-Str. 5 a, 26135 Oldenburg
END:VEVENT
BEGIN:VEVENT
DTSTAMP:20260421T151405
DTSTART;TZID=Europe/Berlin:20260423T184500
DTEND;TZID=Europe/Berlin:20260423T194500
UID:U32042-20260423T184500@EFBOLDENBURG
SUMMARY:Pilates für Fortgeschrittene für Teilnehmer*innen mit mehrjähriger Praxis (U32042) 
LOCATION:Ev. Familien-Bildungsstätte, Saal, Gorch-Fock-Str. 5 a, 26135 Oldenburg
END:VEVENT
BEGIN:VEVENT
DTSTAMP:20260421T151405
DTSTART;TZID=Europe/Berlin:20260507T184500
DTEND;TZID=Europe/Berlin:20260507T194500
UID:U32042-20260507T184500@EFBOLDENBURG
SUMMARY:Pilates für Fortgeschrittene für Teilnehmer*innen mit mehrjähriger Praxis (U32042) 
LOCATION:Ev. Familien-Bildungsstätte, Saal, Gorch-Fock-Str. 5 a, 26135 Oldenburg
END:VEVENT
BEGIN:VEVENT
DTSTAMP:20260421T151405
DTSTART;TZID=Europe/Berlin:20260521T184500
DTEND;TZID=Europe/Berlin:20260521T194500
UID:U32042-20260521T184500@EFBOLDENBURG
SUMMARY:Pilates für Fortgeschrittene für Teilnehmer*innen mit mehrjähriger Praxis (U32042) 
LOCATION:Ev. Familien-Bildungsstätte, Saal, Gorch-Fock-Str. 5 a, 26135 Oldenburg
END:VEVENT
BEGIN:VEVENT
DTSTAMP:20260421T151405
DTSTART;TZID=Europe/Berlin:20260528T184500
DTEND;TZID=Europe/Berlin:20260528T194500
UID:U32042-20260528T184500@EFBOLDENBURG
SUMMARY:Pilates für Fortgeschrittene für Teilnehmer*innen mit mehrjähriger Praxis (U32042) 
LOCATION:Ev. Familien-Bildungsstätte, Saal, Gorch-Fock-Str. 5 a, 26135 Oldenburg
END:VEVENT
BEGIN:VEVENT
DTSTAMP:20260421T151405
DTSTART;TZID=Europe/Berlin:20260604T184500
DTEND;TZID=Europe/Berlin:20260604T194500
UID:U32042-20260604T184500@EFBOLDENBURG
SUMMARY:Pilates für Fortgeschrittene für Teilnehmer*innen mit mehrjähriger Praxis (U32042) 
LOCATION:Ev. Familien-Bildungsstätte, Saal, Gorch-Fock-Str. 5 a, 26135 Oldenburg
END:VEVENT
BEGIN:VEVENT
DTSTAMP:20260421T151405
DTSTART;TZID=Europe/Berlin:20260611T184500
DTEND;TZID=Europe/Berlin:20260611T194500
UID:U32042-20260611T184500@EFBOLDENBURG
SUMMARY:Pilates für Fortgeschrittene für Teilnehmer*innen mit mehrjähriger Praxis (U32042) 
LOCATION:Ev. Familien-Bildungsstätte, Saal, Gorch-Fock-Str. 5 a, 26135 Oldenburg
END:VEVENT
BEGIN:VEVENT
DTSTAMP:20260421T151405
DTSTART;TZID=Europe/Berlin:20260618T184500
DTEND;TZID=Europe/Berlin:20260618T194500
UID:U32042-20260618T184500@EFBOLDENBURG
SUMMARY:Pilates für Fortgeschrittene für Teilnehmer*innen mit mehrjähriger Praxis (U32042) 
LOCATION:Ev. Familien-Bildungsstätte, Saal, Gorch-Fock-Str. 5 a, 26135 Oldenburg
END:VEVENT
BEGIN:VEVENT
DTSTAMP:20260421T151405
DTSTART;TZID=Europe/Berlin:20260625T184500
DTEND;TZID=Europe/Berlin:20260625T194500
UID:U32042-20260625T184500@EFBOLDENBURG
DESCRIPTION:Ersatz für Ausfall am 30.04.2026
SUMMARY:Pilates für Fortgeschrittene für Teilnehmer*innen mit mehrjähriger Praxis (U32042) 
LOCATION:Ev. Familien-Bildungsstätte, Saal, Gorch-Fock-Str. 5 a, 26135 Oldenburg
END:VEVENT
END:VCALENDAR