BEGIN:VCALENDAR
VERSION:2.0
PRODID:https://www.kufer.de/kuferweb / DE
METHOD:PUBLISH
CALSCALE:GREGORIAN
X-WR-TIMEZONE:Europe/Berlin
BEGIN:VTIMEZONE
TZID:Europe/Berlin
X-LIC-LOCATION:Europe/Berlin
BEGIN:DAYLIGHT
TZOFFSETFROM:+0100
TZOFFSETTO:+0200
TZNAME:CEST
DTSTART:19700329T020000
RRULE:FREQ=YEARLY;INTERVAL=1;BYDAY=-1SU;BYMONTH=3
END:DAYLIGHT
BEGIN:STANDARD
TZOFFSETFROM:+0200
TZOFFSETTO:+0100
TZNAME:CET
DTSTART:19701025T030000
RRULE:FREQ=YEARLY;INTERVAL=1;BYDAY=-1SU;BYMONTH=10
END:STANDARD
END:VTIMEZONE
BEGIN:VEVENT
DTSTAMP:20260422T010334
DTSTART;TZID=Europe/Berlin:20261029T184500
DTEND;TZID=Europe/Berlin:20261029T194500
UID:U32044-20261029T184500@EFBOLDENBURG
SUMMARY:Pilates für Fortgeschrittene für Teilnehmer*innen mit mehrjähriger Praxis (U32044) 
LOCATION:Ev. Familien-Bildungsstätte, Saal, Gorch-Fock-Str. 5 a, 26135 Oldenburg
END:VEVENT
BEGIN:VEVENT
DTSTAMP:20260422T010334
DTSTART;TZID=Europe/Berlin:20261105T184500
DTEND;TZID=Europe/Berlin:20261105T194500
UID:U32044-20261105T184500@EFBOLDENBURG
SUMMARY:Pilates für Fortgeschrittene für Teilnehmer*innen mit mehrjähriger Praxis (U32044) 
LOCATION:Ev. Familien-Bildungsstätte, Saal, Gorch-Fock-Str. 5 a, 26135 Oldenburg
END:VEVENT
BEGIN:VEVENT
DTSTAMP:20260422T010334
DTSTART;TZID=Europe/Berlin:20261112T184500
DTEND;TZID=Europe/Berlin:20261112T194500
UID:U32044-20261112T184500@EFBOLDENBURG
SUMMARY:Pilates für Fortgeschrittene für Teilnehmer*innen mit mehrjähriger Praxis (U32044) 
LOCATION:Ev. Familien-Bildungsstätte, Saal, Gorch-Fock-Str. 5 a, 26135 Oldenburg
END:VEVENT
BEGIN:VEVENT
DTSTAMP:20260422T010334
DTSTART;TZID=Europe/Berlin:20261119T184500
DTEND;TZID=Europe/Berlin:20261119T194500
UID:U32044-20261119T184500@EFBOLDENBURG
SUMMARY:Pilates für Fortgeschrittene für Teilnehmer*innen mit mehrjähriger Praxis (U32044) 
LOCATION:Ev. Familien-Bildungsstätte, Saal, Gorch-Fock-Str. 5 a, 26135 Oldenburg
END:VEVENT
BEGIN:VEVENT
DTSTAMP:20260422T010334
DTSTART;TZID=Europe/Berlin:20261126T184500
DTEND;TZID=Europe/Berlin:20261126T194500
UID:U32044-20261126T184500@EFBOLDENBURG
SUMMARY:Pilates für Fortgeschrittene für Teilnehmer*innen mit mehrjähriger Praxis (U32044) 
LOCATION:Ev. Familien-Bildungsstätte, Saal, Gorch-Fock-Str. 5 a, 26135 Oldenburg
END:VEVENT
BEGIN:VEVENT
DTSTAMP:20260422T010334
DTSTART;TZID=Europe/Berlin:20261203T184500
DTEND;TZID=Europe/Berlin:20261203T194500
UID:U32044-20261203T184500@EFBOLDENBURG
SUMMARY:Pilates für Fortgeschrittene für Teilnehmer*innen mit mehrjähriger Praxis (U32044) 
LOCATION:Ev. Familien-Bildungsstätte, Saal, Gorch-Fock-Str. 5 a, 26135 Oldenburg
END:VEVENT
BEGIN:VEVENT
DTSTAMP:20260422T010334
DTSTART;TZID=Europe/Berlin:20261210T184500
DTEND;TZID=Europe/Berlin:20261210T194500
UID:U32044-20261210T184500@EFBOLDENBURG
SUMMARY:Pilates für Fortgeschrittene für Teilnehmer*innen mit mehrjähriger Praxis (U32044) 
LOCATION:Ev. Familien-Bildungsstätte, Saal, Gorch-Fock-Str. 5 a, 26135 Oldenburg
END:VEVENT
BEGIN:VEVENT
DTSTAMP:20260422T010334
DTSTART;TZID=Europe/Berlin:20261217T184500
DTEND;TZID=Europe/Berlin:20261217T194500
UID:U32044-20261217T184500@EFBOLDENBURG
SUMMARY:Pilates für Fortgeschrittene für Teilnehmer*innen mit mehrjähriger Praxis (U32044) 
LOCATION:Ev. Familien-Bildungsstätte, Saal, Gorch-Fock-Str. 5 a, 26135 Oldenburg
END:VEVENT
END:VCALENDAR