BEGIN:VCALENDAR
VERSION:2.0
PRODID:https://www.kufer.de/kuferweb / DE
METHOD:PUBLISH
CALSCALE:GREGORIAN
X-WR-TIMEZONE:Europe/Berlin
BEGIN:VTIMEZONE
TZID:Europe/Berlin
X-LIC-LOCATION:Europe/Berlin
BEGIN:DAYLIGHT
TZOFFSETFROM:+0100
TZOFFSETTO:+0200
TZNAME:CEST
DTSTART:19700329T020000
RRULE:FREQ=YEARLY;INTERVAL=1;BYDAY=-1SU;BYMONTH=3
END:DAYLIGHT
BEGIN:STANDARD
TZOFFSETFROM:+0200
TZOFFSETTO:+0100
TZNAME:CET
DTSTART:19701025T030000
RRULE:FREQ=YEARLY;INTERVAL=1;BYDAY=-1SU;BYMONTH=10
END:STANDARD
END:VTIMEZONE
BEGIN:VEVENT
DTSTAMP:20260421T202131
DTSTART;TZID=Europe/Berlin:20260226T090000
DTEND;TZID=Europe/Berlin:20260226T100000
UID:U33001-20260226T090000@EFBOLDENBURG
SUMMARY:Gesundheitsförderndes Qigong (U33001) 
LOCATION:Gemeindehaus Zietenstr., Zietenstr. 8, Zietenstr. 8, 26131 Oldenburg
END:VEVENT
BEGIN:VEVENT
DTSTAMP:20260421T202131
DTSTART;TZID=Europe/Berlin:20260305T090000
DTEND;TZID=Europe/Berlin:20260305T100000
UID:U33001-20260305T090000@EFBOLDENBURG
SUMMARY:Gesundheitsförderndes Qigong (U33001) 
LOCATION:Gemeindehaus Zietenstr., Zietenstr. 8, Zietenstr. 8, 26131 Oldenburg
END:VEVENT
BEGIN:VEVENT
DTSTAMP:20260421T202131
DTSTART;TZID=Europe/Berlin:20260312T090000
DTEND;TZID=Europe/Berlin:20260312T100000
UID:U33001-20260312T090000@EFBOLDENBURG
SUMMARY:Gesundheitsförderndes Qigong (U33001) 
LOCATION:Gemeindehaus Zietenstr., Zietenstr. 8, Zietenstr. 8, 26131 Oldenburg
END:VEVENT
BEGIN:VEVENT
DTSTAMP:20260421T202131
DTSTART;TZID=Europe/Berlin:20260409T090000
DTEND;TZID=Europe/Berlin:20260409T100000
UID:U33001-20260409T090000@EFBOLDENBURG
SUMMARY:Gesundheitsförderndes Qigong (U33001) 
LOCATION:Gemeindehaus Zietenstr., Zietenstr. 8, Zietenstr. 8, 26131 Oldenburg
END:VEVENT
BEGIN:VEVENT
DTSTAMP:20260421T202131
DTSTART;TZID=Europe/Berlin:20260416T090000
DTEND;TZID=Europe/Berlin:20260416T100000
UID:U33001-20260416T090000@EFBOLDENBURG
SUMMARY:Gesundheitsförderndes Qigong (U33001) 
LOCATION:Gemeindehaus Zietenstr., Zietenstr. 8, Zietenstr. 8, 26131 Oldenburg
END:VEVENT
BEGIN:VEVENT
DTSTAMP:20260421T202131
DTSTART;TZID=Europe/Berlin:20260423T090000
DTEND;TZID=Europe/Berlin:20260423T100000
UID:U33001-20260423T090000@EFBOLDENBURG
SUMMARY:Gesundheitsförderndes Qigong (U33001) 
LOCATION:Gemeindehaus Zietenstr., Zietenstr. 8, Zietenstr. 8, 26131 Oldenburg
END:VEVENT
BEGIN:VEVENT
DTSTAMP:20260421T202131
DTSTART;TZID=Europe/Berlin:20260430T090000
DTEND;TZID=Europe/Berlin:20260430T100000
UID:U33001-20260430T090000@EFBOLDENBURG
SUMMARY:Gesundheitsförderndes Qigong (U33001) 
LOCATION:Gemeindehaus Zietenstr., Zietenstr. 8, Zietenstr. 8, 26131 Oldenburg
END:VEVENT
BEGIN:VEVENT
DTSTAMP:20260421T202131
DTSTART;TZID=Europe/Berlin:20260507T090000
DTEND;TZID=Europe/Berlin:20260507T100000
UID:U33001-20260507T090000@EFBOLDENBURG
SUMMARY:Gesundheitsförderndes Qigong (U33001) 
LOCATION:Gemeindehaus Zietenstr., Zietenstr. 8, Zietenstr. 8, 26131 Oldenburg
END:VEVENT
BEGIN:VEVENT
DTSTAMP:20260421T202131
DTSTART;TZID=Europe/Berlin:20260521T090000
DTEND;TZID=Europe/Berlin:20260521T100000
UID:U33001-20260521T090000@EFBOLDENBURG
SUMMARY:Gesundheitsförderndes Qigong (U33001) 
LOCATION:Gemeindehaus Zietenstr., Zietenstr. 8, Zietenstr. 8, 26131 Oldenburg
END:VEVENT
BEGIN:VEVENT
DTSTAMP:20260421T202131
DTSTART;TZID=Europe/Berlin:20260604T090000
DTEND;TZID=Europe/Berlin:20260604T100000
UID:U33001-20260604T090000@EFBOLDENBURG
DESCRIPTION:Ersatz für Ausfall am 19.03.2026 Ersatz für Ausfall am 28.05.2026
SUMMARY:Gesundheitsförderndes Qigong (U33001) 
LOCATION:Gemeindehaus Zietenstr., Zietenstr. 8, Zietenstr. 8, 26131 Oldenburg
END:VEVENT
END:VCALENDAR