BEGIN:VCALENDAR
VERSION:2.0
PRODID:https://www.kufer.de/kuferweb / DE
METHOD:PUBLISH
CALSCALE:GREGORIAN
X-WR-TIMEZONE:Europe/Berlin
BEGIN:VTIMEZONE
TZID:Europe/Berlin
X-LIC-LOCATION:Europe/Berlin
BEGIN:DAYLIGHT
TZOFFSETFROM:+0100
TZOFFSETTO:+0200
TZNAME:CEST
DTSTART:19700329T020000
RRULE:FREQ=YEARLY;INTERVAL=1;BYDAY=-1SU;BYMONTH=3
END:DAYLIGHT
BEGIN:STANDARD
TZOFFSETFROM:+0200
TZOFFSETTO:+0100
TZNAME:CET
DTSTART:19701025T030000
RRULE:FREQ=YEARLY;INTERVAL=1;BYDAY=-1SU;BYMONTH=10
END:STANDARD
END:VTIMEZONE
BEGIN:VEVENT
DTSTAMP:20260422T043201
DTSTART;TZID=Europe/Berlin:20260226T101500
DTEND;TZID=Europe/Berlin:20260226T111500
UID:U33002-20260226T101500@EFBOLDENBURG
SUMMARY:Gesundheitsförderndes Qigong (U33002) 
LOCATION:Gemeindehaus Zietenstr., Zietenstr. 8, Zietenstr. 8, 26131 Oldenburg
END:VEVENT
BEGIN:VEVENT
DTSTAMP:20260422T043201
DTSTART;TZID=Europe/Berlin:20260305T101500
DTEND;TZID=Europe/Berlin:20260305T111500
UID:U33002-20260305T101500@EFBOLDENBURG
SUMMARY:Gesundheitsförderndes Qigong (U33002) 
LOCATION:Gemeindehaus Zietenstr., Zietenstr. 8, Zietenstr. 8, 26131 Oldenburg
END:VEVENT
BEGIN:VEVENT
DTSTAMP:20260422T043201
DTSTART;TZID=Europe/Berlin:20260312T101500
DTEND;TZID=Europe/Berlin:20260312T111500
UID:U33002-20260312T101500@EFBOLDENBURG
SUMMARY:Gesundheitsförderndes Qigong (U33002) 
LOCATION:Gemeindehaus Zietenstr., Zietenstr. 8, Zietenstr. 8, 26131 Oldenburg
END:VEVENT
BEGIN:VEVENT
DTSTAMP:20260422T043201
DTSTART;TZID=Europe/Berlin:20260409T101500
DTEND;TZID=Europe/Berlin:20260409T111500
UID:U33002-20260409T101500@EFBOLDENBURG
SUMMARY:Gesundheitsförderndes Qigong (U33002) 
LOCATION:Gemeindehaus Zietenstr., Zietenstr. 8, Zietenstr. 8, 26131 Oldenburg
END:VEVENT
BEGIN:VEVENT
DTSTAMP:20260422T043201
DTSTART;TZID=Europe/Berlin:20260416T101500
DTEND;TZID=Europe/Berlin:20260416T111500
UID:U33002-20260416T101500@EFBOLDENBURG
SUMMARY:Gesundheitsförderndes Qigong (U33002) 
LOCATION:Gemeindehaus Zietenstr., Zietenstr. 8, Zietenstr. 8, 26131 Oldenburg
END:VEVENT
BEGIN:VEVENT
DTSTAMP:20260422T043201
DTSTART;TZID=Europe/Berlin:20260423T101500
DTEND;TZID=Europe/Berlin:20260423T111500
UID:U33002-20260423T101500@EFBOLDENBURG
SUMMARY:Gesundheitsförderndes Qigong (U33002) 
LOCATION:Gemeindehaus Zietenstr., Zietenstr. 8, Zietenstr. 8, 26131 Oldenburg
END:VEVENT
BEGIN:VEVENT
DTSTAMP:20260422T043201
DTSTART;TZID=Europe/Berlin:20260430T101500
DTEND;TZID=Europe/Berlin:20260430T111500
UID:U33002-20260430T101500@EFBOLDENBURG
SUMMARY:Gesundheitsförderndes Qigong (U33002) 
LOCATION:Gemeindehaus Zietenstr., Zietenstr. 8, Zietenstr. 8, 26131 Oldenburg
END:VEVENT
BEGIN:VEVENT
DTSTAMP:20260422T043201
DTSTART;TZID=Europe/Berlin:20260507T101500
DTEND;TZID=Europe/Berlin:20260507T111500
UID:U33002-20260507T101500@EFBOLDENBURG
SUMMARY:Gesundheitsförderndes Qigong (U33002) 
LOCATION:Gemeindehaus Zietenstr., Zietenstr. 8, Zietenstr. 8, 26131 Oldenburg
END:VEVENT
BEGIN:VEVENT
DTSTAMP:20260422T043201
DTSTART;TZID=Europe/Berlin:20260521T101500
DTEND;TZID=Europe/Berlin:20260521T111500
UID:U33002-20260521T101500@EFBOLDENBURG
SUMMARY:Gesundheitsförderndes Qigong (U33002) 
LOCATION:Gemeindehaus Zietenstr., Zietenstr. 8, Zietenstr. 8, 26131 Oldenburg
END:VEVENT
BEGIN:VEVENT
DTSTAMP:20260422T043201
DTSTART;TZID=Europe/Berlin:20260604T101500
DTEND;TZID=Europe/Berlin:20260604T111500
UID:U33002-20260604T101500@EFBOLDENBURG
DESCRIPTION:Ersatz für Ausfall am 19.03.2026 Ersatz für Ausfall am 28.05.2026
SUMMARY:Gesundheitsförderndes Qigong (U33002) 
LOCATION:Gemeindehaus Zietenstr., Zietenstr. 8, Zietenstr. 8, 26131 Oldenburg
END:VEVENT
END:VCALENDAR