BEGIN:VCALENDAR
VERSION:2.0
PRODID:https://www.kufer.de/kuferweb / DE
METHOD:PUBLISH
CALSCALE:GREGORIAN
X-WR-TIMEZONE:Europe/Berlin
BEGIN:VTIMEZONE
TZID:Europe/Berlin
X-LIC-LOCATION:Europe/Berlin
BEGIN:DAYLIGHT
TZOFFSETFROM:+0100
TZOFFSETTO:+0200
TZNAME:CEST
DTSTART:19700329T020000
RRULE:FREQ=YEARLY;INTERVAL=1;BYDAY=-1SU;BYMONTH=3
END:DAYLIGHT
BEGIN:STANDARD
TZOFFSETFROM:+0200
TZOFFSETTO:+0100
TZNAME:CET
DTSTART:19701025T030000
RRULE:FREQ=YEARLY;INTERVAL=1;BYDAY=-1SU;BYMONTH=10
END:STANDARD
END:VTIMEZONE
BEGIN:VEVENT
DTSTAMP:20260421T181418
DTSTART;TZID=Europe/Berlin:20260119T180000
DTEND;TZID=Europe/Berlin:20260119T193000
UID:U33015-EEB-20260119T180000@EFBOLDENBURG
SUMMARY:Hatha-Yoga mit Musik (U33015-EEB) 
LOCATION:Ev. Familien-Bildungsstätte, Kinderraum, Gorch-Fock-Str. 5 a, 26135 Oldenburg
END:VEVENT
BEGIN:VEVENT
DTSTAMP:20260421T181418
DTSTART;TZID=Europe/Berlin:20260126T180000
DTEND;TZID=Europe/Berlin:20260126T193000
UID:U33015-EEB-20260126T180000@EFBOLDENBURG
SUMMARY:Hatha-Yoga mit Musik (U33015-EEB) 
LOCATION:Ev. Familien-Bildungsstätte, Kinderraum, Gorch-Fock-Str. 5 a, 26135 Oldenburg
END:VEVENT
BEGIN:VEVENT
DTSTAMP:20260421T181418
DTSTART;TZID=Europe/Berlin:20260209T180000
DTEND;TZID=Europe/Berlin:20260209T193000
UID:U33015-EEB-20260209T180000@EFBOLDENBURG
SUMMARY:Hatha-Yoga mit Musik (U33015-EEB) 
LOCATION:Ev. Familien-Bildungsstätte, Kinderraum, Gorch-Fock-Str. 5 a, 26135 Oldenburg
END:VEVENT
BEGIN:VEVENT
DTSTAMP:20260421T181418
DTSTART;TZID=Europe/Berlin:20260216T180000
DTEND;TZID=Europe/Berlin:20260216T193000
UID:U33015-EEB-20260216T180000@EFBOLDENBURG
SUMMARY:Hatha-Yoga mit Musik (U33015-EEB) 
LOCATION:Ev. Familien-Bildungsstätte, Kinderraum, Gorch-Fock-Str. 5 a, 26135 Oldenburg
END:VEVENT
BEGIN:VEVENT
DTSTAMP:20260421T181418
DTSTART;TZID=Europe/Berlin:20260223T180000
DTEND;TZID=Europe/Berlin:20260223T193000
UID:U33015-EEB-20260223T180000@EFBOLDENBURG
SUMMARY:Hatha-Yoga mit Musik (U33015-EEB) 
LOCATION:Ev. Familien-Bildungsstätte, Kinderraum, Gorch-Fock-Str. 5 a, 26135 Oldenburg
END:VEVENT
BEGIN:VEVENT
DTSTAMP:20260421T181418
DTSTART;TZID=Europe/Berlin:20260302T180000
DTEND;TZID=Europe/Berlin:20260302T193000
UID:U33015-EEB-20260302T180000@EFBOLDENBURG
SUMMARY:Hatha-Yoga mit Musik (U33015-EEB) 
LOCATION:Ev. Familien-Bildungsstätte, Kinderraum, Gorch-Fock-Str. 5 a, 26135 Oldenburg
END:VEVENT
BEGIN:VEVENT
DTSTAMP:20260421T181418
DTSTART;TZID=Europe/Berlin:20260309T180000
DTEND;TZID=Europe/Berlin:20260309T193000
UID:U33015-EEB-20260309T180000@EFBOLDENBURG
SUMMARY:Hatha-Yoga mit Musik (U33015-EEB) 
LOCATION:Ev. Familien-Bildungsstätte, Kinderraum, Gorch-Fock-Str. 5 a, 26135 Oldenburg
END:VEVENT
BEGIN:VEVENT
DTSTAMP:20260421T181418
DTSTART;TZID=Europe/Berlin:20260316T180000
DTEND;TZID=Europe/Berlin:20260316T193000
UID:U33015-EEB-20260316T180000@EFBOLDENBURG
SUMMARY:Hatha-Yoga mit Musik (U33015-EEB) 
LOCATION:Ev. Familien-Bildungsstätte, Kinderraum, Gorch-Fock-Str. 5 a, 26135 Oldenburg
END:VEVENT
BEGIN:VEVENT
DTSTAMP:20260421T181418
DTSTART;TZID=Europe/Berlin:20260413T180000
DTEND;TZID=Europe/Berlin:20260413T193000
UID:U33015-EEB-20260413T180000@EFBOLDENBURG
DESCRIPTION:Ersatz für Ausfall am 12.01.2026
SUMMARY:Hatha-Yoga mit Musik (U33015-EEB) 
LOCATION:Ev. Familien-Bildungsstätte, Kinderraum, Gorch-Fock-Str. 5 a, 26135 Oldenburg
END:VEVENT
END:VCALENDAR