BEGIN:VCALENDAR
VERSION:2.0
PRODID:https://www.kufer.de/kuferweb / DE
METHOD:PUBLISH
CALSCALE:GREGORIAN
X-WR-TIMEZONE:Europe/Berlin
BEGIN:VTIMEZONE
TZID:Europe/Berlin
X-LIC-LOCATION:Europe/Berlin
BEGIN:DAYLIGHT
TZOFFSETFROM:+0100
TZOFFSETTO:+0200
TZNAME:CEST
DTSTART:19700329T020000
RRULE:FREQ=YEARLY;INTERVAL=1;BYDAY=-1SU;BYMONTH=3
END:DAYLIGHT
BEGIN:STANDARD
TZOFFSETFROM:+0200
TZOFFSETTO:+0100
TZNAME:CET
DTSTART:19701025T030000
RRULE:FREQ=YEARLY;INTERVAL=1;BYDAY=-1SU;BYMONTH=10
END:STANDARD
END:VTIMEZONE
BEGIN:VEVENT
DTSTAMP:20260421T203121
DTSTART;TZID=Europe/Berlin:20260112T183000
DTEND;TZID=Europe/Berlin:20260112T194500
UID:U33020-EEB-20260112T183000@EFBOLDENBURG
SUMMARY:Viniyoga im Lukas-Haus (U33020-EEB) 
LOCATION:Gemeindehaus Lukas, Helmsweg 21, Helmsweg 21, 26135 Oldenburg
END:VEVENT
BEGIN:VEVENT
DTSTAMP:20260421T203121
DTSTART;TZID=Europe/Berlin:20260119T183000
DTEND;TZID=Europe/Berlin:20260119T194500
UID:U33020-EEB-20260119T183000@EFBOLDENBURG
SUMMARY:Viniyoga im Lukas-Haus (U33020-EEB) 
LOCATION:Gemeindehaus Lukas, Helmsweg 21, Helmsweg 21, 26135 Oldenburg
END:VEVENT
BEGIN:VEVENT
DTSTAMP:20260421T203121
DTSTART;TZID=Europe/Berlin:20260126T183000
DTEND;TZID=Europe/Berlin:20260126T194500
UID:U33020-EEB-20260126T183000@EFBOLDENBURG
SUMMARY:Viniyoga im Lukas-Haus (U33020-EEB) 
LOCATION:Gemeindehaus Lukas, Helmsweg 21, Helmsweg 21, 26135 Oldenburg
END:VEVENT
BEGIN:VEVENT
DTSTAMP:20260421T203121
DTSTART;TZID=Europe/Berlin:20260209T183000
DTEND;TZID=Europe/Berlin:20260209T194500
UID:U33020-EEB-20260209T183000@EFBOLDENBURG
SUMMARY:Viniyoga im Lukas-Haus (U33020-EEB) 
LOCATION:Gemeindehaus Lukas, Helmsweg 21, Helmsweg 21, 26135 Oldenburg
END:VEVENT
BEGIN:VEVENT
DTSTAMP:20260421T203121
DTSTART;TZID=Europe/Berlin:20260216T183000
DTEND;TZID=Europe/Berlin:20260216T194500
UID:U33020-EEB-20260216T183000@EFBOLDENBURG
SUMMARY:Viniyoga im Lukas-Haus (U33020-EEB) 
LOCATION:Gemeindehaus Lukas, Helmsweg 21, Helmsweg 21, 26135 Oldenburg
END:VEVENT
BEGIN:VEVENT
DTSTAMP:20260421T203121
DTSTART;TZID=Europe/Berlin:20260223T183000
DTEND;TZID=Europe/Berlin:20260223T194500
UID:U33020-EEB-20260223T183000@EFBOLDENBURG
SUMMARY:Viniyoga im Lukas-Haus (U33020-EEB) 
LOCATION:Gemeindehaus Lukas, Helmsweg 21, Helmsweg 21, 26135 Oldenburg
END:VEVENT
BEGIN:VEVENT
DTSTAMP:20260421T203121
DTSTART;TZID=Europe/Berlin:20260302T183000
DTEND;TZID=Europe/Berlin:20260302T194500
UID:U33020-EEB-20260302T183000@EFBOLDENBURG
SUMMARY:Viniyoga im Lukas-Haus (U33020-EEB) 
LOCATION:Gemeindehaus Lukas, Helmsweg 21, Helmsweg 21, 26135 Oldenburg
END:VEVENT
BEGIN:VEVENT
DTSTAMP:20260421T203121
DTSTART;TZID=Europe/Berlin:20260309T183000
DTEND;TZID=Europe/Berlin:20260309T194500
UID:U33020-EEB-20260309T183000@EFBOLDENBURG
SUMMARY:Viniyoga im Lukas-Haus (U33020-EEB) 
LOCATION:Gemeindehaus Lukas, Helmsweg 21, Helmsweg 21, 26135 Oldenburg
END:VEVENT
BEGIN:VEVENT
DTSTAMP:20260421T203121
DTSTART;TZID=Europe/Berlin:20260316T183000
DTEND;TZID=Europe/Berlin:20260316T194500
UID:U33020-EEB-20260316T183000@EFBOLDENBURG
SUMMARY:Viniyoga im Lukas-Haus (U33020-EEB) 
LOCATION:Gemeindehaus Lukas, Helmsweg 21, Helmsweg 21, 26135 Oldenburg
END:VEVENT
END:VCALENDAR