BEGIN:VCALENDAR
VERSION:2.0
PRODID:https://www.kufer.de/kuferweb / DE
METHOD:PUBLISH
CALSCALE:GREGORIAN
X-WR-TIMEZONE:Europe/Berlin
BEGIN:VTIMEZONE
TZID:Europe/Berlin
X-LIC-LOCATION:Europe/Berlin
BEGIN:DAYLIGHT
TZOFFSETFROM:+0100
TZOFFSETTO:+0200
TZNAME:CEST
DTSTART:19700329T020000
RRULE:FREQ=YEARLY;INTERVAL=1;BYDAY=-1SU;BYMONTH=3
END:DAYLIGHT
BEGIN:STANDARD
TZOFFSETFROM:+0200
TZOFFSETTO:+0100
TZNAME:CET
DTSTART:19701025T030000
RRULE:FREQ=YEARLY;INTERVAL=1;BYDAY=-1SU;BYMONTH=10
END:STANDARD
END:VTIMEZONE
BEGIN:VEVENT
DTSTAMP:20260421T185757
DTSTART;TZID=Europe/Berlin:20260817T183000
DTEND;TZID=Europe/Berlin:20260817T194500
UID:U33022-EEB-20260817T183000@EFBOLDENBURG
SUMMARY:Viniyoga im Lukas-Haus (U33022-EEB) 
LOCATION:Gemeindehaus Lukas, Helmsweg 21, Helmsweg 21, 26135 Oldenburg
END:VEVENT
BEGIN:VEVENT
DTSTAMP:20260421T185757
DTSTART;TZID=Europe/Berlin:20260824T183000
DTEND;TZID=Europe/Berlin:20260824T194500
UID:U33022-EEB-20260824T183000@EFBOLDENBURG
SUMMARY:Viniyoga im Lukas-Haus (U33022-EEB) 
LOCATION:Gemeindehaus Lukas, Helmsweg 21, Helmsweg 21, 26135 Oldenburg
END:VEVENT
BEGIN:VEVENT
DTSTAMP:20260421T185757
DTSTART;TZID=Europe/Berlin:20260831T183000
DTEND;TZID=Europe/Berlin:20260831T194500
UID:U33022-EEB-20260831T183000@EFBOLDENBURG
SUMMARY:Viniyoga im Lukas-Haus (U33022-EEB) 
LOCATION:Gemeindehaus Lukas, Helmsweg 21, Helmsweg 21, 26135 Oldenburg
END:VEVENT
BEGIN:VEVENT
DTSTAMP:20260421T185757
DTSTART;TZID=Europe/Berlin:20260907T183000
DTEND;TZID=Europe/Berlin:20260907T194500
UID:U33022-EEB-20260907T183000@EFBOLDENBURG
SUMMARY:Viniyoga im Lukas-Haus (U33022-EEB) 
LOCATION:Gemeindehaus Lukas, Helmsweg 21, Helmsweg 21, 26135 Oldenburg
END:VEVENT
BEGIN:VEVENT
DTSTAMP:20260421T185757
DTSTART;TZID=Europe/Berlin:20260914T183000
DTEND;TZID=Europe/Berlin:20260914T194500
UID:U33022-EEB-20260914T183000@EFBOLDENBURG
SUMMARY:Viniyoga im Lukas-Haus (U33022-EEB) 
LOCATION:Gemeindehaus Lukas, Helmsweg 21, Helmsweg 21, 26135 Oldenburg
END:VEVENT
BEGIN:VEVENT
DTSTAMP:20260421T185757
DTSTART;TZID=Europe/Berlin:20260921T183000
DTEND;TZID=Europe/Berlin:20260921T194500
UID:U33022-EEB-20260921T183000@EFBOLDENBURG
SUMMARY:Viniyoga im Lukas-Haus (U33022-EEB) 
LOCATION:Gemeindehaus Lukas, Helmsweg 21, Helmsweg 21, 26135 Oldenburg
END:VEVENT
BEGIN:VEVENT
DTSTAMP:20260421T185757
DTSTART;TZID=Europe/Berlin:20260928T183000
DTEND;TZID=Europe/Berlin:20260928T194500
UID:U33022-EEB-20260928T183000@EFBOLDENBURG
SUMMARY:Viniyoga im Lukas-Haus (U33022-EEB) 
LOCATION:Gemeindehaus Lukas, Helmsweg 21, Helmsweg 21, 26135 Oldenburg
END:VEVENT
BEGIN:VEVENT
DTSTAMP:20260421T185757
DTSTART;TZID=Europe/Berlin:20261005T183000
DTEND;TZID=Europe/Berlin:20261005T194500
UID:U33022-EEB-20261005T183000@EFBOLDENBURG
SUMMARY:Viniyoga im Lukas-Haus (U33022-EEB) 
LOCATION:Gemeindehaus Lukas, Helmsweg 21, Helmsweg 21, 26135 Oldenburg
END:VEVENT
END:VCALENDAR