BEGIN:VCALENDAR
VERSION:2.0
PRODID:https://www.kufer.de/kuferweb / DE
METHOD:PUBLISH
CALSCALE:GREGORIAN
X-WR-TIMEZONE:Europe/Berlin
BEGIN:VTIMEZONE
TZID:Europe/Berlin
X-LIC-LOCATION:Europe/Berlin
BEGIN:DAYLIGHT
TZOFFSETFROM:+0100
TZOFFSETTO:+0200
TZNAME:CEST
DTSTART:19700329T020000
RRULE:FREQ=YEARLY;INTERVAL=1;BYDAY=-1SU;BYMONTH=3
END:DAYLIGHT
BEGIN:STANDARD
TZOFFSETFROM:+0200
TZOFFSETTO:+0100
TZNAME:CET
DTSTART:19701025T030000
RRULE:FREQ=YEARLY;INTERVAL=1;BYDAY=-1SU;BYMONTH=10
END:STANDARD
END:VTIMEZONE
BEGIN:VEVENT
DTSTAMP:20260421T184747
DTSTART;TZID=Europe/Berlin:20260127T200000
DTEND;TZID=Europe/Berlin:20260127T213000
UID:U33024PEEB-20260127T200000@EFBOLDENBURG
SUMMARY:Hatha-Yoga (U33024PEEB) 
LOCATION:Ev. Familien-Bildungsstätte, Saal, Gorch-Fock-Str. 5 a, 26135 Oldenburg
END:VEVENT
BEGIN:VEVENT
DTSTAMP:20260421T184747
DTSTART;TZID=Europe/Berlin:20260203T200000
DTEND;TZID=Europe/Berlin:20260203T213000
UID:U33024PEEB-20260203T200000@EFBOLDENBURG
SUMMARY:Hatha-Yoga (U33024PEEB) 
LOCATION:Ev. Familien-Bildungsstätte, Saal, Gorch-Fock-Str. 5 a, 26135 Oldenburg
END:VEVENT
BEGIN:VEVENT
DTSTAMP:20260421T184747
DTSTART;TZID=Europe/Berlin:20260210T200000
DTEND;TZID=Europe/Berlin:20260210T213000
UID:U33024PEEB-20260210T200000@EFBOLDENBURG
SUMMARY:Hatha-Yoga (U33024PEEB) 
LOCATION:Ev. Familien-Bildungsstätte, Saal, Gorch-Fock-Str. 5 a, 26135 Oldenburg
END:VEVENT
BEGIN:VEVENT
DTSTAMP:20260421T184747
DTSTART;TZID=Europe/Berlin:20260217T200000
DTEND;TZID=Europe/Berlin:20260217T213000
UID:U33024PEEB-20260217T200000@EFBOLDENBURG
SUMMARY:Hatha-Yoga (U33024PEEB) 
LOCATION:Ev. Familien-Bildungsstätte, Saal, Gorch-Fock-Str. 5 a, 26135 Oldenburg
END:VEVENT
BEGIN:VEVENT
DTSTAMP:20260421T184747
DTSTART;TZID=Europe/Berlin:20260224T200000
DTEND;TZID=Europe/Berlin:20260224T213000
UID:U33024PEEB-20260224T200000@EFBOLDENBURG
SUMMARY:Hatha-Yoga (U33024PEEB) 
LOCATION:Ev. Familien-Bildungsstätte, Saal, Gorch-Fock-Str. 5 a, 26135 Oldenburg
END:VEVENT
BEGIN:VEVENT
DTSTAMP:20260421T184747
DTSTART;TZID=Europe/Berlin:20260303T200000
DTEND;TZID=Europe/Berlin:20260303T213000
UID:U33024PEEB-20260303T200000@EFBOLDENBURG
SUMMARY:Hatha-Yoga (U33024PEEB) 
LOCATION:Ev. Familien-Bildungsstätte, Saal, Gorch-Fock-Str. 5 a, 26135 Oldenburg
END:VEVENT
BEGIN:VEVENT
DTSTAMP:20260421T184747
DTSTART;TZID=Europe/Berlin:20260310T200000
DTEND;TZID=Europe/Berlin:20260310T213000
UID:U33024PEEB-20260310T200000@EFBOLDENBURG
SUMMARY:Hatha-Yoga (U33024PEEB) 
LOCATION:Ev. Familien-Bildungsstätte, Saal, Gorch-Fock-Str. 5 a, 26135 Oldenburg
END:VEVENT
BEGIN:VEVENT
DTSTAMP:20260421T184747
DTSTART;TZID=Europe/Berlin:20260317T200000
DTEND;TZID=Europe/Berlin:20260317T213000
UID:U33024PEEB-20260317T200000@EFBOLDENBURG
SUMMARY:Hatha-Yoga (U33024PEEB) 
LOCATION:Ev. Familien-Bildungsstätte, Saal, Gorch-Fock-Str. 5 a, 26135 Oldenburg
END:VEVENT
BEGIN:VEVENT
DTSTAMP:20260421T184747
DTSTART;TZID=Europe/Berlin:20260407T200000
DTEND;TZID=Europe/Berlin:20260407T213000
UID:U33024PEEB-20260407T200000@EFBOLDENBURG
DESCRIPTION:Ersatz für Ausfall am 31.03.2026
SUMMARY:Hatha-Yoga (U33024PEEB) 
LOCATION:Ev. Familien-Bildungsstätte, Saal, Gorch-Fock-Str. 5 a, 26135 Oldenburg
END:VEVENT
BEGIN:VEVENT
DTSTAMP:20260421T184747
DTSTART;TZID=Europe/Berlin:20260414T200000
DTEND;TZID=Europe/Berlin:20260414T213000
UID:U33024PEEB-20260414T200000@EFBOLDENBURG
SUMMARY:Hatha-Yoga (U33024PEEB) 
LOCATION:Ev. Familien-Bildungsstätte, Saal, Gorch-Fock-Str. 5 a, 26135 Oldenburg
END:VEVENT
BEGIN:VEVENT
DTSTAMP:20260421T184747
DTSTART;TZID=Europe/Berlin:20260421T200000
DTEND;TZID=Europe/Berlin:20260421T213000
UID:U33024PEEB-20260421T200000@EFBOLDENBURG
DESCRIPTION:Ersatz für Ausfall am 07.04.2026
SUMMARY:Hatha-Yoga (U33024PEEB) 
LOCATION:Ev. Familien-Bildungsstätte, Saal, Gorch-Fock-Str. 5 a, 26135 Oldenburg
END:VEVENT
BEGIN:VEVENT
DTSTAMP:20260421T184747
DTSTART;TZID=Europe/Berlin:20260428T200000
DTEND;TZID=Europe/Berlin:20260428T213000
UID:U33024PEEB-20260428T200000@EFBOLDENBURG
SUMMARY:Hatha-Yoga (U33024PEEB) 
LOCATION:Ev. Familien-Bildungsstätte, Saal, Gorch-Fock-Str. 5 a, 26135 Oldenburg
END:VEVENT
END:VCALENDAR