BEGIN:VCALENDAR
VERSION:2.0
PRODID:https://www.kufer.de/kuferweb / DE
METHOD:PUBLISH
CALSCALE:GREGORIAN
X-WR-TIMEZONE:Europe/Berlin
BEGIN:VTIMEZONE
TZID:Europe/Berlin
X-LIC-LOCATION:Europe/Berlin
BEGIN:DAYLIGHT
TZOFFSETFROM:+0100
TZOFFSETTO:+0200
TZNAME:CEST
DTSTART:19700329T020000
RRULE:FREQ=YEARLY;INTERVAL=1;BYDAY=-1SU;BYMONTH=3
END:DAYLIGHT
BEGIN:STANDARD
TZOFFSETFROM:+0200
TZOFFSETTO:+0100
TZNAME:CET
DTSTART:19701025T030000
RRULE:FREQ=YEARLY;INTERVAL=1;BYDAY=-1SU;BYMONTH=10
END:STANDARD
END:VTIMEZONE
BEGIN:VEVENT
DTSTAMP:20260421T202237
DTSTART;TZID=Europe/Berlin:20261027T200000
DTEND;TZID=Europe/Berlin:20261027T213000
UID:U33030-EEB-20261027T200000@EFBOLDENBURG
SUMMARY:Hatha-Yoga (U33030-EEB) 
LOCATION:Ev. Familien-Bildungsstätte, Saal, Gorch-Fock-Str. 5 a, 26135 Oldenburg
END:VEVENT
BEGIN:VEVENT
DTSTAMP:20260421T202237
DTSTART;TZID=Europe/Berlin:20261103T200000
DTEND;TZID=Europe/Berlin:20261103T213000
UID:U33030-EEB-20261103T200000@EFBOLDENBURG
SUMMARY:Hatha-Yoga (U33030-EEB) 
LOCATION:Ev. Familien-Bildungsstätte, Saal, Gorch-Fock-Str. 5 a, 26135 Oldenburg
END:VEVENT
BEGIN:VEVENT
DTSTAMP:20260421T202237
DTSTART;TZID=Europe/Berlin:20261110T200000
DTEND;TZID=Europe/Berlin:20261110T213000
UID:U33030-EEB-20261110T200000@EFBOLDENBURG
SUMMARY:Hatha-Yoga (U33030-EEB) 
LOCATION:Ev. Familien-Bildungsstätte, Saal, Gorch-Fock-Str. 5 a, 26135 Oldenburg
END:VEVENT
BEGIN:VEVENT
DTSTAMP:20260421T202237
DTSTART;TZID=Europe/Berlin:20261117T200000
DTEND;TZID=Europe/Berlin:20261117T213000
UID:U33030-EEB-20261117T200000@EFBOLDENBURG
SUMMARY:Hatha-Yoga (U33030-EEB) 
LOCATION:Ev. Familien-Bildungsstätte, Saal, Gorch-Fock-Str. 5 a, 26135 Oldenburg
END:VEVENT
BEGIN:VEVENT
DTSTAMP:20260421T202237
DTSTART;TZID=Europe/Berlin:20261124T200000
DTEND;TZID=Europe/Berlin:20261124T213000
UID:U33030-EEB-20261124T200000@EFBOLDENBURG
SUMMARY:Hatha-Yoga (U33030-EEB) 
LOCATION:Ev. Familien-Bildungsstätte, Saal, Gorch-Fock-Str. 5 a, 26135 Oldenburg
END:VEVENT
BEGIN:VEVENT
DTSTAMP:20260421T202237
DTSTART;TZID=Europe/Berlin:20261201T200000
DTEND;TZID=Europe/Berlin:20261201T213000
UID:U33030-EEB-20261201T200000@EFBOLDENBURG
SUMMARY:Hatha-Yoga (U33030-EEB) 
LOCATION:Ev. Familien-Bildungsstätte, Saal, Gorch-Fock-Str. 5 a, 26135 Oldenburg
END:VEVENT
BEGIN:VEVENT
DTSTAMP:20260421T202237
DTSTART;TZID=Europe/Berlin:20261208T200000
DTEND;TZID=Europe/Berlin:20261208T213000
UID:U33030-EEB-20261208T200000@EFBOLDENBURG
SUMMARY:Hatha-Yoga (U33030-EEB) 
LOCATION:Ev. Familien-Bildungsstätte, Saal, Gorch-Fock-Str. 5 a, 26135 Oldenburg
END:VEVENT
BEGIN:VEVENT
DTSTAMP:20260421T202237
DTSTART;TZID=Europe/Berlin:20261215T200000
DTEND;TZID=Europe/Berlin:20261215T213000
UID:U33030-EEB-20261215T200000@EFBOLDENBURG
SUMMARY:Hatha-Yoga (U33030-EEB) 
LOCATION:Ev. Familien-Bildungsstätte, Saal, Gorch-Fock-Str. 5 a, 26135 Oldenburg
END:VEVENT
BEGIN:VEVENT
DTSTAMP:20260421T202237
DTSTART;TZID=Europe/Berlin:20261222T200000
DTEND;TZID=Europe/Berlin:20261222T213000
UID:U33030-EEB-20261222T200000@EFBOLDENBURG
SUMMARY:Hatha-Yoga (U33030-EEB) 
LOCATION:Ev. Familien-Bildungsstätte, Saal, Gorch-Fock-Str. 5 a, 26135 Oldenburg
END:VEVENT
END:VCALENDAR