BEGIN:VCALENDAR
VERSION:2.0
PRODID:https://www.kufer.de/kuferweb / DE
METHOD:PUBLISH
CALSCALE:GREGORIAN
X-WR-TIMEZONE:Europe/Berlin
BEGIN:VTIMEZONE
TZID:Europe/Berlin
X-LIC-LOCATION:Europe/Berlin
BEGIN:DAYLIGHT
TZOFFSETFROM:+0100
TZOFFSETTO:+0200
TZNAME:CEST
DTSTART:19700329T020000
RRULE:FREQ=YEARLY;INTERVAL=1;BYDAY=-1SU;BYMONTH=3
END:DAYLIGHT
BEGIN:STANDARD
TZOFFSETFROM:+0200
TZOFFSETTO:+0100
TZNAME:CET
DTSTART:19701025T030000
RRULE:FREQ=YEARLY;INTERVAL=1;BYDAY=-1SU;BYMONTH=10
END:STANDARD
END:VTIMEZONE
BEGIN:VEVENT
DTSTAMP:20260421T201341
DTSTART;TZID=Europe/Berlin:20260226T091500
DTEND;TZID=Europe/Berlin:20260226T104500
UID:U33035-EEB-20260226T091500@EFBOLDENBURG
SUMMARY:Achtsamer Yoga (U33035-EEB) 
LOCATION:Ev. Familien-Bildungsstätte, Saal, Gorch-Fock-Str. 5 a, 26135 Oldenburg
END:VEVENT
BEGIN:VEVENT
DTSTAMP:20260421T201341
DTSTART;TZID=Europe/Berlin:20260305T091500
DTEND;TZID=Europe/Berlin:20260305T104500
UID:U33035-EEB-20260305T091500@EFBOLDENBURG
SUMMARY:Achtsamer Yoga (U33035-EEB) 
LOCATION:Ev. Familien-Bildungsstätte, Saal, Gorch-Fock-Str. 5 a, 26135 Oldenburg
END:VEVENT
BEGIN:VEVENT
DTSTAMP:20260421T201341
DTSTART;TZID=Europe/Berlin:20260312T091500
DTEND;TZID=Europe/Berlin:20260312T104500
UID:U33035-EEB-20260312T091500@EFBOLDENBURG
SUMMARY:Achtsamer Yoga (U33035-EEB) 
LOCATION:Ev. Familien-Bildungsstätte, Saal, Gorch-Fock-Str. 5 a, 26135 Oldenburg
END:VEVENT
BEGIN:VEVENT
DTSTAMP:20260421T201341
DTSTART;TZID=Europe/Berlin:20260319T091500
DTEND;TZID=Europe/Berlin:20260319T104500
UID:U33035-EEB-20260319T091500@EFBOLDENBURG
SUMMARY:Achtsamer Yoga (U33035-EEB) 
LOCATION:Ev. Familien-Bildungsstätte, Saal, Gorch-Fock-Str. 5 a, 26135 Oldenburg
END:VEVENT
BEGIN:VEVENT
DTSTAMP:20260421T201341
DTSTART;TZID=Europe/Berlin:20260409T091500
DTEND;TZID=Europe/Berlin:20260409T104500
UID:U33035-EEB-20260409T091500@EFBOLDENBURG
SUMMARY:Achtsamer Yoga (U33035-EEB) 
LOCATION:Ev. Familien-Bildungsstätte, Saal, Gorch-Fock-Str. 5 a, 26135 Oldenburg
END:VEVENT
BEGIN:VEVENT
DTSTAMP:20260421T201341
DTSTART;TZID=Europe/Berlin:20260416T091500
DTEND;TZID=Europe/Berlin:20260416T104500
UID:U33035-EEB-20260416T091500@EFBOLDENBURG
SUMMARY:Achtsamer Yoga (U33035-EEB) 
LOCATION:Ev. Familien-Bildungsstätte, Saal, Gorch-Fock-Str. 5 a, 26135 Oldenburg
END:VEVENT
BEGIN:VEVENT
DTSTAMP:20260421T201341
DTSTART;TZID=Europe/Berlin:20260423T091500
DTEND;TZID=Europe/Berlin:20260423T104500
UID:U33035-EEB-20260423T091500@EFBOLDENBURG
SUMMARY:Achtsamer Yoga (U33035-EEB) 
LOCATION:Ev. Familien-Bildungsstätte, Saal, Gorch-Fock-Str. 5 a, 26135 Oldenburg
END:VEVENT
BEGIN:VEVENT
DTSTAMP:20260421T201341
DTSTART;TZID=Europe/Berlin:20260430T091500
DTEND;TZID=Europe/Berlin:20260430T104500
UID:U33035-EEB-20260430T091500@EFBOLDENBURG
SUMMARY:Achtsamer Yoga (U33035-EEB) 
LOCATION:Ev. Familien-Bildungsstätte, Saal, Gorch-Fock-Str. 5 a, 26135 Oldenburg
END:VEVENT
BEGIN:VEVENT
DTSTAMP:20260421T201341
DTSTART;TZID=Europe/Berlin:20260507T091500
DTEND;TZID=Europe/Berlin:20260507T104500
UID:U33035-EEB-20260507T091500@EFBOLDENBURG
SUMMARY:Achtsamer Yoga (U33035-EEB) 
LOCATION:Ev. Familien-Bildungsstätte, Saal, Gorch-Fock-Str. 5 a, 26135 Oldenburg
END:VEVENT
BEGIN:VEVENT
DTSTAMP:20260421T201341
DTSTART;TZID=Europe/Berlin:20260521T091500
DTEND;TZID=Europe/Berlin:20260521T104500
UID:U33035-EEB-20260521T091500@EFBOLDENBURG
SUMMARY:Achtsamer Yoga (U33035-EEB) 
LOCATION:Ev. Familien-Bildungsstätte, Saal, Gorch-Fock-Str. 5 a, 26135 Oldenburg
END:VEVENT
BEGIN:VEVENT
DTSTAMP:20260421T201341
DTSTART;TZID=Europe/Berlin:20260528T091500
DTEND;TZID=Europe/Berlin:20260528T104500
UID:U33035-EEB-20260528T091500@EFBOLDENBURG
SUMMARY:Achtsamer Yoga (U33035-EEB) 
LOCATION:Ev. Familien-Bildungsstätte, Saal, Gorch-Fock-Str. 5 a, 26135 Oldenburg
END:VEVENT
BEGIN:VEVENT
DTSTAMP:20260421T201341
DTSTART;TZID=Europe/Berlin:20260604T091500
DTEND;TZID=Europe/Berlin:20260604T104500
UID:U33035-EEB-20260604T091500@EFBOLDENBURG
SUMMARY:Achtsamer Yoga (U33035-EEB) 
LOCATION:Ev. Familien-Bildungsstätte, Saal, Gorch-Fock-Str. 5 a, 26135 Oldenburg
END:VEVENT
BEGIN:VEVENT
DTSTAMP:20260421T201341
DTSTART;TZID=Europe/Berlin:20260611T091500
DTEND;TZID=Europe/Berlin:20260611T104500
UID:U33035-EEB-20260611T091500@EFBOLDENBURG
SUMMARY:Achtsamer Yoga (U33035-EEB) 
LOCATION:Ev. Familien-Bildungsstätte, Saal, Gorch-Fock-Str. 5 a, 26135 Oldenburg
END:VEVENT
BEGIN:VEVENT
DTSTAMP:20260421T201341
DTSTART;TZID=Europe/Berlin:20260618T091500
DTEND;TZID=Europe/Berlin:20260618T104500
UID:U33035-EEB-20260618T091500@EFBOLDENBURG
SUMMARY:Achtsamer Yoga (U33035-EEB) 
LOCATION:Ev. Familien-Bildungsstätte, Saal, Gorch-Fock-Str. 5 a, 26135 Oldenburg
END:VEVENT
BEGIN:VEVENT
DTSTAMP:20260421T201341
DTSTART;TZID=Europe/Berlin:20260625T091500
DTEND;TZID=Europe/Berlin:20260625T104500
UID:U33035-EEB-20260625T091500@EFBOLDENBURG
SUMMARY:Achtsamer Yoga (U33035-EEB) 
LOCATION:Ev. Familien-Bildungsstätte, Saal, Gorch-Fock-Str. 5 a, 26135 Oldenburg
END:VEVENT
END:VCALENDAR