BEGIN:VCALENDAR
VERSION:2.0
PRODID:https://www.kufer.de/kuferweb / DE
METHOD:PUBLISH
CALSCALE:GREGORIAN
X-WR-TIMEZONE:Europe/Berlin
BEGIN:VTIMEZONE
TZID:Europe/Berlin
X-LIC-LOCATION:Europe/Berlin
BEGIN:DAYLIGHT
TZOFFSETFROM:+0100
TZOFFSETTO:+0200
TZNAME:CEST
DTSTART:19700329T020000
RRULE:FREQ=YEARLY;INTERVAL=1;BYDAY=-1SU;BYMONTH=3
END:DAYLIGHT
BEGIN:STANDARD
TZOFFSETFROM:+0200
TZOFFSETTO:+0100
TZNAME:CET
DTSTART:19701025T030000
RRULE:FREQ=YEARLY;INTERVAL=1;BYDAY=-1SU;BYMONTH=10
END:STANDARD
END:VTIMEZONE
BEGIN:VEVENT
DTSTAMP:20260421T165932
DTSTART;TZID=Europe/Berlin:20260305T110000
DTEND;TZID=Europe/Berlin:20260305T121500
UID:U33036-EEB-20260305T110000@EFBOLDENBURG
SUMMARY:Achtsamer Yoga für den älteren Menschen 70+ (U33036-EEB) 
LOCATION:Ev. Familien-Bildungsstätte, Saal, Gorch-Fock-Str. 5 a, 26135 Oldenburg
END:VEVENT
BEGIN:VEVENT
DTSTAMP:20260421T165932
DTSTART;TZID=Europe/Berlin:20260312T110000
DTEND;TZID=Europe/Berlin:20260312T121500
UID:U33036-EEB-20260312T110000@EFBOLDENBURG
SUMMARY:Achtsamer Yoga für den älteren Menschen 70+ (U33036-EEB) 
LOCATION:Ev. Familien-Bildungsstätte, Saal, Gorch-Fock-Str. 5 a, 26135 Oldenburg
END:VEVENT
BEGIN:VEVENT
DTSTAMP:20260421T165932
DTSTART;TZID=Europe/Berlin:20260319T110000
DTEND;TZID=Europe/Berlin:20260319T121500
UID:U33036-EEB-20260319T110000@EFBOLDENBURG
SUMMARY:Achtsamer Yoga für den älteren Menschen 70+ (U33036-EEB) 
LOCATION:Ev. Familien-Bildungsstätte, Saal, Gorch-Fock-Str. 5 a, 26135 Oldenburg
END:VEVENT
BEGIN:VEVENT
DTSTAMP:20260421T165932
DTSTART;TZID=Europe/Berlin:20260409T110000
DTEND;TZID=Europe/Berlin:20260409T121500
UID:U33036-EEB-20260409T110000@EFBOLDENBURG
SUMMARY:Achtsamer Yoga für den älteren Menschen 70+ (U33036-EEB) 
LOCATION:Ev. Familien-Bildungsstätte, Saal, Gorch-Fock-Str. 5 a, 26135 Oldenburg
END:VEVENT
BEGIN:VEVENT
DTSTAMP:20260421T165932
DTSTART;TZID=Europe/Berlin:20260416T110000
DTEND;TZID=Europe/Berlin:20260416T121500
UID:U33036-EEB-20260416T110000@EFBOLDENBURG
SUMMARY:Achtsamer Yoga für den älteren Menschen 70+ (U33036-EEB) 
LOCATION:Ev. Familien-Bildungsstätte, Saal, Gorch-Fock-Str. 5 a, 26135 Oldenburg
END:VEVENT
BEGIN:VEVENT
DTSTAMP:20260421T165932
DTSTART;TZID=Europe/Berlin:20260423T110000
DTEND;TZID=Europe/Berlin:20260423T121500
UID:U33036-EEB-20260423T110000@EFBOLDENBURG
SUMMARY:Achtsamer Yoga für den älteren Menschen 70+ (U33036-EEB) 
LOCATION:Ev. Familien-Bildungsstätte, Saal, Gorch-Fock-Str. 5 a, 26135 Oldenburg
END:VEVENT
BEGIN:VEVENT
DTSTAMP:20260421T165932
DTSTART;TZID=Europe/Berlin:20260430T110000
DTEND;TZID=Europe/Berlin:20260430T121500
UID:U33036-EEB-20260430T110000@EFBOLDENBURG
SUMMARY:Achtsamer Yoga für den älteren Menschen 70+ (U33036-EEB) 
LOCATION:Ev. Familien-Bildungsstätte, Saal, Gorch-Fock-Str. 5 a, 26135 Oldenburg
END:VEVENT
BEGIN:VEVENT
DTSTAMP:20260421T165932
DTSTART;TZID=Europe/Berlin:20260507T110000
DTEND;TZID=Europe/Berlin:20260507T121500
UID:U33036-EEB-20260507T110000@EFBOLDENBURG
SUMMARY:Achtsamer Yoga für den älteren Menschen 70+ (U33036-EEB) 
LOCATION:Ev. Familien-Bildungsstätte, Saal, Gorch-Fock-Str. 5 a, 26135 Oldenburg
END:VEVENT
BEGIN:VEVENT
DTSTAMP:20260421T165932
DTSTART;TZID=Europe/Berlin:20260521T110000
DTEND;TZID=Europe/Berlin:20260521T121500
UID:U33036-EEB-20260521T110000@EFBOLDENBURG
SUMMARY:Achtsamer Yoga für den älteren Menschen 70+ (U33036-EEB) 
LOCATION:Ev. Familien-Bildungsstätte, Saal, Gorch-Fock-Str. 5 a, 26135 Oldenburg
END:VEVENT
BEGIN:VEVENT
DTSTAMP:20260421T165932
DTSTART;TZID=Europe/Berlin:20260528T110000
DTEND;TZID=Europe/Berlin:20260528T121500
UID:U33036-EEB-20260528T110000@EFBOLDENBURG
SUMMARY:Achtsamer Yoga für den älteren Menschen 70+ (U33036-EEB) 
LOCATION:Ev. Familien-Bildungsstätte, Saal, Gorch-Fock-Str. 5 a, 26135 Oldenburg
END:VEVENT
BEGIN:VEVENT
DTSTAMP:20260421T165932
DTSTART;TZID=Europe/Berlin:20260604T110000
DTEND;TZID=Europe/Berlin:20260604T121500
UID:U33036-EEB-20260604T110000@EFBOLDENBURG
SUMMARY:Achtsamer Yoga für den älteren Menschen 70+ (U33036-EEB) 
LOCATION:Ev. Familien-Bildungsstätte, Saal, Gorch-Fock-Str. 5 a, 26135 Oldenburg
END:VEVENT
BEGIN:VEVENT
DTSTAMP:20260421T165932
DTSTART;TZID=Europe/Berlin:20260611T110000
DTEND;TZID=Europe/Berlin:20260611T121500
UID:U33036-EEB-20260611T110000@EFBOLDENBURG
SUMMARY:Achtsamer Yoga für den älteren Menschen 70+ (U33036-EEB) 
LOCATION:Ev. Familien-Bildungsstätte, Saal, Gorch-Fock-Str. 5 a, 26135 Oldenburg
END:VEVENT
BEGIN:VEVENT
DTSTAMP:20260421T165932
DTSTART;TZID=Europe/Berlin:20260618T110000
DTEND;TZID=Europe/Berlin:20260618T121500
UID:U33036-EEB-20260618T110000@EFBOLDENBURG
SUMMARY:Achtsamer Yoga für den älteren Menschen 70+ (U33036-EEB) 
LOCATION:Ev. Familien-Bildungsstätte, Saal, Gorch-Fock-Str. 5 a, 26135 Oldenburg
END:VEVENT
BEGIN:VEVENT
DTSTAMP:20260421T165932
DTSTART;TZID=Europe/Berlin:20260625T110000
DTEND;TZID=Europe/Berlin:20260625T121500
UID:U33036-EEB-20260625T110000@EFBOLDENBURG
SUMMARY:Achtsamer Yoga für den älteren Menschen 70+ (U33036-EEB) 
LOCATION:Ev. Familien-Bildungsstätte, Saal, Gorch-Fock-Str. 5 a, 26135 Oldenburg
END:VEVENT
BEGIN:VEVENT
DTSTAMP:20260421T165932
DTSTART;TZID=Europe/Berlin:20260702T110000
DTEND;TZID=Europe/Berlin:20260702T121500
UID:U33036-EEB-20260702T110000@EFBOLDENBURG
DESCRIPTION:Ersatz für Ausfall am 26.02.2026
SUMMARY:Achtsamer Yoga für den älteren Menschen 70+ (U33036-EEB) 
LOCATION:Ev. Familien-Bildungsstätte, Saal, Gorch-Fock-Str. 5 a, 26135 Oldenburg
END:VEVENT
END:VCALENDAR