BEGIN:VCALENDAR
VERSION:2.0
PRODID:https://www.kufer.de/kuferweb / DE
METHOD:PUBLISH
CALSCALE:GREGORIAN
X-WR-TIMEZONE:Europe/Berlin
BEGIN:VTIMEZONE
TZID:Europe/Berlin
X-LIC-LOCATION:Europe/Berlin
BEGIN:DAYLIGHT
TZOFFSETFROM:+0100
TZOFFSETTO:+0200
TZNAME:CEST
DTSTART:19700329T020000
RRULE:FREQ=YEARLY;INTERVAL=1;BYDAY=-1SU;BYMONTH=3
END:DAYLIGHT
BEGIN:STANDARD
TZOFFSETFROM:+0200
TZOFFSETTO:+0100
TZNAME:CET
DTSTART:19701025T030000
RRULE:FREQ=YEARLY;INTERVAL=1;BYDAY=-1SU;BYMONTH=10
END:STANDARD
END:VTIMEZONE
BEGIN:VEVENT
DTSTAMP:20260421T132907
DTSTART;TZID=Europe/Berlin:20260410T160000
DTEND;TZID=Europe/Berlin:20260410T171500
UID:U33901-20260410T160000@EFBOLDENBURG
SUMMARY:Hatha-Yoga & Segen (U33901) 
LOCATION:Lambertus-Saal, Markt 17, 26122 Oldenburg
END:VEVENT
BEGIN:VEVENT
DTSTAMP:20260421T132907
DTSTART;TZID=Europe/Berlin:20260417T160000
DTEND;TZID=Europe/Berlin:20260417T171500
UID:U33901-20260417T160000@EFBOLDENBURG
SUMMARY:Hatha-Yoga & Segen (U33901) 
LOCATION:Lambertus-Saal, Markt 17, 26122 Oldenburg
END:VEVENT
BEGIN:VEVENT
DTSTAMP:20260421T132907
DTSTART;TZID=Europe/Berlin:20260424T160000
DTEND;TZID=Europe/Berlin:20260424T171500
UID:U33901-20260424T160000@EFBOLDENBURG
SUMMARY:Hatha-Yoga & Segen (U33901) 
LOCATION:Lambertus-Saal, Markt 17, 26122 Oldenburg
END:VEVENT
BEGIN:VEVENT
DTSTAMP:20260421T132907
DTSTART;TZID=Europe/Berlin:20260508T160000
DTEND;TZID=Europe/Berlin:20260508T171500
UID:U33901-20260508T160000@EFBOLDENBURG
SUMMARY:Hatha-Yoga & Segen (U33901) 
LOCATION:Lambertus-Saal, Markt 17, 26122 Oldenburg
END:VEVENT
BEGIN:VEVENT
DTSTAMP:20260421T132907
DTSTART;TZID=Europe/Berlin:20260522T160000
DTEND;TZID=Europe/Berlin:20260522T171500
UID:U33901-20260522T160000@EFBOLDENBURG
SUMMARY:Hatha-Yoga & Segen (U33901) 
LOCATION:Lambertus-Saal, Markt 17, 26122 Oldenburg
END:VEVENT
BEGIN:VEVENT
DTSTAMP:20260421T132907
DTSTART;TZID=Europe/Berlin:20260529T160000
DTEND;TZID=Europe/Berlin:20260529T171500
UID:U33901-20260529T160000@EFBOLDENBURG
SUMMARY:Hatha-Yoga & Segen (U33901) 
LOCATION:Lambertus-Saal, Markt 17, 26122 Oldenburg
END:VEVENT
BEGIN:VEVENT
DTSTAMP:20260421T132907
DTSTART;TZID=Europe/Berlin:20260605T160000
DTEND;TZID=Europe/Berlin:20260605T171500
UID:U33901-20260605T160000@EFBOLDENBURG
SUMMARY:Hatha-Yoga & Segen (U33901) 
LOCATION:Lambertus-Saal, Markt 17, 26122 Oldenburg
END:VEVENT
BEGIN:VEVENT
DTSTAMP:20260421T132907
DTSTART;TZID=Europe/Berlin:20260612T160000
DTEND;TZID=Europe/Berlin:20260612T171500
UID:U33901-20260612T160000@EFBOLDENBURG
SUMMARY:Hatha-Yoga & Segen (U33901) 
LOCATION:Lambertus-Saal, Markt 17, 26122 Oldenburg
END:VEVENT
BEGIN:VEVENT
DTSTAMP:20260421T132907
DTSTART;TZID=Europe/Berlin:20260619T160000
DTEND;TZID=Europe/Berlin:20260619T171500
UID:U33901-20260619T160000@EFBOLDENBURG
SUMMARY:Hatha-Yoga & Segen (U33901) 
LOCATION:Lambertus-Saal, Markt 17, 26122 Oldenburg
END:VEVENT
END:VCALENDAR