BEGIN:VCALENDAR
VERSION:2.0
PRODID:https://www.kufer.de/kuferweb / DE
METHOD:PUBLISH
CALSCALE:GREGORIAN
X-WR-TIMEZONE:Europe/Berlin
BEGIN:VTIMEZONE
TZID:Europe/Berlin
X-LIC-LOCATION:Europe/Berlin
BEGIN:DAYLIGHT
TZOFFSETFROM:+0100
TZOFFSETTO:+0200
TZNAME:CEST
DTSTART:19700329T020000
RRULE:FREQ=YEARLY;INTERVAL=1;BYDAY=-1SU;BYMONTH=3
END:DAYLIGHT
BEGIN:STANDARD
TZOFFSETFROM:+0200
TZOFFSETTO:+0100
TZNAME:CET
DTSTART:19701025T030000
RRULE:FREQ=YEARLY;INTERVAL=1;BYDAY=-1SU;BYMONTH=10
END:STANDARD
END:VTIMEZONE
BEGIN:VEVENT
DTSTAMP:20260422T023734
DTSTART;TZID=Europe/Berlin:20261029T101500
DTEND;TZID=Europe/Berlin:20261029T111500
UID:U33903-20261029T101500@EFBOLDENBURG
SUMMARY:Gesundheitsförderndes Qigong (U33903) 
LOCATION:Gemeindehaus Zietenstr., Zietenstr. 8, Zietenstr. 8, 26131 Oldenburg
END:VEVENT
BEGIN:VEVENT
DTSTAMP:20260422T023734
DTSTART;TZID=Europe/Berlin:20261105T101500
DTEND;TZID=Europe/Berlin:20261105T111500
UID:U33903-20261105T101500@EFBOLDENBURG
SUMMARY:Gesundheitsförderndes Qigong (U33903) 
LOCATION:Gemeindehaus Zietenstr., Zietenstr. 8, Zietenstr. 8, 26131 Oldenburg
END:VEVENT
BEGIN:VEVENT
DTSTAMP:20260422T023734
DTSTART;TZID=Europe/Berlin:20261112T101500
DTEND;TZID=Europe/Berlin:20261112T111500
UID:U33903-20261112T101500@EFBOLDENBURG
SUMMARY:Gesundheitsförderndes Qigong (U33903) 
LOCATION:Gemeindehaus Zietenstr., Zietenstr. 8, Zietenstr. 8, 26131 Oldenburg
END:VEVENT
BEGIN:VEVENT
DTSTAMP:20260422T023734
DTSTART;TZID=Europe/Berlin:20261119T101500
DTEND;TZID=Europe/Berlin:20261119T111500
UID:U33903-20261119T101500@EFBOLDENBURG
SUMMARY:Gesundheitsförderndes Qigong (U33903) 
LOCATION:Gemeindehaus Zietenstr., Zietenstr. 8, Zietenstr. 8, 26131 Oldenburg
END:VEVENT
BEGIN:VEVENT
DTSTAMP:20260422T023734
DTSTART;TZID=Europe/Berlin:20261126T101500
DTEND;TZID=Europe/Berlin:20261126T111500
UID:U33903-20261126T101500@EFBOLDENBURG
SUMMARY:Gesundheitsförderndes Qigong (U33903) 
LOCATION:Gemeindehaus Zietenstr., Zietenstr. 8, Zietenstr. 8, 26131 Oldenburg
END:VEVENT
BEGIN:VEVENT
DTSTAMP:20260422T023734
DTSTART;TZID=Europe/Berlin:20261203T101500
DTEND;TZID=Europe/Berlin:20261203T111500
UID:U33903-20261203T101500@EFBOLDENBURG
SUMMARY:Gesundheitsförderndes Qigong (U33903) 
LOCATION:Gemeindehaus Zietenstr., Zietenstr. 8, Zietenstr. 8, 26131 Oldenburg
END:VEVENT
BEGIN:VEVENT
DTSTAMP:20260422T023734
DTSTART;TZID=Europe/Berlin:20261210T101500
DTEND;TZID=Europe/Berlin:20261210T111500
UID:U33903-20261210T101500@EFBOLDENBURG
SUMMARY:Gesundheitsförderndes Qigong (U33903) 
LOCATION:Gemeindehaus Zietenstr., Zietenstr. 8, Zietenstr. 8, 26131 Oldenburg
END:VEVENT
BEGIN:VEVENT
DTSTAMP:20260422T023734
DTSTART;TZID=Europe/Berlin:20261217T101500
DTEND;TZID=Europe/Berlin:20261217T111500
UID:U33903-20261217T101500@EFBOLDENBURG
SUMMARY:Gesundheitsförderndes Qigong (U33903) 
LOCATION:Gemeindehaus Zietenstr., Zietenstr. 8, Zietenstr. 8, 26131 Oldenburg
END:VEVENT
BEGIN:VEVENT
DTSTAMP:20260422T023734
DTSTART;TZID=Europe/Berlin:20270114T101500
DTEND;TZID=Europe/Berlin:20270114T111500
UID:U33903-20270114T101500@EFBOLDENBURG
SUMMARY:Gesundheitsförderndes Qigong (U33903) 
LOCATION:Gemeindehaus Zietenstr., Zietenstr. 8, Zietenstr. 8, 26131 Oldenburg
END:VEVENT
BEGIN:VEVENT
DTSTAMP:20260422T023734
DTSTART;TZID=Europe/Berlin:20270121T101500
DTEND;TZID=Europe/Berlin:20270121T111500
UID:U33903-20270121T101500@EFBOLDENBURG
SUMMARY:Gesundheitsförderndes Qigong (U33903) 
LOCATION:Gemeindehaus Zietenstr., Zietenstr. 8, Zietenstr. 8, 26131 Oldenburg
END:VEVENT
BEGIN:VEVENT
DTSTAMP:20260422T023734
DTSTART;TZID=Europe/Berlin:20270128T101500
DTEND;TZID=Europe/Berlin:20270128T111500
UID:U33903-20270128T101500@EFBOLDENBURG
SUMMARY:Gesundheitsförderndes Qigong (U33903) 
LOCATION:Gemeindehaus Zietenstr., Zietenstr. 8, Zietenstr. 8, 26131 Oldenburg
END:VEVENT
BEGIN:VEVENT
DTSTAMP:20260422T023734
DTSTART;TZID=Europe/Berlin:20270204T101500
DTEND;TZID=Europe/Berlin:20270204T111500
UID:U33903-20270204T101500@EFBOLDENBURG
SUMMARY:Gesundheitsförderndes Qigong (U33903) 
LOCATION:Gemeindehaus Zietenstr., Zietenstr. 8, Zietenstr. 8, 26131 Oldenburg
END:VEVENT
END:VCALENDAR