BEGIN:VCALENDAR
VERSION:2.0
PRODID:https://www.kufer.de/kuferweb / DE
METHOD:PUBLISH
CALSCALE:GREGORIAN
X-WR-TIMEZONE:Europe/Berlin
BEGIN:VTIMEZONE
TZID:Europe/Berlin
X-LIC-LOCATION:Europe/Berlin
BEGIN:DAYLIGHT
TZOFFSETFROM:+0100
TZOFFSETTO:+0200
TZNAME:CEST
DTSTART:19700329T020000
RRULE:FREQ=YEARLY;INTERVAL=1;BYDAY=-1SU;BYMONTH=3
END:DAYLIGHT
BEGIN:STANDARD
TZOFFSETFROM:+0200
TZOFFSETTO:+0100
TZNAME:CET
DTSTART:19701025T030000
RRULE:FREQ=YEARLY;INTERVAL=1;BYDAY=-1SU;BYMONTH=10
END:STANDARD
END:VTIMEZONE
BEGIN:VEVENT
DTSTAMP:20260421T202252
DTSTART;TZID=Europe/Berlin:20260820T091500
DTEND;TZID=Europe/Berlin:20260820T104500
UID:U33905-EEB-20260820T091500@EFBOLDENBURG
SUMMARY:Achtsamer Yoga (U33905-EEB) 
LOCATION:Ev. Familien-Bildungsstätte, Saal, Gorch-Fock-Str. 5 a, 26135 Oldenburg
END:VEVENT
BEGIN:VEVENT
DTSTAMP:20260421T202252
DTSTART;TZID=Europe/Berlin:20260827T091500
DTEND;TZID=Europe/Berlin:20260827T104500
UID:U33905-EEB-20260827T091500@EFBOLDENBURG
SUMMARY:Achtsamer Yoga (U33905-EEB) 
LOCATION:Ev. Familien-Bildungsstätte, Saal, Gorch-Fock-Str. 5 a, 26135 Oldenburg
END:VEVENT
BEGIN:VEVENT
DTSTAMP:20260421T202252
DTSTART;TZID=Europe/Berlin:20260903T091500
DTEND;TZID=Europe/Berlin:20260903T104500
UID:U33905-EEB-20260903T091500@EFBOLDENBURG
SUMMARY:Achtsamer Yoga (U33905-EEB) 
LOCATION:Ev. Familien-Bildungsstätte, Saal, Gorch-Fock-Str. 5 a, 26135 Oldenburg
END:VEVENT
BEGIN:VEVENT
DTSTAMP:20260421T202252
DTSTART;TZID=Europe/Berlin:20260910T091500
DTEND;TZID=Europe/Berlin:20260910T104500
UID:U33905-EEB-20260910T091500@EFBOLDENBURG
SUMMARY:Achtsamer Yoga (U33905-EEB) 
LOCATION:Ev. Familien-Bildungsstätte, Saal, Gorch-Fock-Str. 5 a, 26135 Oldenburg
END:VEVENT
BEGIN:VEVENT
DTSTAMP:20260421T202252
DTSTART;TZID=Europe/Berlin:20260917T091500
DTEND;TZID=Europe/Berlin:20260917T104500
UID:U33905-EEB-20260917T091500@EFBOLDENBURG
SUMMARY:Achtsamer Yoga (U33905-EEB) 
LOCATION:Ev. Familien-Bildungsstätte, Saal, Gorch-Fock-Str. 5 a, 26135 Oldenburg
END:VEVENT
BEGIN:VEVENT
DTSTAMP:20260421T202252
DTSTART;TZID=Europe/Berlin:20260924T091500
DTEND;TZID=Europe/Berlin:20260924T104500
UID:U33905-EEB-20260924T091500@EFBOLDENBURG
SUMMARY:Achtsamer Yoga (U33905-EEB) 
LOCATION:Ev. Familien-Bildungsstätte, Saal, Gorch-Fock-Str. 5 a, 26135 Oldenburg
END:VEVENT
BEGIN:VEVENT
DTSTAMP:20260421T202252
DTSTART;TZID=Europe/Berlin:20261001T091500
DTEND;TZID=Europe/Berlin:20261001T104500
UID:U33905-EEB-20261001T091500@EFBOLDENBURG
SUMMARY:Achtsamer Yoga (U33905-EEB) 
LOCATION:Ev. Familien-Bildungsstätte, Saal, Gorch-Fock-Str. 5 a, 26135 Oldenburg
END:VEVENT
BEGIN:VEVENT
DTSTAMP:20260421T202252
DTSTART;TZID=Europe/Berlin:20261008T091500
DTEND;TZID=Europe/Berlin:20261008T104500
UID:U33905-EEB-20261008T091500@EFBOLDENBURG
SUMMARY:Achtsamer Yoga (U33905-EEB) 
LOCATION:Ev. Familien-Bildungsstätte, Saal, Gorch-Fock-Str. 5 a, 26135 Oldenburg
END:VEVENT
BEGIN:VEVENT
DTSTAMP:20260421T202252
DTSTART;TZID=Europe/Berlin:20261015T091500
DTEND;TZID=Europe/Berlin:20261015T104500
UID:U33905-EEB-20261015T091500@EFBOLDENBURG
SUMMARY:Achtsamer Yoga (U33905-EEB) 
LOCATION:Ev. Familien-Bildungsstätte, Saal, Gorch-Fock-Str. 5 a, 26135 Oldenburg
END:VEVENT
BEGIN:VEVENT
DTSTAMP:20260421T202252
DTSTART;TZID=Europe/Berlin:20261029T091500
DTEND;TZID=Europe/Berlin:20261029T104500
UID:U33905-EEB-20261029T091500@EFBOLDENBURG
SUMMARY:Achtsamer Yoga (U33905-EEB) 
LOCATION:Ev. Familien-Bildungsstätte, Saal, Gorch-Fock-Str. 5 a, 26135 Oldenburg
END:VEVENT
BEGIN:VEVENT
DTSTAMP:20260421T202252
DTSTART;TZID=Europe/Berlin:20261105T091500
DTEND;TZID=Europe/Berlin:20261105T104500
UID:U33905-EEB-20261105T091500@EFBOLDENBURG
SUMMARY:Achtsamer Yoga (U33905-EEB) 
LOCATION:Ev. Familien-Bildungsstätte, Saal, Gorch-Fock-Str. 5 a, 26135 Oldenburg
END:VEVENT
BEGIN:VEVENT
DTSTAMP:20260421T202252
DTSTART;TZID=Europe/Berlin:20261112T091500
DTEND;TZID=Europe/Berlin:20261112T104500
UID:U33905-EEB-20261112T091500@EFBOLDENBURG
SUMMARY:Achtsamer Yoga (U33905-EEB) 
LOCATION:Ev. Familien-Bildungsstätte, Saal, Gorch-Fock-Str. 5 a, 26135 Oldenburg
END:VEVENT
BEGIN:VEVENT
DTSTAMP:20260421T202252
DTSTART;TZID=Europe/Berlin:20261119T091500
DTEND;TZID=Europe/Berlin:20261119T104500
UID:U33905-EEB-20261119T091500@EFBOLDENBURG
SUMMARY:Achtsamer Yoga (U33905-EEB) 
LOCATION:Ev. Familien-Bildungsstätte, Saal, Gorch-Fock-Str. 5 a, 26135 Oldenburg
END:VEVENT
BEGIN:VEVENT
DTSTAMP:20260421T202252
DTSTART;TZID=Europe/Berlin:20261126T091500
DTEND;TZID=Europe/Berlin:20261126T104500
UID:U33905-EEB-20261126T091500@EFBOLDENBURG
SUMMARY:Achtsamer Yoga (U33905-EEB) 
LOCATION:Ev. Familien-Bildungsstätte, Saal, Gorch-Fock-Str. 5 a, 26135 Oldenburg
END:VEVENT
BEGIN:VEVENT
DTSTAMP:20260421T202252
DTSTART;TZID=Europe/Berlin:20261203T091500
DTEND;TZID=Europe/Berlin:20261203T104500
UID:U33905-EEB-20261203T091500@EFBOLDENBURG
SUMMARY:Achtsamer Yoga (U33905-EEB) 
LOCATION:Ev. Familien-Bildungsstätte, Saal, Gorch-Fock-Str. 5 a, 26135 Oldenburg
END:VEVENT
BEGIN:VEVENT
DTSTAMP:20260421T202252
DTSTART;TZID=Europe/Berlin:20261210T091500
DTEND;TZID=Europe/Berlin:20261210T104500
UID:U33905-EEB-20261210T091500@EFBOLDENBURG
SUMMARY:Achtsamer Yoga (U33905-EEB) 
LOCATION:Ev. Familien-Bildungsstätte, Saal, Gorch-Fock-Str. 5 a, 26135 Oldenburg
END:VEVENT
END:VCALENDAR