BEGIN:VCALENDAR
VERSION:2.0
PRODID:https://www.kufer.de/kuferweb / DE
METHOD:PUBLISH
CALSCALE:GREGORIAN
X-WR-TIMEZONE:Europe/Berlin
BEGIN:VTIMEZONE
TZID:Europe/Berlin
X-LIC-LOCATION:Europe/Berlin
BEGIN:DAYLIGHT
TZOFFSETFROM:+0100
TZOFFSETTO:+0200
TZNAME:CEST
DTSTART:19700329T020000
RRULE:FREQ=YEARLY;INTERVAL=1;BYDAY=-1SU;BYMONTH=3
END:DAYLIGHT
BEGIN:STANDARD
TZOFFSETFROM:+0200
TZOFFSETTO:+0100
TZNAME:CET
DTSTART:19701025T030000
RRULE:FREQ=YEARLY;INTERVAL=1;BYDAY=-1SU;BYMONTH=10
END:STANDARD
END:VTIMEZONE
BEGIN:VEVENT
DTSTAMP:20260421T182941
DTSTART;TZID=Europe/Berlin:20260820T110000
DTEND;TZID=Europe/Berlin:20260820T121500
UID:U33906-EEB-20260820T110000@EFBOLDENBURG
SUMMARY:Achtsamer Yoga für den älteren Menschen 70+ (U33906-EEB) 
LOCATION:Ev. Familien-Bildungsstätte, Saal, Gorch-Fock-Str. 5 a, 26135 Oldenburg
END:VEVENT
BEGIN:VEVENT
DTSTAMP:20260421T182941
DTSTART;TZID=Europe/Berlin:20260827T110000
DTEND;TZID=Europe/Berlin:20260827T121500
UID:U33906-EEB-20260827T110000@EFBOLDENBURG
SUMMARY:Achtsamer Yoga für den älteren Menschen 70+ (U33906-EEB) 
LOCATION:Ev. Familien-Bildungsstätte, Saal, Gorch-Fock-Str. 5 a, 26135 Oldenburg
END:VEVENT
BEGIN:VEVENT
DTSTAMP:20260421T182941
DTSTART;TZID=Europe/Berlin:20260903T110000
DTEND;TZID=Europe/Berlin:20260903T121500
UID:U33906-EEB-20260903T110000@EFBOLDENBURG
SUMMARY:Achtsamer Yoga für den älteren Menschen 70+ (U33906-EEB) 
LOCATION:Ev. Familien-Bildungsstätte, Saal, Gorch-Fock-Str. 5 a, 26135 Oldenburg
END:VEVENT
BEGIN:VEVENT
DTSTAMP:20260421T182941
DTSTART;TZID=Europe/Berlin:20260910T110000
DTEND;TZID=Europe/Berlin:20260910T121500
UID:U33906-EEB-20260910T110000@EFBOLDENBURG
SUMMARY:Achtsamer Yoga für den älteren Menschen 70+ (U33906-EEB) 
LOCATION:Ev. Familien-Bildungsstätte, Saal, Gorch-Fock-Str. 5 a, 26135 Oldenburg
END:VEVENT
BEGIN:VEVENT
DTSTAMP:20260421T182941
DTSTART;TZID=Europe/Berlin:20260917T110000
DTEND;TZID=Europe/Berlin:20260917T121500
UID:U33906-EEB-20260917T110000@EFBOLDENBURG
SUMMARY:Achtsamer Yoga für den älteren Menschen 70+ (U33906-EEB) 
LOCATION:Ev. Familien-Bildungsstätte, Saal, Gorch-Fock-Str. 5 a, 26135 Oldenburg
END:VEVENT
BEGIN:VEVENT
DTSTAMP:20260421T182941
DTSTART;TZID=Europe/Berlin:20260924T110000
DTEND;TZID=Europe/Berlin:20260924T121500
UID:U33906-EEB-20260924T110000@EFBOLDENBURG
SUMMARY:Achtsamer Yoga für den älteren Menschen 70+ (U33906-EEB) 
LOCATION:Ev. Familien-Bildungsstätte, Saal, Gorch-Fock-Str. 5 a, 26135 Oldenburg
END:VEVENT
BEGIN:VEVENT
DTSTAMP:20260421T182941
DTSTART;TZID=Europe/Berlin:20261001T110000
DTEND;TZID=Europe/Berlin:20261001T121500
UID:U33906-EEB-20261001T110000@EFBOLDENBURG
SUMMARY:Achtsamer Yoga für den älteren Menschen 70+ (U33906-EEB) 
LOCATION:Ev. Familien-Bildungsstätte, Saal, Gorch-Fock-Str. 5 a, 26135 Oldenburg
END:VEVENT
BEGIN:VEVENT
DTSTAMP:20260421T182941
DTSTART;TZID=Europe/Berlin:20261008T110000
DTEND;TZID=Europe/Berlin:20261008T121500
UID:U33906-EEB-20261008T110000@EFBOLDENBURG
SUMMARY:Achtsamer Yoga für den älteren Menschen 70+ (U33906-EEB) 
LOCATION:Ev. Familien-Bildungsstätte, Saal, Gorch-Fock-Str. 5 a, 26135 Oldenburg
END:VEVENT
BEGIN:VEVENT
DTSTAMP:20260421T182941
DTSTART;TZID=Europe/Berlin:20261015T110000
DTEND;TZID=Europe/Berlin:20261015T121500
UID:U33906-EEB-20261015T110000@EFBOLDENBURG
SUMMARY:Achtsamer Yoga für den älteren Menschen 70+ (U33906-EEB) 
LOCATION:Ev. Familien-Bildungsstätte, Saal, Gorch-Fock-Str. 5 a, 26135 Oldenburg
END:VEVENT
BEGIN:VEVENT
DTSTAMP:20260421T182941
DTSTART;TZID=Europe/Berlin:20261029T110000
DTEND;TZID=Europe/Berlin:20261029T121500
UID:U33906-EEB-20261029T110000@EFBOLDENBURG
SUMMARY:Achtsamer Yoga für den älteren Menschen 70+ (U33906-EEB) 
LOCATION:Ev. Familien-Bildungsstätte, Saal, Gorch-Fock-Str. 5 a, 26135 Oldenburg
END:VEVENT
BEGIN:VEVENT
DTSTAMP:20260421T182941
DTSTART;TZID=Europe/Berlin:20261105T110000
DTEND;TZID=Europe/Berlin:20261105T121500
UID:U33906-EEB-20261105T110000@EFBOLDENBURG
SUMMARY:Achtsamer Yoga für den älteren Menschen 70+ (U33906-EEB) 
LOCATION:Ev. Familien-Bildungsstätte, Saal, Gorch-Fock-Str. 5 a, 26135 Oldenburg
END:VEVENT
BEGIN:VEVENT
DTSTAMP:20260421T182941
DTSTART;TZID=Europe/Berlin:20261112T110000
DTEND;TZID=Europe/Berlin:20261112T121500
UID:U33906-EEB-20261112T110000@EFBOLDENBURG
SUMMARY:Achtsamer Yoga für den älteren Menschen 70+ (U33906-EEB) 
LOCATION:Ev. Familien-Bildungsstätte, Saal, Gorch-Fock-Str. 5 a, 26135 Oldenburg
END:VEVENT
BEGIN:VEVENT
DTSTAMP:20260421T182941
DTSTART;TZID=Europe/Berlin:20261119T110000
DTEND;TZID=Europe/Berlin:20261119T121500
UID:U33906-EEB-20261119T110000@EFBOLDENBURG
SUMMARY:Achtsamer Yoga für den älteren Menschen 70+ (U33906-EEB) 
LOCATION:Ev. Familien-Bildungsstätte, Saal, Gorch-Fock-Str. 5 a, 26135 Oldenburg
END:VEVENT
BEGIN:VEVENT
DTSTAMP:20260421T182941
DTSTART;TZID=Europe/Berlin:20261126T110000
DTEND;TZID=Europe/Berlin:20261126T121500
UID:U33906-EEB-20261126T110000@EFBOLDENBURG
SUMMARY:Achtsamer Yoga für den älteren Menschen 70+ (U33906-EEB) 
LOCATION:Ev. Familien-Bildungsstätte, Saal, Gorch-Fock-Str. 5 a, 26135 Oldenburg
END:VEVENT
BEGIN:VEVENT
DTSTAMP:20260421T182941
DTSTART;TZID=Europe/Berlin:20261203T110000
DTEND;TZID=Europe/Berlin:20261203T121500
UID:U33906-EEB-20261203T110000@EFBOLDENBURG
SUMMARY:Achtsamer Yoga für den älteren Menschen 70+ (U33906-EEB) 
LOCATION:Ev. Familien-Bildungsstätte, Saal, Gorch-Fock-Str. 5 a, 26135 Oldenburg
END:VEVENT
BEGIN:VEVENT
DTSTAMP:20260421T182941
DTSTART;TZID=Europe/Berlin:20261210T110000
DTEND;TZID=Europe/Berlin:20261210T121500
UID:U33906-EEB-20261210T110000@EFBOLDENBURG
SUMMARY:Achtsamer Yoga für den älteren Menschen 70+ (U33906-EEB) 
LOCATION:Ev. Familien-Bildungsstätte, Saal, Gorch-Fock-Str. 5 a, 26135 Oldenburg
END:VEVENT
END:VCALENDAR