BEGIN:VCALENDAR
VERSION:2.0
PRODID:https://www.kufer.de/kuferweb / DE
METHOD:PUBLISH
CALSCALE:GREGORIAN
X-WR-TIMEZONE:Europe/Berlin
BEGIN:VTIMEZONE
TZID:Europe/Berlin
X-LIC-LOCATION:Europe/Berlin
BEGIN:DAYLIGHT
TZOFFSETFROM:+0100
TZOFFSETTO:+0200
TZNAME:CEST
DTSTART:19700329T020000
RRULE:FREQ=YEARLY;INTERVAL=1;BYDAY=-1SU;BYMONTH=3
END:DAYLIGHT
BEGIN:STANDARD
TZOFFSETFROM:+0200
TZOFFSETTO:+0100
TZNAME:CET
DTSTART:19701025T030000
RRULE:FREQ=YEARLY;INTERVAL=1;BYDAY=-1SU;BYMONTH=10
END:STANDARD
END:VTIMEZONE
BEGIN:VEVENT
DTSTAMP:20260421T234900
DTSTART;TZID=Europe/Berlin:20260112T200000
DTEND;TZID=Europe/Berlin:20260112T213000
UID:U41001-20260112T200000@EFBOLDENBURG
SUMMARY:Chor-Singen für Frauen -  Der Haarenchor (U41001) 
LOCATION:Ev. Familien-Bildungsstätte, Saal, Gorch-Fock-Str. 5 a, 26135 Oldenburg
END:VEVENT
BEGIN:VEVENT
DTSTAMP:20260421T234900
DTSTART;TZID=Europe/Berlin:20260119T200000
DTEND;TZID=Europe/Berlin:20260119T213000
UID:U41001-20260119T200000@EFBOLDENBURG
SUMMARY:Chor-Singen für Frauen -  Der Haarenchor (U41001) 
LOCATION:Ev. Familien-Bildungsstätte, Saal, Gorch-Fock-Str. 5 a, 26135 Oldenburg
END:VEVENT
BEGIN:VEVENT
DTSTAMP:20260421T234900
DTSTART;TZID=Europe/Berlin:20260126T200000
DTEND;TZID=Europe/Berlin:20260126T213000
UID:U41001-20260126T200000@EFBOLDENBURG
SUMMARY:Chor-Singen für Frauen -  Der Haarenchor (U41001) 
LOCATION:Ev. Familien-Bildungsstätte, Saal, Gorch-Fock-Str. 5 a, 26135 Oldenburg
END:VEVENT
BEGIN:VEVENT
DTSTAMP:20260421T234900
DTSTART;TZID=Europe/Berlin:20260209T200000
DTEND;TZID=Europe/Berlin:20260209T213000
UID:U41001-20260209T200000@EFBOLDENBURG
SUMMARY:Chor-Singen für Frauen -  Der Haarenchor (U41001) 
LOCATION:Ev. Familien-Bildungsstätte, Saal, Gorch-Fock-Str. 5 a, 26135 Oldenburg
END:VEVENT
BEGIN:VEVENT
DTSTAMP:20260421T234900
DTSTART;TZID=Europe/Berlin:20260216T200000
DTEND;TZID=Europe/Berlin:20260216T213000
UID:U41001-20260216T200000@EFBOLDENBURG
SUMMARY:Chor-Singen für Frauen -  Der Haarenchor (U41001) 
LOCATION:Ev. Familien-Bildungsstätte, Saal, Gorch-Fock-Str. 5 a, 26135 Oldenburg
END:VEVENT
BEGIN:VEVENT
DTSTAMP:20260421T234900
DTSTART;TZID=Europe/Berlin:20260223T200000
DTEND;TZID=Europe/Berlin:20260223T213000
UID:U41001-20260223T200000@EFBOLDENBURG
SUMMARY:Chor-Singen für Frauen -  Der Haarenchor (U41001) 
LOCATION:Ev. Familien-Bildungsstätte, Saal, Gorch-Fock-Str. 5 a, 26135 Oldenburg
END:VEVENT
BEGIN:VEVENT
DTSTAMP:20260421T234900
DTSTART;TZID=Europe/Berlin:20260302T200000
DTEND;TZID=Europe/Berlin:20260302T213000
UID:U41001-20260302T200000@EFBOLDENBURG
SUMMARY:Chor-Singen für Frauen -  Der Haarenchor (U41001) 
LOCATION:Ev. Familien-Bildungsstätte, Saal, Gorch-Fock-Str. 5 a, 26135 Oldenburg
END:VEVENT
BEGIN:VEVENT
DTSTAMP:20260421T234900
DTSTART;TZID=Europe/Berlin:20260309T200000
DTEND;TZID=Europe/Berlin:20260309T213000
UID:U41001-20260309T200000@EFBOLDENBURG
SUMMARY:Chor-Singen für Frauen -  Der Haarenchor (U41001) 
LOCATION:Ev. Familien-Bildungsstätte, Saal, Gorch-Fock-Str. 5 a, 26135 Oldenburg
END:VEVENT
BEGIN:VEVENT
DTSTAMP:20260421T234900
DTSTART;TZID=Europe/Berlin:20260316T200000
DTEND;TZID=Europe/Berlin:20260316T213000
UID:U41001-20260316T200000@EFBOLDENBURG
SUMMARY:Chor-Singen für Frauen -  Der Haarenchor (U41001) 
LOCATION:Ev. Familien-Bildungsstätte, Saal, Gorch-Fock-Str. 5 a, 26135 Oldenburg
END:VEVENT
BEGIN:VEVENT
DTSTAMP:20260421T234900
DTSTART;TZID=Europe/Berlin:20260413T200000
DTEND;TZID=Europe/Berlin:20260413T213000
UID:U41001-20260413T200000@EFBOLDENBURG
SUMMARY:Chor-Singen für Frauen -  Der Haarenchor (U41001) 
LOCATION:Ev. Familien-Bildungsstätte, Saal, Gorch-Fock-Str. 5 a, 26135 Oldenburg
END:VEVENT
BEGIN:VEVENT
DTSTAMP:20260421T234900
DTSTART;TZID=Europe/Berlin:20260420T200000
DTEND;TZID=Europe/Berlin:20260420T213000
UID:U41001-20260420T200000@EFBOLDENBURG
SUMMARY:Chor-Singen für Frauen -  Der Haarenchor (U41001) 
LOCATION:Ev. Familien-Bildungsstätte, Saal, Gorch-Fock-Str. 5 a, 26135 Oldenburg
END:VEVENT
BEGIN:VEVENT
DTSTAMP:20260421T234900
DTSTART;TZID=Europe/Berlin:20260427T200000
DTEND;TZID=Europe/Berlin:20260427T213000
UID:U41001-20260427T200000@EFBOLDENBURG
SUMMARY:Chor-Singen für Frauen -  Der Haarenchor (U41001) 
LOCATION:Ev. Familien-Bildungsstätte, Saal, Gorch-Fock-Str. 5 a, 26135 Oldenburg
END:VEVENT
BEGIN:VEVENT
DTSTAMP:20260421T234900
DTSTART;TZID=Europe/Berlin:20260504T200000
DTEND;TZID=Europe/Berlin:20260504T213000
UID:U41001-20260504T200000@EFBOLDENBURG
SUMMARY:Chor-Singen für Frauen -  Der Haarenchor (U41001) 
LOCATION:Ev. Familien-Bildungsstätte, Saal, Gorch-Fock-Str. 5 a, 26135 Oldenburg
END:VEVENT
BEGIN:VEVENT
DTSTAMP:20260421T234900
DTSTART;TZID=Europe/Berlin:20260511T200000
DTEND;TZID=Europe/Berlin:20260511T213000
UID:U41001-20260511T200000@EFBOLDENBURG
SUMMARY:Chor-Singen für Frauen -  Der Haarenchor (U41001) 
LOCATION:Ev. Familien-Bildungsstätte, Saal, Gorch-Fock-Str. 5 a, 26135 Oldenburg
END:VEVENT
BEGIN:VEVENT
DTSTAMP:20260421T234900
DTSTART;TZID=Europe/Berlin:20260518T200000
DTEND;TZID=Europe/Berlin:20260518T213000
UID:U41001-20260518T200000@EFBOLDENBURG
SUMMARY:Chor-Singen für Frauen -  Der Haarenchor (U41001) 
LOCATION:Ev. Familien-Bildungsstätte, Saal, Gorch-Fock-Str. 5 a, 26135 Oldenburg
END:VEVENT
BEGIN:VEVENT
DTSTAMP:20260421T234900
DTSTART;TZID=Europe/Berlin:20260601T200000
DTEND;TZID=Europe/Berlin:20260601T213000
UID:U41001-20260601T200000@EFBOLDENBURG
SUMMARY:Chor-Singen für Frauen -  Der Haarenchor (U41001) 
LOCATION:Ev. Familien-Bildungsstätte, Saal, Gorch-Fock-Str. 5 a, 26135 Oldenburg
END:VEVENT
BEGIN:VEVENT
DTSTAMP:20260421T234900
DTSTART;TZID=Europe/Berlin:20260608T200000
DTEND;TZID=Europe/Berlin:20260608T213000
UID:U41001-20260608T200000@EFBOLDENBURG
SUMMARY:Chor-Singen für Frauen -  Der Haarenchor (U41001) 
LOCATION:Ev. Familien-Bildungsstätte, Saal, Gorch-Fock-Str. 5 a, 26135 Oldenburg
END:VEVENT
BEGIN:VEVENT
DTSTAMP:20260421T234900
DTSTART;TZID=Europe/Berlin:20260615T200000
DTEND;TZID=Europe/Berlin:20260615T213000
UID:U41001-20260615T200000@EFBOLDENBURG
SUMMARY:Chor-Singen für Frauen -  Der Haarenchor (U41001) 
LOCATION:Ev. Familien-Bildungsstätte, Saal, Gorch-Fock-Str. 5 a, 26135 Oldenburg
END:VEVENT
END:VCALENDAR