BEGIN:VCALENDAR
VERSION:2.0
PRODID:https://www.kufer.de/kuferweb / DE
METHOD:PUBLISH
CALSCALE:GREGORIAN
X-WR-TIMEZONE:Europe/Berlin
BEGIN:VTIMEZONE
TZID:Europe/Berlin
X-LIC-LOCATION:Europe/Berlin
BEGIN:DAYLIGHT
TZOFFSETFROM:+0100
TZOFFSETTO:+0200
TZNAME:CEST
DTSTART:19700329T020000
RRULE:FREQ=YEARLY;INTERVAL=1;BYDAY=-1SU;BYMONTH=3
END:DAYLIGHT
BEGIN:STANDARD
TZOFFSETFROM:+0200
TZOFFSETTO:+0100
TZNAME:CET
DTSTART:19701025T030000
RRULE:FREQ=YEARLY;INTERVAL=1;BYDAY=-1SU;BYMONTH=10
END:STANDARD
END:VTIMEZONE
BEGIN:VEVENT
DTSTAMP:20260422T011931
DTSTART;TZID=Europe/Berlin:20260824T200000
DTEND;TZID=Europe/Berlin:20260824T213000
UID:U41002-20260824T200000@EFBOLDENBURG
SUMMARY:Chor-Singen für Frauen -  Der Haarenchor (U41002) 
LOCATION:Ev. Familien-Bildungsstätte, Saal, Gorch-Fock-Str. 5 a, 26135 Oldenburg
END:VEVENT
BEGIN:VEVENT
DTSTAMP:20260422T011931
DTSTART;TZID=Europe/Berlin:20260831T200000
DTEND;TZID=Europe/Berlin:20260831T213000
UID:U41002-20260831T200000@EFBOLDENBURG
SUMMARY:Chor-Singen für Frauen -  Der Haarenchor (U41002) 
LOCATION:Ev. Familien-Bildungsstätte, Saal, Gorch-Fock-Str. 5 a, 26135 Oldenburg
END:VEVENT
BEGIN:VEVENT
DTSTAMP:20260422T011931
DTSTART;TZID=Europe/Berlin:20260907T200000
DTEND;TZID=Europe/Berlin:20260907T213000
UID:U41002-20260907T200000@EFBOLDENBURG
SUMMARY:Chor-Singen für Frauen -  Der Haarenchor (U41002) 
LOCATION:Ev. Familien-Bildungsstätte, Saal, Gorch-Fock-Str. 5 a, 26135 Oldenburg
END:VEVENT
BEGIN:VEVENT
DTSTAMP:20260422T011931
DTSTART;TZID=Europe/Berlin:20260914T200000
DTEND;TZID=Europe/Berlin:20260914T213000
UID:U41002-20260914T200000@EFBOLDENBURG
SUMMARY:Chor-Singen für Frauen -  Der Haarenchor (U41002) 
LOCATION:Ev. Familien-Bildungsstätte, Saal, Gorch-Fock-Str. 5 a, 26135 Oldenburg
END:VEVENT
BEGIN:VEVENT
DTSTAMP:20260422T011931
DTSTART;TZID=Europe/Berlin:20260921T200000
DTEND;TZID=Europe/Berlin:20260921T213000
UID:U41002-20260921T200000@EFBOLDENBURG
SUMMARY:Chor-Singen für Frauen -  Der Haarenchor (U41002) 
LOCATION:Ev. Familien-Bildungsstätte, Saal, Gorch-Fock-Str. 5 a, 26135 Oldenburg
END:VEVENT
BEGIN:VEVENT
DTSTAMP:20260422T011931
DTSTART;TZID=Europe/Berlin:20260928T200000
DTEND;TZID=Europe/Berlin:20260928T213000
UID:U41002-20260928T200000@EFBOLDENBURG
SUMMARY:Chor-Singen für Frauen -  Der Haarenchor (U41002) 
LOCATION:Ev. Familien-Bildungsstätte, Saal, Gorch-Fock-Str. 5 a, 26135 Oldenburg
END:VEVENT
BEGIN:VEVENT
DTSTAMP:20260422T011931
DTSTART;TZID=Europe/Berlin:20261005T200000
DTEND;TZID=Europe/Berlin:20261005T213000
UID:U41002-20261005T200000@EFBOLDENBURG
SUMMARY:Chor-Singen für Frauen -  Der Haarenchor (U41002) 
LOCATION:Ev. Familien-Bildungsstätte, Saal, Gorch-Fock-Str. 5 a, 26135 Oldenburg
END:VEVENT
BEGIN:VEVENT
DTSTAMP:20260422T011931
DTSTART;TZID=Europe/Berlin:20261026T200000
DTEND;TZID=Europe/Berlin:20261026T213000
UID:U41002-20261026T200000@EFBOLDENBURG
SUMMARY:Chor-Singen für Frauen -  Der Haarenchor (U41002) 
LOCATION:Ev. Familien-Bildungsstätte, Saal, Gorch-Fock-Str. 5 a, 26135 Oldenburg
END:VEVENT
BEGIN:VEVENT
DTSTAMP:20260422T011931
DTSTART;TZID=Europe/Berlin:20261102T200000
DTEND;TZID=Europe/Berlin:20261102T213000
UID:U41002-20261102T200000@EFBOLDENBURG
SUMMARY:Chor-Singen für Frauen -  Der Haarenchor (U41002) 
LOCATION:Ev. Familien-Bildungsstätte, Saal, Gorch-Fock-Str. 5 a, 26135 Oldenburg
END:VEVENT
BEGIN:VEVENT
DTSTAMP:20260422T011931
DTSTART;TZID=Europe/Berlin:20261109T200000
DTEND;TZID=Europe/Berlin:20261109T213000
UID:U41002-20261109T200000@EFBOLDENBURG
SUMMARY:Chor-Singen für Frauen -  Der Haarenchor (U41002) 
LOCATION:Ev. Familien-Bildungsstätte, Saal, Gorch-Fock-Str. 5 a, 26135 Oldenburg
END:VEVENT
BEGIN:VEVENT
DTSTAMP:20260422T011931
DTSTART;TZID=Europe/Berlin:20261116T200000
DTEND;TZID=Europe/Berlin:20261116T213000
UID:U41002-20261116T200000@EFBOLDENBURG
SUMMARY:Chor-Singen für Frauen -  Der Haarenchor (U41002) 
LOCATION:Ev. Familien-Bildungsstätte, Saal, Gorch-Fock-Str. 5 a, 26135 Oldenburg
END:VEVENT
BEGIN:VEVENT
DTSTAMP:20260422T011931
DTSTART;TZID=Europe/Berlin:20261123T200000
DTEND;TZID=Europe/Berlin:20261123T213000
UID:U41002-20261123T200000@EFBOLDENBURG
SUMMARY:Chor-Singen für Frauen -  Der Haarenchor (U41002) 
LOCATION:Ev. Familien-Bildungsstätte, Saal, Gorch-Fock-Str. 5 a, 26135 Oldenburg
END:VEVENT
BEGIN:VEVENT
DTSTAMP:20260422T011931
DTSTART;TZID=Europe/Berlin:20261130T200000
DTEND;TZID=Europe/Berlin:20261130T213000
UID:U41002-20261130T200000@EFBOLDENBURG
SUMMARY:Chor-Singen für Frauen -  Der Haarenchor (U41002) 
LOCATION:Ev. Familien-Bildungsstätte, Saal, Gorch-Fock-Str. 5 a, 26135 Oldenburg
END:VEVENT
BEGIN:VEVENT
DTSTAMP:20260422T011931
DTSTART;TZID=Europe/Berlin:20261207T200000
DTEND;TZID=Europe/Berlin:20261207T213000
UID:U41002-20261207T200000@EFBOLDENBURG
SUMMARY:Chor-Singen für Frauen -  Der Haarenchor (U41002) 
LOCATION:Ev. Familien-Bildungsstätte, Saal, Gorch-Fock-Str. 5 a, 26135 Oldenburg
END:VEVENT
BEGIN:VEVENT
DTSTAMP:20260422T011931
DTSTART;TZID=Europe/Berlin:20261214T200000
DTEND;TZID=Europe/Berlin:20261214T213000
UID:U41002-20261214T200000@EFBOLDENBURG
SUMMARY:Chor-Singen für Frauen -  Der Haarenchor (U41002) 
LOCATION:Ev. Familien-Bildungsstätte, Saal, Gorch-Fock-Str. 5 a, 26135 Oldenburg
END:VEVENT
END:VCALENDAR