BEGIN:VCALENDAR
VERSION:2.0
PRODID:https://www.kufer.de/kuferweb / DE
METHOD:PUBLISH
CALSCALE:GREGORIAN
X-WR-TIMEZONE:Europe/Berlin
BEGIN:VTIMEZONE
TZID:Europe/Berlin
X-LIC-LOCATION:Europe/Berlin
BEGIN:DAYLIGHT
TZOFFSETFROM:+0100
TZOFFSETTO:+0200
TZNAME:CEST
DTSTART:19700329T020000
RRULE:FREQ=YEARLY;INTERVAL=1;BYDAY=-1SU;BYMONTH=3
END:DAYLIGHT
BEGIN:STANDARD
TZOFFSETFROM:+0200
TZOFFSETTO:+0100
TZNAME:CET
DTSTART:19701025T030000
RRULE:FREQ=YEARLY;INTERVAL=1;BYDAY=-1SU;BYMONTH=10
END:STANDARD
END:VTIMEZONE
BEGIN:VEVENT
DTSTAMP:20260421T204156
DTSTART;TZID=Europe/Berlin:20260504T194500
DTEND;TZID=Europe/Berlin:20260504T210000
UID:U41008-20260504T194500@EFBOLDENBURG
SUMMARY:Ukulelespielen für fast noch Anfänger*innen (U41008) 
LOCATION:Ev. Familien-Bildungsstätte, Gesprächsraum, Gorch-Fock-Str. 5 a, 26135 Oldenburg
END:VEVENT
BEGIN:VEVENT
DTSTAMP:20260421T204156
DTSTART;TZID=Europe/Berlin:20260511T194500
DTEND;TZID=Europe/Berlin:20260511T210000
UID:U41008-20260511T194500@EFBOLDENBURG
SUMMARY:Ukulelespielen für fast noch Anfänger*innen (U41008) 
LOCATION:Ev. Familien-Bildungsstätte, Gesprächsraum, Gorch-Fock-Str. 5 a, 26135 Oldenburg
END:VEVENT
BEGIN:VEVENT
DTSTAMP:20260421T204156
DTSTART;TZID=Europe/Berlin:20260518T194500
DTEND;TZID=Europe/Berlin:20260518T210000
UID:U41008-20260518T194500@EFBOLDENBURG
SUMMARY:Ukulelespielen für fast noch Anfänger*innen (U41008) 
LOCATION:Ev. Familien-Bildungsstätte, Gesprächsraum, Gorch-Fock-Str. 5 a, 26135 Oldenburg
END:VEVENT
BEGIN:VEVENT
DTSTAMP:20260421T204156
DTSTART;TZID=Europe/Berlin:20260601T194500
DTEND;TZID=Europe/Berlin:20260601T210000
UID:U41008-20260601T194500@EFBOLDENBURG
SUMMARY:Ukulelespielen für fast noch Anfänger*innen (U41008) 
LOCATION:Ev. Familien-Bildungsstätte, Gesprächsraum, Gorch-Fock-Str. 5 a, 26135 Oldenburg
END:VEVENT
BEGIN:VEVENT
DTSTAMP:20260421T204156
DTSTART;TZID=Europe/Berlin:20260608T194500
DTEND;TZID=Europe/Berlin:20260608T210000
UID:U41008-20260608T194500@EFBOLDENBURG
SUMMARY:Ukulelespielen für fast noch Anfänger*innen (U41008) 
LOCATION:Ev. Familien-Bildungsstätte, Gesprächsraum, Gorch-Fock-Str. 5 a, 26135 Oldenburg
END:VEVENT
BEGIN:VEVENT
DTSTAMP:20260421T204156
DTSTART;TZID=Europe/Berlin:20260615T194500
DTEND;TZID=Europe/Berlin:20260615T210000
UID:U41008-20260615T194500@EFBOLDENBURG
SUMMARY:Ukulelespielen für fast noch Anfänger*innen (U41008) 
LOCATION:Ev. Familien-Bildungsstätte, Gesprächsraum, Gorch-Fock-Str. 5 a, 26135 Oldenburg
END:VEVENT
END:VCALENDAR