BEGIN:VCALENDAR
VERSION:2.0
PRODID:https://www.kufer.de/kuferweb / DE
METHOD:PUBLISH
CALSCALE:GREGORIAN
X-WR-TIMEZONE:Europe/Berlin
BEGIN:VTIMEZONE
TZID:Europe/Berlin
X-LIC-LOCATION:Europe/Berlin
BEGIN:DAYLIGHT
TZOFFSETFROM:+0100
TZOFFSETTO:+0200
TZNAME:CEST
DTSTART:19700329T020000
RRULE:FREQ=YEARLY;INTERVAL=1;BYDAY=-1SU;BYMONTH=3
END:DAYLIGHT
BEGIN:STANDARD
TZOFFSETFROM:+0200
TZOFFSETTO:+0100
TZNAME:CET
DTSTART:19701025T030000
RRULE:FREQ=YEARLY;INTERVAL=1;BYDAY=-1SU;BYMONTH=10
END:STANDARD
END:VTIMEZONE
BEGIN:VEVENT
DTSTAMP:20260421T190558
DTSTART;TZID=Europe/Berlin:20260921T194500
DTEND;TZID=Europe/Berlin:20260921T210000
UID:U41009-20260921T194500@EFBOLDENBURG
SUMMARY:Ukulelespielen für fast noch Anfänger*innen (U41009) 
LOCATION:Ev. Familien-Bildungsstätte, Gesprächsraum, Gorch-Fock-Str. 5 a, 26135 Oldenburg
END:VEVENT
BEGIN:VEVENT
DTSTAMP:20260421T190558
DTSTART;TZID=Europe/Berlin:20260928T194500
DTEND;TZID=Europe/Berlin:20260928T210000
UID:U41009-20260928T194500@EFBOLDENBURG
SUMMARY:Ukulelespielen für fast noch Anfänger*innen (U41009) 
LOCATION:Ev. Familien-Bildungsstätte, Gesprächsraum, Gorch-Fock-Str. 5 a, 26135 Oldenburg
END:VEVENT
BEGIN:VEVENT
DTSTAMP:20260421T190558
DTSTART;TZID=Europe/Berlin:20261005T194500
DTEND;TZID=Europe/Berlin:20261005T210000
UID:U41009-20261005T194500@EFBOLDENBURG
SUMMARY:Ukulelespielen für fast noch Anfänger*innen (U41009) 
LOCATION:Ev. Familien-Bildungsstätte, Gesprächsraum, Gorch-Fock-Str. 5 a, 26135 Oldenburg
END:VEVENT
BEGIN:VEVENT
DTSTAMP:20260421T190558
DTSTART;TZID=Europe/Berlin:20261026T194500
DTEND;TZID=Europe/Berlin:20261026T210000
UID:U41009-20261026T194500@EFBOLDENBURG
SUMMARY:Ukulelespielen für fast noch Anfänger*innen (U41009) 
LOCATION:Ev. Familien-Bildungsstätte, Gesprächsraum, Gorch-Fock-Str. 5 a, 26135 Oldenburg
END:VEVENT
BEGIN:VEVENT
DTSTAMP:20260421T190558
DTSTART;TZID=Europe/Berlin:20261102T194500
DTEND;TZID=Europe/Berlin:20261102T210000
UID:U41009-20261102T194500@EFBOLDENBURG
SUMMARY:Ukulelespielen für fast noch Anfänger*innen (U41009) 
LOCATION:Ev. Familien-Bildungsstätte, Gesprächsraum, Gorch-Fock-Str. 5 a, 26135 Oldenburg
END:VEVENT
BEGIN:VEVENT
DTSTAMP:20260421T190558
DTSTART;TZID=Europe/Berlin:20261109T194500
DTEND;TZID=Europe/Berlin:20261109T210000
UID:U41009-20261109T194500@EFBOLDENBURG
SUMMARY:Ukulelespielen für fast noch Anfänger*innen (U41009) 
LOCATION:Ev. Familien-Bildungsstätte, Gesprächsraum, Gorch-Fock-Str. 5 a, 26135 Oldenburg
END:VEVENT
BEGIN:VEVENT
DTSTAMP:20260421T190558
DTSTART;TZID=Europe/Berlin:20261116T194500
DTEND;TZID=Europe/Berlin:20261116T210000
UID:U41009-20261116T194500@EFBOLDENBURG
SUMMARY:Ukulelespielen für fast noch Anfänger*innen (U41009) 
LOCATION:Ev. Familien-Bildungsstätte, Gesprächsraum, Gorch-Fock-Str. 5 a, 26135 Oldenburg
END:VEVENT
BEGIN:VEVENT
DTSTAMP:20260421T190558
DTSTART;TZID=Europe/Berlin:20261123T194500
DTEND;TZID=Europe/Berlin:20261123T210000
UID:U41009-20261123T194500@EFBOLDENBURG
SUMMARY:Ukulelespielen für fast noch Anfänger*innen (U41009) 
LOCATION:Ev. Familien-Bildungsstätte, Gesprächsraum, Gorch-Fock-Str. 5 a, 26135 Oldenburg
END:VEVENT
BEGIN:VEVENT
DTSTAMP:20260421T190558
DTSTART;TZID=Europe/Berlin:20261130T194500
DTEND;TZID=Europe/Berlin:20261130T210000
UID:U41009-20261130T194500@EFBOLDENBURG
SUMMARY:Ukulelespielen für fast noch Anfänger*innen (U41009) 
LOCATION:Ev. Familien-Bildungsstätte, Gesprächsraum, Gorch-Fock-Str. 5 a, 26135 Oldenburg
END:VEVENT
END:VCALENDAR