BEGIN:VCALENDAR
VERSION:2.0
PRODID:https://www.kufer.de/kuferweb / DE
METHOD:PUBLISH
CALSCALE:GREGORIAN
X-WR-TIMEZONE:Europe/Berlin
BEGIN:VTIMEZONE
TZID:Europe/Berlin
X-LIC-LOCATION:Europe/Berlin
BEGIN:DAYLIGHT
TZOFFSETFROM:+0100
TZOFFSETTO:+0200
TZNAME:CEST
DTSTART:19700329T020000
RRULE:FREQ=YEARLY;INTERVAL=1;BYDAY=-1SU;BYMONTH=3
END:DAYLIGHT
BEGIN:STANDARD
TZOFFSETFROM:+0200
TZOFFSETTO:+0100
TZNAME:CET
DTSTART:19701025T030000
RRULE:FREQ=YEARLY;INTERVAL=1;BYDAY=-1SU;BYMONTH=10
END:STANDARD
END:VTIMEZONE
BEGIN:VEVENT
DTSTAMP:20260421T220238
DTSTART;TZID=Europe/Berlin:20260921T163000
DTEND;TZID=Europe/Berlin:20260921T174500
UID:U41012-20260921T163000@EFBOLDENBURG
SUMMARY:Ukulelespielen mit Grundkenntnissen (U41012) 
LOCATION:Ev. Familien-Bildungsstätte, Gesprächsraum, Gorch-Fock-Str. 5 a, 26135 Oldenburg
END:VEVENT
BEGIN:VEVENT
DTSTAMP:20260421T220238
DTSTART;TZID=Europe/Berlin:20260928T163000
DTEND;TZID=Europe/Berlin:20260928T174500
UID:U41012-20260928T163000@EFBOLDENBURG
SUMMARY:Ukulelespielen mit Grundkenntnissen (U41012) 
LOCATION:Ev. Familien-Bildungsstätte, Gesprächsraum, Gorch-Fock-Str. 5 a, 26135 Oldenburg
END:VEVENT
BEGIN:VEVENT
DTSTAMP:20260421T220238
DTSTART;TZID=Europe/Berlin:20261005T163000
DTEND;TZID=Europe/Berlin:20261005T174500
UID:U41012-20261005T163000@EFBOLDENBURG
SUMMARY:Ukulelespielen mit Grundkenntnissen (U41012) 
LOCATION:Ev. Familien-Bildungsstätte, Gesprächsraum, Gorch-Fock-Str. 5 a, 26135 Oldenburg
END:VEVENT
BEGIN:VEVENT
DTSTAMP:20260421T220238
DTSTART;TZID=Europe/Berlin:20261026T163000
DTEND;TZID=Europe/Berlin:20261026T174500
UID:U41012-20261026T163000@EFBOLDENBURG
SUMMARY:Ukulelespielen mit Grundkenntnissen (U41012) 
LOCATION:Ev. Familien-Bildungsstätte, Gesprächsraum, Gorch-Fock-Str. 5 a, 26135 Oldenburg
END:VEVENT
BEGIN:VEVENT
DTSTAMP:20260421T220238
DTSTART;TZID=Europe/Berlin:20261102T163000
DTEND;TZID=Europe/Berlin:20261102T174500
UID:U41012-20261102T163000@EFBOLDENBURG
SUMMARY:Ukulelespielen mit Grundkenntnissen (U41012) 
LOCATION:Ev. Familien-Bildungsstätte, Gesprächsraum, Gorch-Fock-Str. 5 a, 26135 Oldenburg
END:VEVENT
BEGIN:VEVENT
DTSTAMP:20260421T220238
DTSTART;TZID=Europe/Berlin:20261109T163000
DTEND;TZID=Europe/Berlin:20261109T174500
UID:U41012-20261109T163000@EFBOLDENBURG
SUMMARY:Ukulelespielen mit Grundkenntnissen (U41012) 
LOCATION:Ev. Familien-Bildungsstätte, Gesprächsraum, Gorch-Fock-Str. 5 a, 26135 Oldenburg
END:VEVENT
BEGIN:VEVENT
DTSTAMP:20260421T220238
DTSTART;TZID=Europe/Berlin:20261116T163000
DTEND;TZID=Europe/Berlin:20261116T174500
UID:U41012-20261116T163000@EFBOLDENBURG
SUMMARY:Ukulelespielen mit Grundkenntnissen (U41012) 
LOCATION:Ev. Familien-Bildungsstätte, Gesprächsraum, Gorch-Fock-Str. 5 a, 26135 Oldenburg
END:VEVENT
BEGIN:VEVENT
DTSTAMP:20260421T220238
DTSTART;TZID=Europe/Berlin:20261123T163000
DTEND;TZID=Europe/Berlin:20261123T174500
UID:U41012-20261123T163000@EFBOLDENBURG
SUMMARY:Ukulelespielen mit Grundkenntnissen (U41012) 
LOCATION:Ev. Familien-Bildungsstätte, Gesprächsraum, Gorch-Fock-Str. 5 a, 26135 Oldenburg
END:VEVENT
BEGIN:VEVENT
DTSTAMP:20260421T220238
DTSTART;TZID=Europe/Berlin:20261130T163000
DTEND;TZID=Europe/Berlin:20261130T174500
UID:U41012-20261130T163000@EFBOLDENBURG
SUMMARY:Ukulelespielen mit Grundkenntnissen (U41012) 
LOCATION:Ev. Familien-Bildungsstätte, Gesprächsraum, Gorch-Fock-Str. 5 a, 26135 Oldenburg
END:VEVENT
END:VCALENDAR