BEGIN:VCALENDAR
VERSION:2.0
PRODID:https://www.kufer.de/kuferweb / DE
METHOD:PUBLISH
CALSCALE:GREGORIAN
X-WR-TIMEZONE:Europe/Berlin
BEGIN:VTIMEZONE
TZID:Europe/Berlin
X-LIC-LOCATION:Europe/Berlin
BEGIN:DAYLIGHT
TZOFFSETFROM:+0100
TZOFFSETTO:+0200
TZNAME:CEST
DTSTART:19700329T020000
RRULE:FREQ=YEARLY;INTERVAL=1;BYDAY=-1SU;BYMONTH=3
END:DAYLIGHT
BEGIN:STANDARD
TZOFFSETFROM:+0200
TZOFFSETTO:+0100
TZNAME:CET
DTSTART:19701025T030000
RRULE:FREQ=YEARLY;INTERVAL=1;BYDAY=-1SU;BYMONTH=10
END:STANDARD
END:VTIMEZONE
BEGIN:VEVENT
DTSTAMP:20260421T215633
DTSTART;TZID=Europe/Berlin:20260115T170000
DTEND;TZID=Europe/Berlin:20260115T174500
UID:U41025-20260115T170000@EFBOLDENBURG
SUMMARY:Gitarrenkurse für Erwachsene (U41025) 
LOCATION:Gemeindehaus Jona, Heimeck 23 a, Heimeck 23 a, 26135 Oldenburg
END:VEVENT
BEGIN:VEVENT
DTSTAMP:20260421T215633
DTSTART;TZID=Europe/Berlin:20260122T170000
DTEND;TZID=Europe/Berlin:20260122T174500
UID:U41025-20260122T170000@EFBOLDENBURG
SUMMARY:Gitarrenkurse für Erwachsene (U41025) 
LOCATION:Gemeindehaus Jona, Heimeck 23 a, Heimeck 23 a, 26135 Oldenburg
END:VEVENT
BEGIN:VEVENT
DTSTAMP:20260421T215633
DTSTART;TZID=Europe/Berlin:20260129T170000
DTEND;TZID=Europe/Berlin:20260129T174500
UID:U41025-20260129T170000@EFBOLDENBURG
SUMMARY:Gitarrenkurse für Erwachsene (U41025) 
LOCATION:Gemeindehaus Jona, Heimeck 23 a, Heimeck 23 a, 26135 Oldenburg
END:VEVENT
BEGIN:VEVENT
DTSTAMP:20260421T215633
DTSTART;TZID=Europe/Berlin:20260205T170000
DTEND;TZID=Europe/Berlin:20260205T174500
UID:U41025-20260205T170000@EFBOLDENBURG
SUMMARY:Gitarrenkurse für Erwachsene (U41025) 
LOCATION:Gemeindehaus Jona, Heimeck 23 a, Heimeck 23 a, 26135 Oldenburg
END:VEVENT
BEGIN:VEVENT
DTSTAMP:20260421T215633
DTSTART;TZID=Europe/Berlin:20260212T170000
DTEND;TZID=Europe/Berlin:20260212T174500
UID:U41025-20260212T170000@EFBOLDENBURG
SUMMARY:Gitarrenkurse für Erwachsene (U41025) 
LOCATION:Gemeindehaus Jona, Heimeck 23 a, Heimeck 23 a, 26135 Oldenburg
END:VEVENT
BEGIN:VEVENT
DTSTAMP:20260421T215633
DTSTART;TZID=Europe/Berlin:20260219T170000
DTEND;TZID=Europe/Berlin:20260219T174500
UID:U41025-20260219T170000@EFBOLDENBURG
SUMMARY:Gitarrenkurse für Erwachsene (U41025) 
LOCATION:Gemeindehaus Jona, Heimeck 23 a, Heimeck 23 a, 26135 Oldenburg
END:VEVENT
BEGIN:VEVENT
DTSTAMP:20260421T215633
DTSTART;TZID=Europe/Berlin:20260226T170000
DTEND;TZID=Europe/Berlin:20260226T174500
UID:U41025-20260226T170000@EFBOLDENBURG
SUMMARY:Gitarrenkurse für Erwachsene (U41025) 
LOCATION:Gemeindehaus Jona, Heimeck 23 a, Heimeck 23 a, 26135 Oldenburg
END:VEVENT
BEGIN:VEVENT
DTSTAMP:20260421T215633
DTSTART;TZID=Europe/Berlin:20260305T170000
DTEND;TZID=Europe/Berlin:20260305T174500
UID:U41025-20260305T170000@EFBOLDENBURG
SUMMARY:Gitarrenkurse für Erwachsene (U41025) 
LOCATION:Gemeindehaus Jona, Heimeck 23 a, Heimeck 23 a, 26135 Oldenburg
END:VEVENT
BEGIN:VEVENT
DTSTAMP:20260421T215633
DTSTART;TZID=Europe/Berlin:20260312T170000
DTEND;TZID=Europe/Berlin:20260312T174500
UID:U41025-20260312T170000@EFBOLDENBURG
SUMMARY:Gitarrenkurse für Erwachsene (U41025) 
LOCATION:Gemeindehaus Jona, Heimeck 23 a, Heimeck 23 a, 26135 Oldenburg
END:VEVENT
BEGIN:VEVENT
DTSTAMP:20260421T215633
DTSTART;TZID=Europe/Berlin:20260319T170000
DTEND;TZID=Europe/Berlin:20260319T174500
UID:U41025-20260319T170000@EFBOLDENBURG
SUMMARY:Gitarrenkurse für Erwachsene (U41025) 
LOCATION:Gemeindehaus Jona, Heimeck 23 a, Heimeck 23 a, 26135 Oldenburg
END:VEVENT
BEGIN:VEVENT
DTSTAMP:20260421T215633
DTSTART;TZID=Europe/Berlin:20260409T170000
DTEND;TZID=Europe/Berlin:20260409T174500
UID:U41025-20260409T170000@EFBOLDENBURG
SUMMARY:Gitarrenkurse für Erwachsene (U41025) 
LOCATION:Gemeindehaus Jona, Heimeck 23 a, Heimeck 23 a, 26135 Oldenburg
END:VEVENT
BEGIN:VEVENT
DTSTAMP:20260421T215633
DTSTART;TZID=Europe/Berlin:20260416T170000
DTEND;TZID=Europe/Berlin:20260416T174500
UID:U41025-20260416T170000@EFBOLDENBURG
SUMMARY:Gitarrenkurse für Erwachsene (U41025) 
LOCATION:Gemeindehaus Jona, Heimeck 23 a, Heimeck 23 a, 26135 Oldenburg
END:VEVENT
BEGIN:VEVENT
DTSTAMP:20260421T215633
DTSTART;TZID=Europe/Berlin:20260423T170000
DTEND;TZID=Europe/Berlin:20260423T174500
UID:U41025-20260423T170000@EFBOLDENBURG
SUMMARY:Gitarrenkurse für Erwachsene (U41025) 
LOCATION:Gemeindehaus Jona, Heimeck 23 a, Heimeck 23 a, 26135 Oldenburg
END:VEVENT
BEGIN:VEVENT
DTSTAMP:20260421T215633
DTSTART;TZID=Europe/Berlin:20260430T170000
DTEND;TZID=Europe/Berlin:20260430T174500
UID:U41025-20260430T170000@EFBOLDENBURG
SUMMARY:Gitarrenkurse für Erwachsene (U41025) 
LOCATION:Gemeindehaus Jona, Heimeck 23 a, Heimeck 23 a, 26135 Oldenburg
END:VEVENT
BEGIN:VEVENT
DTSTAMP:20260421T215633
DTSTART;TZID=Europe/Berlin:20260507T170000
DTEND;TZID=Europe/Berlin:20260507T174500
UID:U41025-20260507T170000@EFBOLDENBURG
SUMMARY:Gitarrenkurse für Erwachsene (U41025) 
LOCATION:Gemeindehaus Jona, Heimeck 23 a, Heimeck 23 a, 26135 Oldenburg
END:VEVENT
END:VCALENDAR