BEGIN:VCALENDAR
VERSION:2.0
PRODID:https://www.kufer.de/kuferweb / DE
METHOD:PUBLISH
CALSCALE:GREGORIAN
X-WR-TIMEZONE:Europe/Berlin
BEGIN:VTIMEZONE
TZID:Europe/Berlin
X-LIC-LOCATION:Europe/Berlin
BEGIN:DAYLIGHT
TZOFFSETFROM:+0100
TZOFFSETTO:+0200
TZNAME:CEST
DTSTART:19700329T020000
RRULE:FREQ=YEARLY;INTERVAL=1;BYDAY=-1SU;BYMONTH=3
END:DAYLIGHT
BEGIN:STANDARD
TZOFFSETFROM:+0200
TZOFFSETTO:+0100
TZNAME:CET
DTSTART:19701025T030000
RRULE:FREQ=YEARLY;INTERVAL=1;BYDAY=-1SU;BYMONTH=10
END:STANDARD
END:VTIMEZONE
BEGIN:VEVENT
DTSTAMP:20260422T010713
DTSTART;TZID=Europe/Berlin:20260115T191500
DTEND;TZID=Europe/Berlin:20260115T201500
UID:U41026-20260115T191500@EFBOLDENBURG
SUMMARY:Gitarrenkurse für Erwachsene (U41026) 
LOCATION:Gemeindehaus Jona, Heimeck 23 a, Heimeck 23 a, 26135 Oldenburg
END:VEVENT
BEGIN:VEVENT
DTSTAMP:20260422T010713
DTSTART;TZID=Europe/Berlin:20260122T191500
DTEND;TZID=Europe/Berlin:20260122T201500
UID:U41026-20260122T191500@EFBOLDENBURG
SUMMARY:Gitarrenkurse für Erwachsene (U41026) 
LOCATION:Gemeindehaus Jona, Heimeck 23 a, Heimeck 23 a, 26135 Oldenburg
END:VEVENT
BEGIN:VEVENT
DTSTAMP:20260422T010713
DTSTART;TZID=Europe/Berlin:20260129T191500
DTEND;TZID=Europe/Berlin:20260129T201500
UID:U41026-20260129T191500@EFBOLDENBURG
SUMMARY:Gitarrenkurse für Erwachsene (U41026) 
LOCATION:Gemeindehaus Jona, Heimeck 23 a, Heimeck 23 a, 26135 Oldenburg
END:VEVENT
BEGIN:VEVENT
DTSTAMP:20260422T010713
DTSTART;TZID=Europe/Berlin:20260205T191500
DTEND;TZID=Europe/Berlin:20260205T201500
UID:U41026-20260205T191500@EFBOLDENBURG
SUMMARY:Gitarrenkurse für Erwachsene (U41026) 
LOCATION:Gemeindehaus Jona, Heimeck 23 a, Heimeck 23 a, 26135 Oldenburg
END:VEVENT
BEGIN:VEVENT
DTSTAMP:20260422T010713
DTSTART;TZID=Europe/Berlin:20260212T191500
DTEND;TZID=Europe/Berlin:20260212T201500
UID:U41026-20260212T191500@EFBOLDENBURG
SUMMARY:Gitarrenkurse für Erwachsene (U41026) 
LOCATION:Gemeindehaus Jona, Heimeck 23 a, Heimeck 23 a, 26135 Oldenburg
END:VEVENT
BEGIN:VEVENT
DTSTAMP:20260422T010713
DTSTART;TZID=Europe/Berlin:20260219T191500
DTEND;TZID=Europe/Berlin:20260219T201500
UID:U41026-20260219T191500@EFBOLDENBURG
SUMMARY:Gitarrenkurse für Erwachsene (U41026) 
LOCATION:Gemeindehaus Jona, Heimeck 23 a, Heimeck 23 a, 26135 Oldenburg
END:VEVENT
BEGIN:VEVENT
DTSTAMP:20260422T010713
DTSTART;TZID=Europe/Berlin:20260226T191500
DTEND;TZID=Europe/Berlin:20260226T201500
UID:U41026-20260226T191500@EFBOLDENBURG
SUMMARY:Gitarrenkurse für Erwachsene (U41026) 
LOCATION:Gemeindehaus Jona, Heimeck 23 a, Heimeck 23 a, 26135 Oldenburg
END:VEVENT
BEGIN:VEVENT
DTSTAMP:20260422T010713
DTSTART;TZID=Europe/Berlin:20260305T191500
DTEND;TZID=Europe/Berlin:20260305T201500
UID:U41026-20260305T191500@EFBOLDENBURG
SUMMARY:Gitarrenkurse für Erwachsene (U41026) 
LOCATION:Gemeindehaus Jona, Heimeck 23 a, Heimeck 23 a, 26135 Oldenburg
END:VEVENT
BEGIN:VEVENT
DTSTAMP:20260422T010713
DTSTART;TZID=Europe/Berlin:20260312T191500
DTEND;TZID=Europe/Berlin:20260312T201500
UID:U41026-20260312T191500@EFBOLDENBURG
SUMMARY:Gitarrenkurse für Erwachsene (U41026) 
LOCATION:Gemeindehaus Jona, Heimeck 23 a, Heimeck 23 a, 26135 Oldenburg
END:VEVENT
BEGIN:VEVENT
DTSTAMP:20260422T010713
DTSTART;TZID=Europe/Berlin:20260319T191500
DTEND;TZID=Europe/Berlin:20260319T201500
UID:U41026-20260319T191500@EFBOLDENBURG
SUMMARY:Gitarrenkurse für Erwachsene (U41026) 
LOCATION:Gemeindehaus Jona, Heimeck 23 a, Heimeck 23 a, 26135 Oldenburg
END:VEVENT
BEGIN:VEVENT
DTSTAMP:20260422T010713
DTSTART;TZID=Europe/Berlin:20260409T191500
DTEND;TZID=Europe/Berlin:20260409T201500
UID:U41026-20260409T191500@EFBOLDENBURG
SUMMARY:Gitarrenkurse für Erwachsene (U41026) 
LOCATION:Gemeindehaus Jona, Heimeck 23 a, Heimeck 23 a, 26135 Oldenburg
END:VEVENT
BEGIN:VEVENT
DTSTAMP:20260422T010713
DTSTART;TZID=Europe/Berlin:20260416T191500
DTEND;TZID=Europe/Berlin:20260416T201500
UID:U41026-20260416T191500@EFBOLDENBURG
SUMMARY:Gitarrenkurse für Erwachsene (U41026) 
LOCATION:Gemeindehaus Jona, Heimeck 23 a, Heimeck 23 a, 26135 Oldenburg
END:VEVENT
BEGIN:VEVENT
DTSTAMP:20260422T010713
DTSTART;TZID=Europe/Berlin:20260423T191500
DTEND;TZID=Europe/Berlin:20260423T201500
UID:U41026-20260423T191500@EFBOLDENBURG
SUMMARY:Gitarrenkurse für Erwachsene (U41026) 
LOCATION:Gemeindehaus Jona, Heimeck 23 a, Heimeck 23 a, 26135 Oldenburg
END:VEVENT
BEGIN:VEVENT
DTSTAMP:20260422T010713
DTSTART;TZID=Europe/Berlin:20260430T191500
DTEND;TZID=Europe/Berlin:20260430T201500
UID:U41026-20260430T191500@EFBOLDENBURG
SUMMARY:Gitarrenkurse für Erwachsene (U41026) 
LOCATION:Gemeindehaus Jona, Heimeck 23 a, Heimeck 23 a, 26135 Oldenburg
END:VEVENT
BEGIN:VEVENT
DTSTAMP:20260422T010713
DTSTART;TZID=Europe/Berlin:20260507T191500
DTEND;TZID=Europe/Berlin:20260507T201500
UID:U41026-20260507T191500@EFBOLDENBURG
SUMMARY:Gitarrenkurse für Erwachsene (U41026) 
LOCATION:Gemeindehaus Jona, Heimeck 23 a, Heimeck 23 a, 26135 Oldenburg
END:VEVENT
END:VCALENDAR