BEGIN:VCALENDAR
VERSION:2.0
PRODID:https://www.kufer.de/kuferweb / DE
METHOD:PUBLISH
CALSCALE:GREGORIAN
X-WR-TIMEZONE:Europe/Berlin
BEGIN:VTIMEZONE
TZID:Europe/Berlin
X-LIC-LOCATION:Europe/Berlin
BEGIN:DAYLIGHT
TZOFFSETFROM:+0100
TZOFFSETTO:+0200
TZNAME:CEST
DTSTART:19700329T020000
RRULE:FREQ=YEARLY;INTERVAL=1;BYDAY=-1SU;BYMONTH=3
END:DAYLIGHT
BEGIN:STANDARD
TZOFFSETFROM:+0200
TZOFFSETTO:+0100
TZNAME:CET
DTSTART:19701025T030000
RRULE:FREQ=YEARLY;INTERVAL=1;BYDAY=-1SU;BYMONTH=10
END:STANDARD
END:VTIMEZONE
BEGIN:VEVENT
DTSTAMP:20260421T233917
DTSTART;TZID=Europe/Berlin:20260115T203000
DTEND;TZID=Europe/Berlin:20260115T210000
UID:U41029-20260115T203000@EFBOLDENBURG
SUMMARY:Gitarrenkurse für Erwachsene - Sylvalex Band     U2 im Gemeindehaus Jona (U41029) 
LOCATION:Gemeindehaus Jona, Heimeck 23 a, Heimeck 23 a, 26135 Oldenburg
END:VEVENT
BEGIN:VEVENT
DTSTAMP:20260421T233917
DTSTART;TZID=Europe/Berlin:20260122T203000
DTEND;TZID=Europe/Berlin:20260122T210000
UID:U41029-20260122T203000@EFBOLDENBURG
SUMMARY:Gitarrenkurse für Erwachsene - Sylvalex Band     U2 im Gemeindehaus Jona (U41029) 
LOCATION:Gemeindehaus Jona, Heimeck 23 a, Heimeck 23 a, 26135 Oldenburg
END:VEVENT
BEGIN:VEVENT
DTSTAMP:20260421T233917
DTSTART;TZID=Europe/Berlin:20260129T203000
DTEND;TZID=Europe/Berlin:20260129T210000
UID:U41029-20260129T203000@EFBOLDENBURG
SUMMARY:Gitarrenkurse für Erwachsene - Sylvalex Band     U2 im Gemeindehaus Jona (U41029) 
LOCATION:Gemeindehaus Jona, Heimeck 23 a, Heimeck 23 a, 26135 Oldenburg
END:VEVENT
BEGIN:VEVENT
DTSTAMP:20260421T233917
DTSTART;TZID=Europe/Berlin:20260205T203000
DTEND;TZID=Europe/Berlin:20260205T210000
UID:U41029-20260205T203000@EFBOLDENBURG
SUMMARY:Gitarrenkurse für Erwachsene - Sylvalex Band     U2 im Gemeindehaus Jona (U41029) 
LOCATION:Gemeindehaus Jona, Heimeck 23 a, Heimeck 23 a, 26135 Oldenburg
END:VEVENT
BEGIN:VEVENT
DTSTAMP:20260421T233917
DTSTART;TZID=Europe/Berlin:20260212T203000
DTEND;TZID=Europe/Berlin:20260212T210000
UID:U41029-20260212T203000@EFBOLDENBURG
SUMMARY:Gitarrenkurse für Erwachsene - Sylvalex Band     U2 im Gemeindehaus Jona (U41029) 
LOCATION:Gemeindehaus Jona, Heimeck 23 a, Heimeck 23 a, 26135 Oldenburg
END:VEVENT
BEGIN:VEVENT
DTSTAMP:20260421T233917
DTSTART;TZID=Europe/Berlin:20260219T203000
DTEND;TZID=Europe/Berlin:20260219T210000
UID:U41029-20260219T203000@EFBOLDENBURG
SUMMARY:Gitarrenkurse für Erwachsene - Sylvalex Band     U2 im Gemeindehaus Jona (U41029) 
LOCATION:Gemeindehaus Jona, Heimeck 23 a, Heimeck 23 a, 26135 Oldenburg
END:VEVENT
BEGIN:VEVENT
DTSTAMP:20260421T233917
DTSTART;TZID=Europe/Berlin:20260226T203000
DTEND;TZID=Europe/Berlin:20260226T210000
UID:U41029-20260226T203000@EFBOLDENBURG
SUMMARY:Gitarrenkurse für Erwachsene - Sylvalex Band     U2 im Gemeindehaus Jona (U41029) 
LOCATION:Gemeindehaus Jona, Heimeck 23 a, Heimeck 23 a, 26135 Oldenburg
END:VEVENT
BEGIN:VEVENT
DTSTAMP:20260421T233917
DTSTART;TZID=Europe/Berlin:20260305T203000
DTEND;TZID=Europe/Berlin:20260305T210000
UID:U41029-20260305T203000@EFBOLDENBURG
SUMMARY:Gitarrenkurse für Erwachsene - Sylvalex Band     U2 im Gemeindehaus Jona (U41029) 
LOCATION:Gemeindehaus Jona, Heimeck 23 a, Heimeck 23 a, 26135 Oldenburg
END:VEVENT
BEGIN:VEVENT
DTSTAMP:20260421T233917
DTSTART;TZID=Europe/Berlin:20260312T203000
DTEND;TZID=Europe/Berlin:20260312T210000
UID:U41029-20260312T203000@EFBOLDENBURG
SUMMARY:Gitarrenkurse für Erwachsene - Sylvalex Band     U2 im Gemeindehaus Jona (U41029) 
LOCATION:Gemeindehaus Jona, Heimeck 23 a, Heimeck 23 a, 26135 Oldenburg
END:VEVENT
BEGIN:VEVENT
DTSTAMP:20260421T233917
DTSTART;TZID=Europe/Berlin:20260319T203000
DTEND;TZID=Europe/Berlin:20260319T210000
UID:U41029-20260319T203000@EFBOLDENBURG
SUMMARY:Gitarrenkurse für Erwachsene - Sylvalex Band     U2 im Gemeindehaus Jona (U41029) 
LOCATION:Gemeindehaus Jona, Heimeck 23 a, Heimeck 23 a, 26135 Oldenburg
END:VEVENT
BEGIN:VEVENT
DTSTAMP:20260421T233917
DTSTART;TZID=Europe/Berlin:20260409T203000
DTEND;TZID=Europe/Berlin:20260409T210000
UID:U41029-20260409T203000@EFBOLDENBURG
SUMMARY:Gitarrenkurse für Erwachsene - Sylvalex Band     U2 im Gemeindehaus Jona (U41029) 
LOCATION:Gemeindehaus Jona, Heimeck 23 a, Heimeck 23 a, 26135 Oldenburg
END:VEVENT
BEGIN:VEVENT
DTSTAMP:20260421T233917
DTSTART;TZID=Europe/Berlin:20260416T203000
DTEND;TZID=Europe/Berlin:20260416T210000
UID:U41029-20260416T203000@EFBOLDENBURG
SUMMARY:Gitarrenkurse für Erwachsene - Sylvalex Band     U2 im Gemeindehaus Jona (U41029) 
LOCATION:Gemeindehaus Jona, Heimeck 23 a, Heimeck 23 a, 26135 Oldenburg
END:VEVENT
BEGIN:VEVENT
DTSTAMP:20260421T233917
DTSTART;TZID=Europe/Berlin:20260423T203000
DTEND;TZID=Europe/Berlin:20260423T210000
UID:U41029-20260423T203000@EFBOLDENBURG
SUMMARY:Gitarrenkurse für Erwachsene - Sylvalex Band     U2 im Gemeindehaus Jona (U41029) 
LOCATION:Gemeindehaus Jona, Heimeck 23 a, Heimeck 23 a, 26135 Oldenburg
END:VEVENT
BEGIN:VEVENT
DTSTAMP:20260421T233917
DTSTART;TZID=Europe/Berlin:20260430T203000
DTEND;TZID=Europe/Berlin:20260430T210000
UID:U41029-20260430T203000@EFBOLDENBURG
SUMMARY:Gitarrenkurse für Erwachsene - Sylvalex Band     U2 im Gemeindehaus Jona (U41029) 
LOCATION:Gemeindehaus Jona, Heimeck 23 a, Heimeck 23 a, 26135 Oldenburg
END:VEVENT
BEGIN:VEVENT
DTSTAMP:20260421T233917
DTSTART;TZID=Europe/Berlin:20260507T203000
DTEND;TZID=Europe/Berlin:20260507T210000
UID:U41029-20260507T203000@EFBOLDENBURG
SUMMARY:Gitarrenkurse für Erwachsene - Sylvalex Band     U2 im Gemeindehaus Jona (U41029) 
LOCATION:Gemeindehaus Jona, Heimeck 23 a, Heimeck 23 a, 26135 Oldenburg
END:VEVENT
END:VCALENDAR