BEGIN:VCALENDAR
VERSION:2.0
PRODID:https://www.kufer.de/kuferweb / DE
METHOD:PUBLISH
CALSCALE:GREGORIAN
X-WR-TIMEZONE:Europe/Berlin
BEGIN:VTIMEZONE
TZID:Europe/Berlin
X-LIC-LOCATION:Europe/Berlin
BEGIN:DAYLIGHT
TZOFFSETFROM:+0100
TZOFFSETTO:+0200
TZNAME:CEST
DTSTART:19700329T020000
RRULE:FREQ=YEARLY;INTERVAL=1;BYDAY=-1SU;BYMONTH=3
END:DAYLIGHT
BEGIN:STANDARD
TZOFFSETFROM:+0200
TZOFFSETTO:+0100
TZNAME:CET
DTSTART:19701025T030000
RRULE:FREQ=YEARLY;INTERVAL=1;BYDAY=-1SU;BYMONTH=10
END:STANDARD
END:VTIMEZONE
BEGIN:VEVENT
DTSTAMP:20260421T222413
DTSTART;TZID=Europe/Berlin:20260827T170000
DTEND;TZID=Europe/Berlin:20260827T174500
UID:U41035-20260827T170000@EFBOLDENBURG
SUMMARY:Gitarrenkurse für Erwachsene (U41035) 
LOCATION:Gemeindehaus Jona, Heimeck 23 a, Heimeck 23 a, 26135 Oldenburg
END:VEVENT
BEGIN:VEVENT
DTSTAMP:20260421T222413
DTSTART;TZID=Europe/Berlin:20260903T170000
DTEND;TZID=Europe/Berlin:20260903T174500
UID:U41035-20260903T170000@EFBOLDENBURG
SUMMARY:Gitarrenkurse für Erwachsene (U41035) 
LOCATION:Gemeindehaus Jona, Heimeck 23 a, Heimeck 23 a, 26135 Oldenburg
END:VEVENT
BEGIN:VEVENT
DTSTAMP:20260421T222413
DTSTART;TZID=Europe/Berlin:20260910T170000
DTEND;TZID=Europe/Berlin:20260910T174500
UID:U41035-20260910T170000@EFBOLDENBURG
SUMMARY:Gitarrenkurse für Erwachsene (U41035) 
LOCATION:Gemeindehaus Jona, Heimeck 23 a, Heimeck 23 a, 26135 Oldenburg
END:VEVENT
BEGIN:VEVENT
DTSTAMP:20260421T222413
DTSTART;TZID=Europe/Berlin:20260917T170000
DTEND;TZID=Europe/Berlin:20260917T174500
UID:U41035-20260917T170000@EFBOLDENBURG
SUMMARY:Gitarrenkurse für Erwachsene (U41035) 
LOCATION:Gemeindehaus Jona, Heimeck 23 a, Heimeck 23 a, 26135 Oldenburg
END:VEVENT
BEGIN:VEVENT
DTSTAMP:20260421T222413
DTSTART;TZID=Europe/Berlin:20260924T170000
DTEND;TZID=Europe/Berlin:20260924T174500
UID:U41035-20260924T170000@EFBOLDENBURG
SUMMARY:Gitarrenkurse für Erwachsene (U41035) 
LOCATION:Gemeindehaus Jona, Heimeck 23 a, Heimeck 23 a, 26135 Oldenburg
END:VEVENT
BEGIN:VEVENT
DTSTAMP:20260421T222413
DTSTART;TZID=Europe/Berlin:20261001T170000
DTEND;TZID=Europe/Berlin:20261001T174500
UID:U41035-20261001T170000@EFBOLDENBURG
SUMMARY:Gitarrenkurse für Erwachsene (U41035) 
LOCATION:Gemeindehaus Jona, Heimeck 23 a, Heimeck 23 a, 26135 Oldenburg
END:VEVENT
BEGIN:VEVENT
DTSTAMP:20260421T222413
DTSTART;TZID=Europe/Berlin:20261008T170000
DTEND;TZID=Europe/Berlin:20261008T174500
UID:U41035-20261008T170000@EFBOLDENBURG
SUMMARY:Gitarrenkurse für Erwachsene (U41035) 
LOCATION:Gemeindehaus Jona, Heimeck 23 a, Heimeck 23 a, 26135 Oldenburg
END:VEVENT
BEGIN:VEVENT
DTSTAMP:20260421T222413
DTSTART;TZID=Europe/Berlin:20261029T170000
DTEND;TZID=Europe/Berlin:20261029T174500
UID:U41035-20261029T170000@EFBOLDENBURG
SUMMARY:Gitarrenkurse für Erwachsene (U41035) 
LOCATION:Gemeindehaus Jona, Heimeck 23 a, Heimeck 23 a, 26135 Oldenburg
END:VEVENT
BEGIN:VEVENT
DTSTAMP:20260421T222413
DTSTART;TZID=Europe/Berlin:20261105T170000
DTEND;TZID=Europe/Berlin:20261105T174500
UID:U41035-20261105T170000@EFBOLDENBURG
SUMMARY:Gitarrenkurse für Erwachsene (U41035) 
LOCATION:Gemeindehaus Jona, Heimeck 23 a, Heimeck 23 a, 26135 Oldenburg
END:VEVENT
BEGIN:VEVENT
DTSTAMP:20260421T222413
DTSTART;TZID=Europe/Berlin:20261112T170000
DTEND;TZID=Europe/Berlin:20261112T174500
UID:U41035-20261112T170000@EFBOLDENBURG
SUMMARY:Gitarrenkurse für Erwachsene (U41035) 
LOCATION:Gemeindehaus Jona, Heimeck 23 a, Heimeck 23 a, 26135 Oldenburg
END:VEVENT
BEGIN:VEVENT
DTSTAMP:20260421T222413
DTSTART;TZID=Europe/Berlin:20261119T170000
DTEND;TZID=Europe/Berlin:20261119T174500
UID:U41035-20261119T170000@EFBOLDENBURG
SUMMARY:Gitarrenkurse für Erwachsene (U41035) 
LOCATION:Gemeindehaus Jona, Heimeck 23 a, Heimeck 23 a, 26135 Oldenburg
END:VEVENT
BEGIN:VEVENT
DTSTAMP:20260421T222413
DTSTART;TZID=Europe/Berlin:20261126T170000
DTEND;TZID=Europe/Berlin:20261126T174500
UID:U41035-20261126T170000@EFBOLDENBURG
SUMMARY:Gitarrenkurse für Erwachsene (U41035) 
LOCATION:Gemeindehaus Jona, Heimeck 23 a, Heimeck 23 a, 26135 Oldenburg
END:VEVENT
BEGIN:VEVENT
DTSTAMP:20260421T222413
DTSTART;TZID=Europe/Berlin:20261203T170000
DTEND;TZID=Europe/Berlin:20261203T174500
UID:U41035-20261203T170000@EFBOLDENBURG
SUMMARY:Gitarrenkurse für Erwachsene (U41035) 
LOCATION:Gemeindehaus Jona, Heimeck 23 a, Heimeck 23 a, 26135 Oldenburg
END:VEVENT
BEGIN:VEVENT
DTSTAMP:20260421T222413
DTSTART;TZID=Europe/Berlin:20261210T170000
DTEND;TZID=Europe/Berlin:20261210T174500
UID:U41035-20261210T170000@EFBOLDENBURG
SUMMARY:Gitarrenkurse für Erwachsene (U41035) 
LOCATION:Gemeindehaus Jona, Heimeck 23 a, Heimeck 23 a, 26135 Oldenburg
END:VEVENT
BEGIN:VEVENT
DTSTAMP:20260421T222413
DTSTART;TZID=Europe/Berlin:20261217T170000
DTEND;TZID=Europe/Berlin:20261217T174500
UID:U41035-20261217T170000@EFBOLDENBURG
SUMMARY:Gitarrenkurse für Erwachsene (U41035) 
LOCATION:Gemeindehaus Jona, Heimeck 23 a, Heimeck 23 a, 26135 Oldenburg
END:VEVENT
END:VCALENDAR