BEGIN:VCALENDAR
VERSION:2.0
PRODID:https://www.kufer.de/kuferweb / DE
METHOD:PUBLISH
CALSCALE:GREGORIAN
X-WR-TIMEZONE:Europe/Berlin
BEGIN:VTIMEZONE
TZID:Europe/Berlin
X-LIC-LOCATION:Europe/Berlin
BEGIN:DAYLIGHT
TZOFFSETFROM:+0100
TZOFFSETTO:+0200
TZNAME:CEST
DTSTART:19700329T020000
RRULE:FREQ=YEARLY;INTERVAL=1;BYDAY=-1SU;BYMONTH=3
END:DAYLIGHT
BEGIN:STANDARD
TZOFFSETFROM:+0200
TZOFFSETTO:+0100
TZNAME:CET
DTSTART:19701025T030000
RRULE:FREQ=YEARLY;INTERVAL=1;BYDAY=-1SU;BYMONTH=10
END:STANDARD
END:VTIMEZONE
BEGIN:VEVENT
DTSTAMP:20260421T222405
DTSTART;TZID=Europe/Berlin:20260827T191500
DTEND;TZID=Europe/Berlin:20260827T201500
UID:U41036-20260827T191500@EFBOLDENBURG
SUMMARY:Gitarrenkurse für Erwachsene (U41036) 
LOCATION:Gemeindehaus Jona, Heimeck 23 a, Heimeck 23 a, 26135 Oldenburg
END:VEVENT
BEGIN:VEVENT
DTSTAMP:20260421T222405
DTSTART;TZID=Europe/Berlin:20260903T191500
DTEND;TZID=Europe/Berlin:20260903T201500
UID:U41036-20260903T191500@EFBOLDENBURG
SUMMARY:Gitarrenkurse für Erwachsene (U41036) 
LOCATION:Gemeindehaus Jona, Heimeck 23 a, Heimeck 23 a, 26135 Oldenburg
END:VEVENT
BEGIN:VEVENT
DTSTAMP:20260421T222405
DTSTART;TZID=Europe/Berlin:20260910T191500
DTEND;TZID=Europe/Berlin:20260910T201500
UID:U41036-20260910T191500@EFBOLDENBURG
SUMMARY:Gitarrenkurse für Erwachsene (U41036) 
LOCATION:Gemeindehaus Jona, Heimeck 23 a, Heimeck 23 a, 26135 Oldenburg
END:VEVENT
BEGIN:VEVENT
DTSTAMP:20260421T222405
DTSTART;TZID=Europe/Berlin:20260917T191500
DTEND;TZID=Europe/Berlin:20260917T201500
UID:U41036-20260917T191500@EFBOLDENBURG
SUMMARY:Gitarrenkurse für Erwachsene (U41036) 
LOCATION:Gemeindehaus Jona, Heimeck 23 a, Heimeck 23 a, 26135 Oldenburg
END:VEVENT
BEGIN:VEVENT
DTSTAMP:20260421T222405
DTSTART;TZID=Europe/Berlin:20260924T191500
DTEND;TZID=Europe/Berlin:20260924T201500
UID:U41036-20260924T191500@EFBOLDENBURG
SUMMARY:Gitarrenkurse für Erwachsene (U41036) 
LOCATION:Gemeindehaus Jona, Heimeck 23 a, Heimeck 23 a, 26135 Oldenburg
END:VEVENT
BEGIN:VEVENT
DTSTAMP:20260421T222405
DTSTART;TZID=Europe/Berlin:20261001T191500
DTEND;TZID=Europe/Berlin:20261001T201500
UID:U41036-20261001T191500@EFBOLDENBURG
SUMMARY:Gitarrenkurse für Erwachsene (U41036) 
LOCATION:Gemeindehaus Jona, Heimeck 23 a, Heimeck 23 a, 26135 Oldenburg
END:VEVENT
BEGIN:VEVENT
DTSTAMP:20260421T222405
DTSTART;TZID=Europe/Berlin:20261008T191500
DTEND;TZID=Europe/Berlin:20261008T201500
UID:U41036-20261008T191500@EFBOLDENBURG
SUMMARY:Gitarrenkurse für Erwachsene (U41036) 
LOCATION:Gemeindehaus Jona, Heimeck 23 a, Heimeck 23 a, 26135 Oldenburg
END:VEVENT
BEGIN:VEVENT
DTSTAMP:20260421T222405
DTSTART;TZID=Europe/Berlin:20261029T191500
DTEND;TZID=Europe/Berlin:20261029T201500
UID:U41036-20261029T191500@EFBOLDENBURG
SUMMARY:Gitarrenkurse für Erwachsene (U41036) 
LOCATION:Gemeindehaus Jona, Heimeck 23 a, Heimeck 23 a, 26135 Oldenburg
END:VEVENT
BEGIN:VEVENT
DTSTAMP:20260421T222405
DTSTART;TZID=Europe/Berlin:20261105T191500
DTEND;TZID=Europe/Berlin:20261105T201500
UID:U41036-20261105T191500@EFBOLDENBURG
SUMMARY:Gitarrenkurse für Erwachsene (U41036) 
LOCATION:Gemeindehaus Jona, Heimeck 23 a, Heimeck 23 a, 26135 Oldenburg
END:VEVENT
BEGIN:VEVENT
DTSTAMP:20260421T222405
DTSTART;TZID=Europe/Berlin:20261112T191500
DTEND;TZID=Europe/Berlin:20261112T201500
UID:U41036-20261112T191500@EFBOLDENBURG
SUMMARY:Gitarrenkurse für Erwachsene (U41036) 
LOCATION:Gemeindehaus Jona, Heimeck 23 a, Heimeck 23 a, 26135 Oldenburg
END:VEVENT
BEGIN:VEVENT
DTSTAMP:20260421T222405
DTSTART;TZID=Europe/Berlin:20261119T191500
DTEND;TZID=Europe/Berlin:20261119T201500
UID:U41036-20261119T191500@EFBOLDENBURG
SUMMARY:Gitarrenkurse für Erwachsene (U41036) 
LOCATION:Gemeindehaus Jona, Heimeck 23 a, Heimeck 23 a, 26135 Oldenburg
END:VEVENT
BEGIN:VEVENT
DTSTAMP:20260421T222405
DTSTART;TZID=Europe/Berlin:20261126T191500
DTEND;TZID=Europe/Berlin:20261126T201500
UID:U41036-20261126T191500@EFBOLDENBURG
SUMMARY:Gitarrenkurse für Erwachsene (U41036) 
LOCATION:Gemeindehaus Jona, Heimeck 23 a, Heimeck 23 a, 26135 Oldenburg
END:VEVENT
BEGIN:VEVENT
DTSTAMP:20260421T222405
DTSTART;TZID=Europe/Berlin:20261203T191500
DTEND;TZID=Europe/Berlin:20261203T201500
UID:U41036-20261203T191500@EFBOLDENBURG
SUMMARY:Gitarrenkurse für Erwachsene (U41036) 
LOCATION:Gemeindehaus Jona, Heimeck 23 a, Heimeck 23 a, 26135 Oldenburg
END:VEVENT
BEGIN:VEVENT
DTSTAMP:20260421T222405
DTSTART;TZID=Europe/Berlin:20261210T191500
DTEND;TZID=Europe/Berlin:20261210T201500
UID:U41036-20261210T191500@EFBOLDENBURG
SUMMARY:Gitarrenkurse für Erwachsene (U41036) 
LOCATION:Gemeindehaus Jona, Heimeck 23 a, Heimeck 23 a, 26135 Oldenburg
END:VEVENT
BEGIN:VEVENT
DTSTAMP:20260421T222405
DTSTART;TZID=Europe/Berlin:20261217T191500
DTEND;TZID=Europe/Berlin:20261217T201500
UID:U41036-20261217T191500@EFBOLDENBURG
SUMMARY:Gitarrenkurse für Erwachsene (U41036) 
LOCATION:Gemeindehaus Jona, Heimeck 23 a, Heimeck 23 a, 26135 Oldenburg
END:VEVENT
END:VCALENDAR