BEGIN:VCALENDAR
VERSION:2.0
PRODID:https://www.kufer.de/kuferweb / DE
METHOD:PUBLISH
CALSCALE:GREGORIAN
X-WR-TIMEZONE:Europe/Berlin
BEGIN:VTIMEZONE
TZID:Europe/Berlin
X-LIC-LOCATION:Europe/Berlin
BEGIN:DAYLIGHT
TZOFFSETFROM:+0100
TZOFFSETTO:+0200
TZNAME:CEST
DTSTART:19700329T020000
RRULE:FREQ=YEARLY;INTERVAL=1;BYDAY=-1SU;BYMONTH=3
END:DAYLIGHT
BEGIN:STANDARD
TZOFFSETFROM:+0200
TZOFFSETTO:+0100
TZNAME:CET
DTSTART:19701025T030000
RRULE:FREQ=YEARLY;INTERVAL=1;BYDAY=-1SU;BYMONTH=10
END:STANDARD
END:VTIMEZONE
BEGIN:VEVENT
DTSTAMP:20260422T000847
DTSTART;TZID=Europe/Berlin:20260827T203000
DTEND;TZID=Europe/Berlin:20260827T210000
UID:U41039-20260827T203000@EFBOLDENBURG
SUMMARY:Gitarrenkurse für Erwachsene - Sylvalex Band     U2 im Gemeindehaus Jona (U41039) 
LOCATION:Gemeindehaus Jona, Heimeck 23 a, Heimeck 23 a, 26135 Oldenburg
END:VEVENT
BEGIN:VEVENT
DTSTAMP:20260422T000847
DTSTART;TZID=Europe/Berlin:20260903T203000
DTEND;TZID=Europe/Berlin:20260903T210000
UID:U41039-20260903T203000@EFBOLDENBURG
SUMMARY:Gitarrenkurse für Erwachsene - Sylvalex Band     U2 im Gemeindehaus Jona (U41039) 
LOCATION:Gemeindehaus Jona, Heimeck 23 a, Heimeck 23 a, 26135 Oldenburg
END:VEVENT
BEGIN:VEVENT
DTSTAMP:20260422T000847
DTSTART;TZID=Europe/Berlin:20260910T203000
DTEND;TZID=Europe/Berlin:20260910T210000
UID:U41039-20260910T203000@EFBOLDENBURG
SUMMARY:Gitarrenkurse für Erwachsene - Sylvalex Band     U2 im Gemeindehaus Jona (U41039) 
LOCATION:Gemeindehaus Jona, Heimeck 23 a, Heimeck 23 a, 26135 Oldenburg
END:VEVENT
BEGIN:VEVENT
DTSTAMP:20260422T000847
DTSTART;TZID=Europe/Berlin:20260917T203000
DTEND;TZID=Europe/Berlin:20260917T210000
UID:U41039-20260917T203000@EFBOLDENBURG
SUMMARY:Gitarrenkurse für Erwachsene - Sylvalex Band     U2 im Gemeindehaus Jona (U41039) 
LOCATION:Gemeindehaus Jona, Heimeck 23 a, Heimeck 23 a, 26135 Oldenburg
END:VEVENT
BEGIN:VEVENT
DTSTAMP:20260422T000847
DTSTART;TZID=Europe/Berlin:20260924T203000
DTEND;TZID=Europe/Berlin:20260924T210000
UID:U41039-20260924T203000@EFBOLDENBURG
SUMMARY:Gitarrenkurse für Erwachsene - Sylvalex Band     U2 im Gemeindehaus Jona (U41039) 
LOCATION:Gemeindehaus Jona, Heimeck 23 a, Heimeck 23 a, 26135 Oldenburg
END:VEVENT
BEGIN:VEVENT
DTSTAMP:20260422T000847
DTSTART;TZID=Europe/Berlin:20261001T203000
DTEND;TZID=Europe/Berlin:20261001T210000
UID:U41039-20261001T203000@EFBOLDENBURG
SUMMARY:Gitarrenkurse für Erwachsene - Sylvalex Band     U2 im Gemeindehaus Jona (U41039) 
LOCATION:Gemeindehaus Jona, Heimeck 23 a, Heimeck 23 a, 26135 Oldenburg
END:VEVENT
BEGIN:VEVENT
DTSTAMP:20260422T000847
DTSTART;TZID=Europe/Berlin:20261008T203000
DTEND;TZID=Europe/Berlin:20261008T210000
UID:U41039-20261008T203000@EFBOLDENBURG
SUMMARY:Gitarrenkurse für Erwachsene - Sylvalex Band     U2 im Gemeindehaus Jona (U41039) 
LOCATION:Gemeindehaus Jona, Heimeck 23 a, Heimeck 23 a, 26135 Oldenburg
END:VEVENT
BEGIN:VEVENT
DTSTAMP:20260422T000847
DTSTART;TZID=Europe/Berlin:20261029T203000
DTEND;TZID=Europe/Berlin:20261029T210000
UID:U41039-20261029T203000@EFBOLDENBURG
SUMMARY:Gitarrenkurse für Erwachsene - Sylvalex Band     U2 im Gemeindehaus Jona (U41039) 
LOCATION:Gemeindehaus Jona, Heimeck 23 a, Heimeck 23 a, 26135 Oldenburg
END:VEVENT
BEGIN:VEVENT
DTSTAMP:20260422T000847
DTSTART;TZID=Europe/Berlin:20261105T203000
DTEND;TZID=Europe/Berlin:20261105T210000
UID:U41039-20261105T203000@EFBOLDENBURG
SUMMARY:Gitarrenkurse für Erwachsene - Sylvalex Band     U2 im Gemeindehaus Jona (U41039) 
LOCATION:Gemeindehaus Jona, Heimeck 23 a, Heimeck 23 a, 26135 Oldenburg
END:VEVENT
BEGIN:VEVENT
DTSTAMP:20260422T000847
DTSTART;TZID=Europe/Berlin:20261112T203000
DTEND;TZID=Europe/Berlin:20261112T210000
UID:U41039-20261112T203000@EFBOLDENBURG
SUMMARY:Gitarrenkurse für Erwachsene - Sylvalex Band     U2 im Gemeindehaus Jona (U41039) 
LOCATION:Gemeindehaus Jona, Heimeck 23 a, Heimeck 23 a, 26135 Oldenburg
END:VEVENT
BEGIN:VEVENT
DTSTAMP:20260422T000847
DTSTART;TZID=Europe/Berlin:20261119T203000
DTEND;TZID=Europe/Berlin:20261119T210000
UID:U41039-20261119T203000@EFBOLDENBURG
SUMMARY:Gitarrenkurse für Erwachsene - Sylvalex Band     U2 im Gemeindehaus Jona (U41039) 
LOCATION:Gemeindehaus Jona, Heimeck 23 a, Heimeck 23 a, 26135 Oldenburg
END:VEVENT
BEGIN:VEVENT
DTSTAMP:20260422T000847
DTSTART;TZID=Europe/Berlin:20261126T203000
DTEND;TZID=Europe/Berlin:20261126T210000
UID:U41039-20261126T203000@EFBOLDENBURG
SUMMARY:Gitarrenkurse für Erwachsene - Sylvalex Band     U2 im Gemeindehaus Jona (U41039) 
LOCATION:Gemeindehaus Jona, Heimeck 23 a, Heimeck 23 a, 26135 Oldenburg
END:VEVENT
BEGIN:VEVENT
DTSTAMP:20260422T000847
DTSTART;TZID=Europe/Berlin:20261203T203000
DTEND;TZID=Europe/Berlin:20261203T210000
UID:U41039-20261203T203000@EFBOLDENBURG
SUMMARY:Gitarrenkurse für Erwachsene - Sylvalex Band     U2 im Gemeindehaus Jona (U41039) 
LOCATION:Gemeindehaus Jona, Heimeck 23 a, Heimeck 23 a, 26135 Oldenburg
END:VEVENT
BEGIN:VEVENT
DTSTAMP:20260422T000847
DTSTART;TZID=Europe/Berlin:20261210T203000
DTEND;TZID=Europe/Berlin:20261210T210000
UID:U41039-20261210T203000@EFBOLDENBURG
SUMMARY:Gitarrenkurse für Erwachsene - Sylvalex Band     U2 im Gemeindehaus Jona (U41039) 
LOCATION:Gemeindehaus Jona, Heimeck 23 a, Heimeck 23 a, 26135 Oldenburg
END:VEVENT
BEGIN:VEVENT
DTSTAMP:20260422T000847
DTSTART;TZID=Europe/Berlin:20261217T203000
DTEND;TZID=Europe/Berlin:20261217T210000
UID:U41039-20261217T203000@EFBOLDENBURG
SUMMARY:Gitarrenkurse für Erwachsene - Sylvalex Band     U2 im Gemeindehaus Jona (U41039) 
LOCATION:Gemeindehaus Jona, Heimeck 23 a, Heimeck 23 a, 26135 Oldenburg
END:VEVENT
END:VCALENDAR