BEGIN:VCALENDAR
VERSION:2.0
PRODID:https://www.kufer.de/kuferweb / DE
METHOD:PUBLISH
CALSCALE:GREGORIAN
X-WR-TIMEZONE:Europe/Berlin
BEGIN:VTIMEZONE
TZID:Europe/Berlin
X-LIC-LOCATION:Europe/Berlin
BEGIN:DAYLIGHT
TZOFFSETFROM:+0100
TZOFFSETTO:+0200
TZNAME:CEST
DTSTART:19700329T020000
RRULE:FREQ=YEARLY;INTERVAL=1;BYDAY=-1SU;BYMONTH=3
END:DAYLIGHT
BEGIN:STANDARD
TZOFFSETFROM:+0200
TZOFFSETTO:+0100
TZNAME:CET
DTSTART:19701025T030000
RRULE:FREQ=YEARLY;INTERVAL=1;BYDAY=-1SU;BYMONTH=10
END:STANDARD
END:VTIMEZONE
BEGIN:VEVENT
DTSTAMP:20260421T233148
DTSTART;TZID=Europe/Berlin:20260212T200000
DTEND;TZID=Europe/Berlin:20260212T220000
UID:U41900-20260212T200000@EFBOLDENBURG
SUMMARY:Lukas-Chor – Einladung zum Mitsingen (U41900) 
LOCATION:Gemeindehaus Lukas, Helmsweg 21, Helmsweg 21, 26135 Oldenburg
END:VEVENT
BEGIN:VEVENT
DTSTAMP:20260421T233148
DTSTART;TZID=Europe/Berlin:20260219T200000
DTEND;TZID=Europe/Berlin:20260219T220000
UID:U41900-20260219T200000@EFBOLDENBURG
SUMMARY:Lukas-Chor – Einladung zum Mitsingen (U41900) 
LOCATION:Gemeindehaus Lukas, Helmsweg 21, Helmsweg 21, 26135 Oldenburg
END:VEVENT
BEGIN:VEVENT
DTSTAMP:20260421T233148
DTSTART;TZID=Europe/Berlin:20260226T200000
DTEND;TZID=Europe/Berlin:20260226T220000
UID:U41900-20260226T200000@EFBOLDENBURG
SUMMARY:Lukas-Chor – Einladung zum Mitsingen (U41900) 
LOCATION:Gemeindehaus Lukas, Helmsweg 21, Helmsweg 21, 26135 Oldenburg
END:VEVENT
BEGIN:VEVENT
DTSTAMP:20260421T233148
DTSTART;TZID=Europe/Berlin:20260305T200000
DTEND;TZID=Europe/Berlin:20260305T220000
UID:U41900-20260305T200000@EFBOLDENBURG
SUMMARY:Lukas-Chor – Einladung zum Mitsingen (U41900) 
LOCATION:Gemeindehaus Lukas, Helmsweg 21, Helmsweg 21, 26135 Oldenburg
END:VEVENT
BEGIN:VEVENT
DTSTAMP:20260421T233148
DTSTART;TZID=Europe/Berlin:20260312T200000
DTEND;TZID=Europe/Berlin:20260312T220000
UID:U41900-20260312T200000@EFBOLDENBURG
SUMMARY:Lukas-Chor – Einladung zum Mitsingen (U41900) 
LOCATION:Gemeindehaus Lukas, Helmsweg 21, Helmsweg 21, 26135 Oldenburg
END:VEVENT
BEGIN:VEVENT
DTSTAMP:20260421T233148
DTSTART;TZID=Europe/Berlin:20260319T200000
DTEND;TZID=Europe/Berlin:20260319T220000
UID:U41900-20260319T200000@EFBOLDENBURG
SUMMARY:Lukas-Chor – Einladung zum Mitsingen (U41900) 
LOCATION:Gemeindehaus Lukas, Helmsweg 21, Helmsweg 21, 26135 Oldenburg
END:VEVENT
BEGIN:VEVENT
DTSTAMP:20260421T233148
DTSTART;TZID=Europe/Berlin:20260409T200000
DTEND;TZID=Europe/Berlin:20260409T220000
UID:U41900-20260409T200000@EFBOLDENBURG
SUMMARY:Lukas-Chor – Einladung zum Mitsingen (U41900) 
LOCATION:Gemeindehaus Lukas, Helmsweg 21, Helmsweg 21, 26135 Oldenburg
END:VEVENT
BEGIN:VEVENT
DTSTAMP:20260421T233148
DTSTART;TZID=Europe/Berlin:20260416T200000
DTEND;TZID=Europe/Berlin:20260416T220000
UID:U41900-20260416T200000@EFBOLDENBURG
SUMMARY:Lukas-Chor – Einladung zum Mitsingen (U41900) 
LOCATION:Gemeindehaus Lukas, Helmsweg 21, Helmsweg 21, 26135 Oldenburg
END:VEVENT
BEGIN:VEVENT
DTSTAMP:20260421T233148
DTSTART;TZID=Europe/Berlin:20260423T200000
DTEND;TZID=Europe/Berlin:20260423T220000
UID:U41900-20260423T200000@EFBOLDENBURG
SUMMARY:Lukas-Chor – Einladung zum Mitsingen (U41900) 
LOCATION:Gemeindehaus Lukas, Helmsweg 21, Helmsweg 21, 26135 Oldenburg
END:VEVENT
BEGIN:VEVENT
DTSTAMP:20260421T233148
DTSTART;TZID=Europe/Berlin:20260430T200000
DTEND;TZID=Europe/Berlin:20260430T220000
UID:U41900-20260430T200000@EFBOLDENBURG
SUMMARY:Lukas-Chor – Einladung zum Mitsingen (U41900) 
LOCATION:Gemeindehaus Lukas, Helmsweg 21, Helmsweg 21, 26135 Oldenburg
END:VEVENT
BEGIN:VEVENT
DTSTAMP:20260421T233148
DTSTART;TZID=Europe/Berlin:20260507T200000
DTEND;TZID=Europe/Berlin:20260507T220000
UID:U41900-20260507T200000@EFBOLDENBURG
SUMMARY:Lukas-Chor – Einladung zum Mitsingen (U41900) 
LOCATION:Gemeindehaus Lukas, Helmsweg 21, Helmsweg 21, 26135 Oldenburg
END:VEVENT
BEGIN:VEVENT
DTSTAMP:20260421T233148
DTSTART;TZID=Europe/Berlin:20260521T200000
DTEND;TZID=Europe/Berlin:20260521T220000
UID:U41900-20260521T200000@EFBOLDENBURG
SUMMARY:Lukas-Chor – Einladung zum Mitsingen (U41900) 
LOCATION:Gemeindehaus Lukas, Helmsweg 21, Helmsweg 21, 26135 Oldenburg
END:VEVENT
BEGIN:VEVENT
DTSTAMP:20260421T233148
DTSTART;TZID=Europe/Berlin:20260528T200000
DTEND;TZID=Europe/Berlin:20260528T220000
UID:U41900-20260528T200000@EFBOLDENBURG
SUMMARY:Lukas-Chor – Einladung zum Mitsingen (U41900) 
LOCATION:Gemeindehaus Lukas, Helmsweg 21, Helmsweg 21, 26135 Oldenburg
END:VEVENT
BEGIN:VEVENT
DTSTAMP:20260421T233148
DTSTART;TZID=Europe/Berlin:20260604T200000
DTEND;TZID=Europe/Berlin:20260604T220000
UID:U41900-20260604T200000@EFBOLDENBURG
SUMMARY:Lukas-Chor – Einladung zum Mitsingen (U41900) 
LOCATION:Gemeindehaus Lukas, Helmsweg 21, Helmsweg 21, 26135 Oldenburg
END:VEVENT
BEGIN:VEVENT
DTSTAMP:20260421T233148
DTSTART;TZID=Europe/Berlin:20260611T200000
DTEND;TZID=Europe/Berlin:20260611T220000
UID:U41900-20260611T200000@EFBOLDENBURG
SUMMARY:Lukas-Chor – Einladung zum Mitsingen (U41900) 
LOCATION:Gemeindehaus Lukas, Helmsweg 21, Helmsweg 21, 26135 Oldenburg
END:VEVENT
BEGIN:VEVENT
DTSTAMP:20260421T233148
DTSTART;TZID=Europe/Berlin:20260618T200000
DTEND;TZID=Europe/Berlin:20260618T220000
UID:U41900-20260618T200000@EFBOLDENBURG
SUMMARY:Lukas-Chor – Einladung zum Mitsingen (U41900) 
LOCATION:Gemeindehaus Lukas, Helmsweg 21, Helmsweg 21, 26135 Oldenburg
END:VEVENT
BEGIN:VEVENT
DTSTAMP:20260421T233148
DTSTART;TZID=Europe/Berlin:20260625T200000
DTEND;TZID=Europe/Berlin:20260625T220000
UID:U41900-20260625T200000@EFBOLDENBURG
SUMMARY:Lukas-Chor – Einladung zum Mitsingen (U41900) 
LOCATION:Gemeindehaus Lukas, Helmsweg 21, Helmsweg 21, 26135 Oldenburg
END:VEVENT
END:VCALENDAR