BEGIN:VCALENDAR
VERSION:2.0
PRODID:https://www.kufer.de/kuferweb / DE
METHOD:PUBLISH
CALSCALE:GREGORIAN
X-WR-TIMEZONE:Europe/Berlin
BEGIN:VTIMEZONE
TZID:Europe/Berlin
X-LIC-LOCATION:Europe/Berlin
BEGIN:DAYLIGHT
TZOFFSETFROM:+0100
TZOFFSETTO:+0200
TZNAME:CEST
DTSTART:19700329T020000
RRULE:FREQ=YEARLY;INTERVAL=1;BYDAY=-1SU;BYMONTH=3
END:DAYLIGHT
BEGIN:STANDARD
TZOFFSETFROM:+0200
TZOFFSETTO:+0100
TZNAME:CET
DTSTART:19701025T030000
RRULE:FREQ=YEARLY;INTERVAL=1;BYDAY=-1SU;BYMONTH=10
END:STANDARD
END:VTIMEZONE
BEGIN:VEVENT
DTSTAMP:20260421T182906
DTSTART;TZID=Europe/Berlin:20260824T181500
DTEND;TZID=Europe/Berlin:20260824T203000
UID:U42003-EEB-20260824T181500@EFBOLDENBURG
SUMMARY:Acryl Mixed-Media zu Frida Kahlo (U42003-EEB) 
LOCATION:Atelier Zwischenraum, Heiligengeiststr. 15, Heiligengeiststraße 15
END:VEVENT
BEGIN:VEVENT
DTSTAMP:20260421T182906
DTSTART;TZID=Europe/Berlin:20260907T181500
DTEND;TZID=Europe/Berlin:20260907T203000
UID:U42003-EEB-20260907T181500@EFBOLDENBURG
SUMMARY:Acryl Mixed-Media zu Frida Kahlo (U42003-EEB) 
LOCATION:Atelier Zwischenraum, Heiligengeiststr. 15, Heiligengeiststraße 15
END:VEVENT
BEGIN:VEVENT
DTSTAMP:20260421T182906
DTSTART;TZID=Europe/Berlin:20260921T181500
DTEND;TZID=Europe/Berlin:20260921T203000
UID:U42003-EEB-20260921T181500@EFBOLDENBURG
SUMMARY:Acryl Mixed-Media zu Frida Kahlo (U42003-EEB) 
LOCATION:Atelier Zwischenraum, Heiligengeiststr. 15, Heiligengeiststraße 15
END:VEVENT
BEGIN:VEVENT
DTSTAMP:20260421T182906
DTSTART;TZID=Europe/Berlin:20261005T181500
DTEND;TZID=Europe/Berlin:20261005T203000
UID:U42003-EEB-20261005T181500@EFBOLDENBURG
SUMMARY:Acryl Mixed-Media zu Frida Kahlo (U42003-EEB) 
LOCATION:Atelier Zwischenraum, Heiligengeiststr. 15, Heiligengeiststraße 15
END:VEVENT
END:VCALENDAR