BEGIN:VCALENDAR
VERSION:2.0
PRODID:https://www.kufer.de/kuferweb / DE
METHOD:PUBLISH
CALSCALE:GREGORIAN
X-WR-TIMEZONE:Europe/Berlin
BEGIN:VTIMEZONE
TZID:Europe/Berlin
X-LIC-LOCATION:Europe/Berlin
BEGIN:DAYLIGHT
TZOFFSETFROM:+0100
TZOFFSETTO:+0200
TZNAME:CEST
DTSTART:19700329T020000
RRULE:FREQ=YEARLY;INTERVAL=1;BYDAY=-1SU;BYMONTH=3
END:DAYLIGHT
BEGIN:STANDARD
TZOFFSETFROM:+0200
TZOFFSETTO:+0100
TZNAME:CET
DTSTART:19701025T030000
RRULE:FREQ=YEARLY;INTERVAL=1;BYDAY=-1SU;BYMONTH=10
END:STANDARD
END:VTIMEZONE
BEGIN:VEVENT
DTSTAMP:20260421T202200
DTSTART;TZID=Europe/Berlin:20261019T181500
DTEND;TZID=Europe/Berlin:20261019T203000
UID:U42004-EEB-20261019T181500@EFBOLDENBURG
SUMMARY:Spielwiese - Freie Malerei (U42004-EEB) 
LOCATION:Atelier Zwischenraum, Heiligengeiststr. 15, Heiligengeiststraße 15
END:VEVENT
BEGIN:VEVENT
DTSTAMP:20260421T202200
DTSTART;TZID=Europe/Berlin:20261102T181500
DTEND;TZID=Europe/Berlin:20261102T203000
UID:U42004-EEB-20261102T181500@EFBOLDENBURG
SUMMARY:Spielwiese - Freie Malerei (U42004-EEB) 
LOCATION:Atelier Zwischenraum, Heiligengeiststr. 15, Heiligengeiststraße 15
END:VEVENT
BEGIN:VEVENT
DTSTAMP:20260421T202200
DTSTART;TZID=Europe/Berlin:20261116T181500
DTEND;TZID=Europe/Berlin:20261116T203000
UID:U42004-EEB-20261116T181500@EFBOLDENBURG
SUMMARY:Spielwiese - Freie Malerei (U42004-EEB) 
LOCATION:Atelier Zwischenraum, Heiligengeiststr. 15, Heiligengeiststraße 15
END:VEVENT
BEGIN:VEVENT
DTSTAMP:20260421T202200
DTSTART;TZID=Europe/Berlin:20261130T181500
DTEND;TZID=Europe/Berlin:20261130T203000
UID:U42004-EEB-20261130T181500@EFBOLDENBURG
SUMMARY:Spielwiese - Freie Malerei (U42004-EEB) 
LOCATION:Atelier Zwischenraum, Heiligengeiststr. 15, Heiligengeiststraße 15
END:VEVENT
END:VCALENDAR