BEGIN:VCALENDAR
VERSION:2.0
PRODID:https://www.kufer.de/kuferweb / DE
METHOD:PUBLISH
CALSCALE:GREGORIAN
X-WR-TIMEZONE:Europe/Berlin
BEGIN:VTIMEZONE
TZID:Europe/Berlin
X-LIC-LOCATION:Europe/Berlin
BEGIN:DAYLIGHT
TZOFFSETFROM:+0100
TZOFFSETTO:+0200
TZNAME:CEST
DTSTART:19700329T020000
RRULE:FREQ=YEARLY;INTERVAL=1;BYDAY=-1SU;BYMONTH=3
END:DAYLIGHT
BEGIN:STANDARD
TZOFFSETFROM:+0200
TZOFFSETTO:+0100
TZNAME:CET
DTSTART:19701025T030000
RRULE:FREQ=YEARLY;INTERVAL=1;BYDAY=-1SU;BYMONTH=10
END:STANDARD
END:VTIMEZONE
BEGIN:VEVENT
DTSTAMP:20260421T171753
DTSTART;TZID=Europe/Berlin:20260213T100000
DTEND;TZID=Europe/Berlin:20260213T130000
UID:U42005-EEB-20260213T100000@EFBOLDENBURG
SUMMARY:Diptychon und Triptychon -  Malen, Experimentieren, Entdecken (U42005-EEB) 
LOCATION:Ev. Familien-Bildungsstätte, Werkraum,  Gorch-Fock-Str. 5 a, 26135 Oldenburg
END:VEVENT
BEGIN:VEVENT
DTSTAMP:20260421T171753
DTSTART;TZID=Europe/Berlin:20260220T100000
DTEND;TZID=Europe/Berlin:20260220T130000
UID:U42005-EEB-20260220T100000@EFBOLDENBURG
SUMMARY:Diptychon und Triptychon -  Malen, Experimentieren, Entdecken (U42005-EEB) 
LOCATION:Ev. Familien-Bildungsstätte, Werkraum,  Gorch-Fock-Str. 5 a, 26135 Oldenburg
END:VEVENT
BEGIN:VEVENT
DTSTAMP:20260421T171753
DTSTART;TZID=Europe/Berlin:20260227T100000
DTEND;TZID=Europe/Berlin:20260227T130000
UID:U42005-EEB-20260227T100000@EFBOLDENBURG
SUMMARY:Diptychon und Triptychon -  Malen, Experimentieren, Entdecken (U42005-EEB) 
LOCATION:Ev. Familien-Bildungsstätte, Werkraum,  Gorch-Fock-Str. 5 a, 26135 Oldenburg
END:VEVENT
BEGIN:VEVENT
DTSTAMP:20260421T171753
DTSTART;TZID=Europe/Berlin:20260306T100000
DTEND;TZID=Europe/Berlin:20260306T130000
UID:U42005-EEB-20260306T100000@EFBOLDENBURG
SUMMARY:Diptychon und Triptychon -  Malen, Experimentieren, Entdecken (U42005-EEB) 
LOCATION:Ev. Familien-Bildungsstätte, Werkraum,  Gorch-Fock-Str. 5 a, 26135 Oldenburg
END:VEVENT
BEGIN:VEVENT
DTSTAMP:20260421T171753
DTSTART;TZID=Europe/Berlin:20260313T100000
DTEND;TZID=Europe/Berlin:20260313T130000
UID:U42005-EEB-20260313T100000@EFBOLDENBURG
SUMMARY:Diptychon und Triptychon -  Malen, Experimentieren, Entdecken (U42005-EEB) 
LOCATION:Ev. Familien-Bildungsstätte, Werkraum,  Gorch-Fock-Str. 5 a, 26135 Oldenburg
END:VEVENT
BEGIN:VEVENT
DTSTAMP:20260421T171753
DTSTART;TZID=Europe/Berlin:20260703T100000
DTEND;TZID=Europe/Berlin:20260703T130000
UID:U42005-EEB-20260703T100000@EFBOLDENBURG
DESCRIPTION:Ersatz für Ausfall am 06.02.2026 Ersatz für Ausfall am 20.03.2026
SUMMARY:Diptychon und Triptychon -  Malen, Experimentieren, Entdecken (U42005-EEB) 
LOCATION:Ev. Familien-Bildungsstätte, Werkraum,  Gorch-Fock-Str. 5 a, 26135 Oldenburg
END:VEVENT
END:VCALENDAR