BEGIN:VCALENDAR
VERSION:2.0
PRODID:https://www.kufer.de/kuferweb / DE
METHOD:PUBLISH
CALSCALE:GREGORIAN
X-WR-TIMEZONE:Europe/Berlin
BEGIN:VTIMEZONE
TZID:Europe/Berlin
X-LIC-LOCATION:Europe/Berlin
BEGIN:DAYLIGHT
TZOFFSETFROM:+0100
TZOFFSETTO:+0200
TZNAME:CEST
DTSTART:19700329T020000
RRULE:FREQ=YEARLY;INTERVAL=1;BYDAY=-1SU;BYMONTH=3
END:DAYLIGHT
BEGIN:STANDARD
TZOFFSETFROM:+0200
TZOFFSETTO:+0100
TZNAME:CET
DTSTART:19701025T030000
RRULE:FREQ=YEARLY;INTERVAL=1;BYDAY=-1SU;BYMONTH=10
END:STANDARD
END:VTIMEZONE
BEGIN:VEVENT
DTSTAMP:20260421T202210
DTSTART;TZID=Europe/Berlin:20260211T180000
DTEND;TZID=Europe/Berlin:20260211T194500
UID:U42017-EEB-20260211T180000@EFBOLDENBURG
SUMMARY:Entspanntes Malen am Abend (U42017-EEB) 
LOCATION:Ev. Familien-Bildungsstätte, Werkraum,  Gorch-Fock-Str. 5 a, 26135 Oldenburg
END:VEVENT
BEGIN:VEVENT
DTSTAMP:20260421T202210
DTSTART;TZID=Europe/Berlin:20260218T180000
DTEND;TZID=Europe/Berlin:20260218T194500
UID:U42017-EEB-20260218T180000@EFBOLDENBURG
SUMMARY:Entspanntes Malen am Abend (U42017-EEB) 
LOCATION:Ev. Familien-Bildungsstätte, Werkraum,  Gorch-Fock-Str. 5 a, 26135 Oldenburg
END:VEVENT
BEGIN:VEVENT
DTSTAMP:20260421T202210
DTSTART;TZID=Europe/Berlin:20260225T180000
DTEND;TZID=Europe/Berlin:20260225T194500
UID:U42017-EEB-20260225T180000@EFBOLDENBURG
SUMMARY:Entspanntes Malen am Abend (U42017-EEB) 
LOCATION:Ev. Familien-Bildungsstätte, Werkraum,  Gorch-Fock-Str. 5 a, 26135 Oldenburg
END:VEVENT
BEGIN:VEVENT
DTSTAMP:20260421T202210
DTSTART;TZID=Europe/Berlin:20260304T180000
DTEND;TZID=Europe/Berlin:20260304T194500
UID:U42017-EEB-20260304T180000@EFBOLDENBURG
SUMMARY:Entspanntes Malen am Abend (U42017-EEB) 
LOCATION:Ev. Familien-Bildungsstätte, Werkraum,  Gorch-Fock-Str. 5 a, 26135 Oldenburg
END:VEVENT
BEGIN:VEVENT
DTSTAMP:20260421T202210
DTSTART;TZID=Europe/Berlin:20260311T180000
DTEND;TZID=Europe/Berlin:20260311T194500
UID:U42017-EEB-20260311T180000@EFBOLDENBURG
SUMMARY:Entspanntes Malen am Abend (U42017-EEB) 
LOCATION:Ev. Familien-Bildungsstätte, Werkraum,  Gorch-Fock-Str. 5 a, 26135 Oldenburg
END:VEVENT
BEGIN:VEVENT
DTSTAMP:20260421T202210
DTSTART;TZID=Europe/Berlin:20260318T180000
DTEND;TZID=Europe/Berlin:20260318T194500
UID:U42017-EEB-20260318T180000@EFBOLDENBURG
SUMMARY:Entspanntes Malen am Abend (U42017-EEB) 
LOCATION:Ev. Familien-Bildungsstätte, Werkraum,  Gorch-Fock-Str. 5 a, 26135 Oldenburg
END:VEVENT
BEGIN:VEVENT
DTSTAMP:20260421T202210
DTSTART;TZID=Europe/Berlin:20260408T180000
DTEND;TZID=Europe/Berlin:20260408T194500
UID:U42017-EEB-20260408T180000@EFBOLDENBURG
SUMMARY:Entspanntes Malen am Abend (U42017-EEB) 
LOCATION:Ev. Familien-Bildungsstätte, Werkraum,  Gorch-Fock-Str. 5 a, 26135 Oldenburg
END:VEVENT
BEGIN:VEVENT
DTSTAMP:20260421T202210
DTSTART;TZID=Europe/Berlin:20260415T180000
DTEND;TZID=Europe/Berlin:20260415T194500
UID:U42017-EEB-20260415T180000@EFBOLDENBURG
SUMMARY:Entspanntes Malen am Abend (U42017-EEB) 
LOCATION:Ev. Familien-Bildungsstätte, Werkraum,  Gorch-Fock-Str. 5 a, 26135 Oldenburg
END:VEVENT
BEGIN:VEVENT
DTSTAMP:20260421T202210
DTSTART;TZID=Europe/Berlin:20260422T180000
DTEND;TZID=Europe/Berlin:20260422T194500
UID:U42017-EEB-20260422T180000@EFBOLDENBURG
SUMMARY:Entspanntes Malen am Abend (U42017-EEB) 
LOCATION:Ev. Familien-Bildungsstätte, Werkraum,  Gorch-Fock-Str. 5 a, 26135 Oldenburg
END:VEVENT
BEGIN:VEVENT
DTSTAMP:20260421T202210
DTSTART;TZID=Europe/Berlin:20260429T180000
DTEND;TZID=Europe/Berlin:20260429T194500
UID:U42017-EEB-20260429T180000@EFBOLDENBURG
SUMMARY:Entspanntes Malen am Abend (U42017-EEB) 
LOCATION:Ev. Familien-Bildungsstätte, Werkraum,  Gorch-Fock-Str. 5 a, 26135 Oldenburg
END:VEVENT
END:VCALENDAR